BEGIN:VCALENDAR
VERSION:2.0
PRODID:-//Recovery St. Louis - ECPv6.15.17.1//NONSGML v1.0//EN
CALSCALE:GREGORIAN
METHOD:PUBLISH
X-WR-CALNAME:Recovery St. Louis
X-ORIGINAL-URL:https://recoverystlouis.org
X-WR-CALDESC:Events for Recovery St. Louis
REFRESH-INTERVAL;VALUE=DURATION:PT1H
X-Robots-Tag:noindex
X-PUBLISHED-TTL:PT1H
BEGIN:VTIMEZONE
TZID:America/Denver
BEGIN:DAYLIGHT
TZOFFSETFROM:-0700
TZOFFSETTO:-0600
TZNAME:MDT
DTSTART:20280312T090000
END:DAYLIGHT
BEGIN:STANDARD
TZOFFSETFROM:-0600
TZOFFSETTO:-0700
TZNAME:MST
DTSTART:20281105T080000
END:STANDARD
BEGIN:DAYLIGHT
TZOFFSETFROM:-0700
TZOFFSETTO:-0600
TZNAME:MDT
DTSTART:20290311T090000
END:DAYLIGHT
BEGIN:STANDARD
TZOFFSETFROM:-0600
TZOFFSETTO:-0700
TZNAME:MST
DTSTART:20291104T080000
END:STANDARD
BEGIN:DAYLIGHT
TZOFFSETFROM:-0700
TZOFFSETTO:-0600
TZNAME:MDT
DTSTART:20300310T090000
END:DAYLIGHT
BEGIN:STANDARD
TZOFFSETFROM:-0600
TZOFFSETTO:-0700
TZNAME:MST
DTSTART:20301103T080000
END:STANDARD
END:VTIMEZONE
BEGIN:VEVENT
DTSTART;TZID=America/Denver:20291202T090000
DTEND;TZID=America/Denver:20291202T101500
DTSTAMP:20260424T205131
CREATED:20250428T191821Z
LAST-MODIFIED:20250512T070411Z
UID:10000238-1890896400-1890900900@recoverystlouis.org
SUMMARY:AA Group 255-FIVE AND DIME Closed-Mixed In person/online
DESCRIPTION:Zoom:845 2025 1856\nPW: 173321 \nContact\nMichael Mac\n314-249-8149
URL:https://recoverystlouis.org/event/lorem-ipsum/2029-12-02/
END:VEVENT
BEGIN:VEVENT
DTSTART;TZID=America/Denver:20291202T110000
DTEND;TZID=America/Denver:20291202T120000
DTSTAMP:20260424T205131
CREATED:20250513T055407Z
LAST-MODIFIED:20250513T055407Z
UID:10003355-1890903600-1890907200@recoverystlouis.org
SUMMARY:OA Sunday Recovery Open-mixed In person/online
DESCRIPTION:Zoom:264 689 861\nPW:066708 \nContact\nCathy K (314) 538-1331
URL:https://recoverystlouis.org/event/oa-sunday-recovery-open-mixed-in-person-online/2029-12-02/
END:VEVENT
BEGIN:VEVENT
DTSTART;TZID=America/Denver:20291203T180000
DTEND;TZID=America/Denver:20291203T190000
DTSTAMP:20260424T205131
CREATED:20250512T071133Z
LAST-MODIFIED:20250512T071133Z
UID:10000758-1891015200-1891018800@recoverystlouis.org
SUMMARY:I AM RESPONSIBLE Women’s-closed In person-online
DESCRIPTION:Zoom:191 385 271\nPW: 085501 \nContact Clare P\n(314) 448-2101
URL:https://recoverystlouis.org/event/i-am-responsible-womens-closed-in-person-online/2029-12-03/
END:VEVENT
BEGIN:VEVENT
DTSTART;TZID=America/Denver:20291204T173000
DTEND;TZID=America/Denver:20291204T183000
DTSTAMP:20260424T205131
CREATED:20250513T054121Z
LAST-MODIFIED:20250513T054121Z
UID:10001276-1891099800-1891103400@recoverystlouis.org
SUMMARY:AA Secular Sobriety Open-mixed In person/online
DESCRIPTION:Zoom: 343 811 2984\nPW 770507
URL:https://recoverystlouis.org/event/aa-secular-sobriety-open-mixed-in-person-online/2029-12-04/
END:VEVENT
BEGIN:VEVENT
DTSTART;TZID=America/Denver:20291204T190000
DTEND;TZID=America/Denver:20291204T200000
DTSTAMP:20260424T205131
CREATED:20250513T055457Z
LAST-MODIFIED:20250513T055457Z
UID:10003876-1891105200-1891108800@recoverystlouis.org
SUMMARY:AA Burton’s Heroes Open -mixed In person/online
DESCRIPTION:
URL:https://recoverystlouis.org/event/aa-burtons-heroes-open-mixed-in-person-online/2029-12-04/
END:VEVENT
BEGIN:VEVENT
DTSTART;TZID=America/Denver:20291205T170000
DTEND;TZID=America/Denver:20291205T190000
DTSTAMP:20260424T205131
CREATED:20250513T054406Z
LAST-MODIFIED:20250513T054406Z
UID:10001796-1891184400-1891191600@recoverystlouis.org
SUMMARY:Private group
DESCRIPTION:
URL:https://recoverystlouis.org/event/private-group/2029-12-05/
END:VEVENT
BEGIN:VEVENT
DTSTART;TZID=America/Denver:20291206T100000
DTEND;TZID=America/Denver:20291206T111500
DTSTAMP:20260424T205131
CREATED:20250513T054602Z
LAST-MODIFIED:20250530T165143Z
UID:10002316-1891245600-1891250100@recoverystlouis.org
SUMMARY:AA Group 179 Open-mixed In person/online
DESCRIPTION:Zoom 598 988 635\nPW 241200
URL:https://recoverystlouis.org/event/aa-group-179-open-mixed-in-person-online/2029-12-06/
END:VEVENT
BEGIN:VEVENT
DTSTART;TZID=America/Denver:20291206T190000
DTEND;TZID=America/Denver:20291206T200000
DTSTAMP:20260424T205131
CREATED:20250513T055622Z
LAST-MODIFIED:20250513T055622Z
UID:10004396-1891278000-1891281600@recoverystlouis.org
SUMMARY:Recovery Dharma Independent/in person only Open-mixed
DESCRIPTION:Contact\nMichelle T\n(314) 495-8026
URL:https://recoverystlouis.org/event/recovery-dharma-independent-in-person-only-open-mixed/2029-12-06/
END:VEVENT
BEGIN:VEVENT
DTSTART;TZID=America/Denver:20291207T070500
DTEND;TZID=America/Denver:20291207T074500
DTSTAMP:20260424T205131
CREATED:20250513T055108Z
LAST-MODIFIED:20250513T055108Z
UID:10002836-1891321500-1891323900@recoverystlouis.org
SUMMARY:AA Closed/ Men only Primary Purpose Mens
DESCRIPTION:
URL:https://recoverystlouis.org/event/aa-closed-men-only-primary-purpose-mens/2029-12-07/
END:VEVENT
BEGIN:VEVENT
DTSTART;TZID=America/Denver:20291207T174500
DTEND;TZID=America/Denver:20291207T184500
DTSTAMP:20260424T205131
CREATED:20250513T055756Z
LAST-MODIFIED:20250513T055756Z
UID:10004916-1891359900-1891363500@recoverystlouis.org
SUMMARY:AA Group 413- happier Hour Women’s-Open In person/online
DESCRIPTION:Zoom 263 787 324\nPW 279425 \nContact\nLeigh H\n(314) 276-6953
URL:https://recoverystlouis.org/event/aa-group-413-happier-hour-womens-open-in-person-online/2029-12-07/
END:VEVENT
BEGIN:VEVENT
DTSTART;TZID=America/Denver:20291209T090000
DTEND;TZID=America/Denver:20291209T101500
DTSTAMP:20260424T205131
CREATED:20250428T191821Z
LAST-MODIFIED:20250512T070411Z
UID:10000239-1891501200-1891505700@recoverystlouis.org
SUMMARY:AA Group 255-FIVE AND DIME Closed-Mixed In person/online
DESCRIPTION:Zoom:845 2025 1856\nPW: 173321 \nContact\nMichael Mac\n314-249-8149
URL:https://recoverystlouis.org/event/lorem-ipsum/2029-12-09/
END:VEVENT
BEGIN:VEVENT
DTSTART;TZID=America/Denver:20291209T110000
DTEND;TZID=America/Denver:20291209T120000
DTSTAMP:20260424T205131
CREATED:20250513T055407Z
LAST-MODIFIED:20250513T055407Z
UID:10003356-1891508400-1891512000@recoverystlouis.org
SUMMARY:OA Sunday Recovery Open-mixed In person/online
DESCRIPTION:Zoom:264 689 861\nPW:066708 \nContact\nCathy K (314) 538-1331
URL:https://recoverystlouis.org/event/oa-sunday-recovery-open-mixed-in-person-online/2029-12-09/
END:VEVENT
BEGIN:VEVENT
DTSTART;TZID=America/Denver:20291210T180000
DTEND;TZID=America/Denver:20291210T190000
DTSTAMP:20260424T205131
CREATED:20250512T071133Z
LAST-MODIFIED:20250512T071133Z
UID:10000759-1891620000-1891623600@recoverystlouis.org
SUMMARY:I AM RESPONSIBLE Women’s-closed In person-online
DESCRIPTION:Zoom:191 385 271\nPW: 085501 \nContact Clare P\n(314) 448-2101
URL:https://recoverystlouis.org/event/i-am-responsible-womens-closed-in-person-online/2029-12-10/
END:VEVENT
BEGIN:VEVENT
DTSTART;TZID=America/Denver:20291211T173000
DTEND;TZID=America/Denver:20291211T183000
DTSTAMP:20260424T205131
CREATED:20250513T054121Z
LAST-MODIFIED:20250513T054121Z
UID:10001277-1891704600-1891708200@recoverystlouis.org
SUMMARY:AA Secular Sobriety Open-mixed In person/online
DESCRIPTION:Zoom: 343 811 2984\nPW 770507
URL:https://recoverystlouis.org/event/aa-secular-sobriety-open-mixed-in-person-online/2029-12-11/
END:VEVENT
BEGIN:VEVENT
DTSTART;TZID=America/Denver:20291211T190000
DTEND;TZID=America/Denver:20291211T200000
DTSTAMP:20260424T205131
CREATED:20250513T055457Z
LAST-MODIFIED:20250513T055457Z
UID:10003877-1891710000-1891713600@recoverystlouis.org
SUMMARY:AA Burton’s Heroes Open -mixed In person/online
DESCRIPTION:
URL:https://recoverystlouis.org/event/aa-burtons-heroes-open-mixed-in-person-online/2029-12-11/
END:VEVENT
BEGIN:VEVENT
DTSTART;TZID=America/Denver:20291212T170000
DTEND;TZID=America/Denver:20291212T190000
DTSTAMP:20260424T205131
CREATED:20250513T054406Z
LAST-MODIFIED:20250513T054406Z
UID:10001797-1891789200-1891796400@recoverystlouis.org
SUMMARY:Private group
DESCRIPTION:
URL:https://recoverystlouis.org/event/private-group/2029-12-12/
END:VEVENT
BEGIN:VEVENT
DTSTART;TZID=America/Denver:20291213T100000
DTEND;TZID=America/Denver:20291213T111500
DTSTAMP:20260424T205131
CREATED:20250513T054602Z
LAST-MODIFIED:20250530T165143Z
UID:10002317-1891850400-1891854900@recoverystlouis.org
SUMMARY:AA Group 179 Open-mixed In person/online
DESCRIPTION:Zoom 598 988 635\nPW 241200
URL:https://recoverystlouis.org/event/aa-group-179-open-mixed-in-person-online/2029-12-13/
END:VEVENT
BEGIN:VEVENT
DTSTART;TZID=America/Denver:20291213T190000
DTEND;TZID=America/Denver:20291213T200000
DTSTAMP:20260424T205131
CREATED:20250513T055622Z
LAST-MODIFIED:20250513T055622Z
UID:10004397-1891882800-1891886400@recoverystlouis.org
SUMMARY:Recovery Dharma Independent/in person only Open-mixed
DESCRIPTION:Contact\nMichelle T\n(314) 495-8026
URL:https://recoverystlouis.org/event/recovery-dharma-independent-in-person-only-open-mixed/2029-12-13/
END:VEVENT
BEGIN:VEVENT
DTSTART;TZID=America/Denver:20291214T070500
DTEND;TZID=America/Denver:20291214T074500
DTSTAMP:20260424T205131
CREATED:20250513T055108Z
LAST-MODIFIED:20250513T055108Z
UID:10002837-1891926300-1891928700@recoverystlouis.org
SUMMARY:AA Closed/ Men only Primary Purpose Mens
DESCRIPTION:
URL:https://recoverystlouis.org/event/aa-closed-men-only-primary-purpose-mens/2029-12-14/
END:VEVENT
BEGIN:VEVENT
DTSTART;TZID=America/Denver:20291214T174500
DTEND;TZID=America/Denver:20291214T184500
DTSTAMP:20260424T205131
CREATED:20250513T055756Z
LAST-MODIFIED:20250513T055756Z
UID:10004917-1891964700-1891968300@recoverystlouis.org
SUMMARY:AA Group 413- happier Hour Women’s-Open In person/online
DESCRIPTION:Zoom 263 787 324\nPW 279425 \nContact\nLeigh H\n(314) 276-6953
URL:https://recoverystlouis.org/event/aa-group-413-happier-hour-womens-open-in-person-online/2029-12-14/
END:VEVENT
BEGIN:VEVENT
DTSTART;TZID=America/Denver:20291216T090000
DTEND;TZID=America/Denver:20291216T101500
DTSTAMP:20260424T205131
CREATED:20250428T191821Z
LAST-MODIFIED:20250512T070411Z
UID:10000240-1892106000-1892110500@recoverystlouis.org
SUMMARY:AA Group 255-FIVE AND DIME Closed-Mixed In person/online
DESCRIPTION:Zoom:845 2025 1856\nPW: 173321 \nContact\nMichael Mac\n314-249-8149
URL:https://recoverystlouis.org/event/lorem-ipsum/2029-12-16/
END:VEVENT
BEGIN:VEVENT
DTSTART;TZID=America/Denver:20291216T110000
DTEND;TZID=America/Denver:20291216T120000
DTSTAMP:20260424T205131
CREATED:20250513T055407Z
LAST-MODIFIED:20250513T055407Z
UID:10003357-1892113200-1892116800@recoverystlouis.org
SUMMARY:OA Sunday Recovery Open-mixed In person/online
DESCRIPTION:Zoom:264 689 861\nPW:066708 \nContact\nCathy K (314) 538-1331
URL:https://recoverystlouis.org/event/oa-sunday-recovery-open-mixed-in-person-online/2029-12-16/
END:VEVENT
BEGIN:VEVENT
DTSTART;TZID=America/Denver:20291217T180000
DTEND;TZID=America/Denver:20291217T190000
DTSTAMP:20260424T205131
CREATED:20250512T071133Z
LAST-MODIFIED:20250512T071133Z
UID:10000760-1892224800-1892228400@recoverystlouis.org
SUMMARY:I AM RESPONSIBLE Women’s-closed In person-online
DESCRIPTION:Zoom:191 385 271\nPW: 085501 \nContact Clare P\n(314) 448-2101
URL:https://recoverystlouis.org/event/i-am-responsible-womens-closed-in-person-online/2029-12-17/
END:VEVENT
BEGIN:VEVENT
DTSTART;TZID=America/Denver:20291218T173000
DTEND;TZID=America/Denver:20291218T183000
DTSTAMP:20260424T205131
CREATED:20250513T054121Z
LAST-MODIFIED:20250513T054121Z
UID:10001278-1892309400-1892313000@recoverystlouis.org
SUMMARY:AA Secular Sobriety Open-mixed In person/online
DESCRIPTION:Zoom: 343 811 2984\nPW 770507
URL:https://recoverystlouis.org/event/aa-secular-sobriety-open-mixed-in-person-online/2029-12-18/
END:VEVENT
BEGIN:VEVENT
DTSTART;TZID=America/Denver:20291218T190000
DTEND;TZID=America/Denver:20291218T200000
DTSTAMP:20260424T205131
CREATED:20250513T055457Z
LAST-MODIFIED:20250513T055457Z
UID:10003878-1892314800-1892318400@recoverystlouis.org
SUMMARY:AA Burton’s Heroes Open -mixed In person/online
DESCRIPTION:
URL:https://recoverystlouis.org/event/aa-burtons-heroes-open-mixed-in-person-online/2029-12-18/
END:VEVENT
BEGIN:VEVENT
DTSTART;TZID=America/Denver:20291219T170000
DTEND;TZID=America/Denver:20291219T190000
DTSTAMP:20260424T205131
CREATED:20250513T054406Z
LAST-MODIFIED:20250513T054406Z
UID:10001798-1892394000-1892401200@recoverystlouis.org
SUMMARY:Private group
DESCRIPTION:
URL:https://recoverystlouis.org/event/private-group/2029-12-19/
END:VEVENT
BEGIN:VEVENT
DTSTART;TZID=America/Denver:20291220T100000
DTEND;TZID=America/Denver:20291220T111500
DTSTAMP:20260424T205131
CREATED:20250513T054602Z
LAST-MODIFIED:20250530T165143Z
UID:10002318-1892455200-1892459700@recoverystlouis.org
SUMMARY:AA Group 179 Open-mixed In person/online
DESCRIPTION:Zoom 598 988 635\nPW 241200
URL:https://recoverystlouis.org/event/aa-group-179-open-mixed-in-person-online/2029-12-20/
END:VEVENT
BEGIN:VEVENT
DTSTART;TZID=America/Denver:20291220T190000
DTEND;TZID=America/Denver:20291220T200000
DTSTAMP:20260424T205131
CREATED:20250513T055622Z
LAST-MODIFIED:20250513T055622Z
UID:10004398-1892487600-1892491200@recoverystlouis.org
SUMMARY:Recovery Dharma Independent/in person only Open-mixed
DESCRIPTION:Contact\nMichelle T\n(314) 495-8026
URL:https://recoverystlouis.org/event/recovery-dharma-independent-in-person-only-open-mixed/2029-12-20/
END:VEVENT
BEGIN:VEVENT
DTSTART;TZID=America/Denver:20291221T070500
DTEND;TZID=America/Denver:20291221T074500
DTSTAMP:20260424T205131
CREATED:20250513T055108Z
LAST-MODIFIED:20250513T055108Z
UID:10002838-1892531100-1892533500@recoverystlouis.org
SUMMARY:AA Closed/ Men only Primary Purpose Mens
DESCRIPTION:
URL:https://recoverystlouis.org/event/aa-closed-men-only-primary-purpose-mens/2029-12-21/
END:VEVENT
BEGIN:VEVENT
DTSTART;TZID=America/Denver:20291221T174500
DTEND;TZID=America/Denver:20291221T184500
DTSTAMP:20260424T205131
CREATED:20250513T055756Z
LAST-MODIFIED:20250513T055756Z
UID:10004918-1892569500-1892573100@recoverystlouis.org
SUMMARY:AA Group 413- happier Hour Women’s-Open In person/online
DESCRIPTION:Zoom 263 787 324\nPW 279425 \nContact\nLeigh H\n(314) 276-6953
URL:https://recoverystlouis.org/event/aa-group-413-happier-hour-womens-open-in-person-online/2029-12-21/
END:VEVENT
END:VCALENDAR