BEGIN:VCALENDAR
VERSION:2.0
PRODID:-//Recovery St. Louis - ECPv6.15.17.1//NONSGML v1.0//EN
CALSCALE:GREGORIAN
METHOD:PUBLISH
X-WR-CALNAME:Recovery St. Louis
X-ORIGINAL-URL:https://recoverystlouis.org
X-WR-CALDESC:Events for Recovery St. Louis
REFRESH-INTERVAL;VALUE=DURATION:PT1H
X-Robots-Tag:noindex
X-PUBLISHED-TTL:PT1H
BEGIN:VTIMEZONE
TZID:America/Denver
BEGIN:DAYLIGHT
TZOFFSETFROM:-0700
TZOFFSETTO:-0600
TZNAME:MDT
DTSTART:20270314T090000
END:DAYLIGHT
BEGIN:STANDARD
TZOFFSETFROM:-0600
TZOFFSETTO:-0700
TZNAME:MST
DTSTART:20271107T080000
END:STANDARD
BEGIN:DAYLIGHT
TZOFFSETFROM:-0700
TZOFFSETTO:-0600
TZNAME:MDT
DTSTART:20280312T090000
END:DAYLIGHT
BEGIN:STANDARD
TZOFFSETFROM:-0600
TZOFFSETTO:-0700
TZNAME:MST
DTSTART:20281105T080000
END:STANDARD
BEGIN:DAYLIGHT
TZOFFSETFROM:-0700
TZOFFSETTO:-0600
TZNAME:MDT
DTSTART:20290311T090000
END:DAYLIGHT
BEGIN:STANDARD
TZOFFSETFROM:-0600
TZOFFSETTO:-0700
TZNAME:MST
DTSTART:20291104T080000
END:STANDARD
END:VTIMEZONE
BEGIN:VEVENT
DTSTART;TZID=America/Denver:20280801T173000
DTEND;TZID=America/Denver:20280801T183000
DTSTAMP:20260423T050145
CREATED:20250513T054121Z
LAST-MODIFIED:20250513T054121Z
UID:10001206-1848763800-1848767400@recoverystlouis.org
SUMMARY:AA Secular Sobriety Open-mixed In person/online
DESCRIPTION:Zoom: 343 811 2984\nPW 770507
URL:https://recoverystlouis.org/event/aa-secular-sobriety-open-mixed-in-person-online/2028-08-01/
END:VEVENT
BEGIN:VEVENT
DTSTART;TZID=America/Denver:20280801T190000
DTEND;TZID=America/Denver:20280801T200000
DTSTAMP:20260423T050145
CREATED:20250513T055457Z
LAST-MODIFIED:20250513T055457Z
UID:10003806-1848769200-1848772800@recoverystlouis.org
SUMMARY:AA Burton’s Heroes Open -mixed In person/online
DESCRIPTION:
URL:https://recoverystlouis.org/event/aa-burtons-heroes-open-mixed-in-person-online/2028-08-01/
END:VEVENT
BEGIN:VEVENT
DTSTART;TZID=America/Denver:20280802T170000
DTEND;TZID=America/Denver:20280802T190000
DTSTAMP:20260423T050145
CREATED:20250513T054406Z
LAST-MODIFIED:20250513T054406Z
UID:10001726-1848848400-1848855600@recoverystlouis.org
SUMMARY:Private group
DESCRIPTION:
URL:https://recoverystlouis.org/event/private-group/2028-08-02/
END:VEVENT
BEGIN:VEVENT
DTSTART;TZID=America/Denver:20280803T100000
DTEND;TZID=America/Denver:20280803T111500
DTSTAMP:20260423T050145
CREATED:20250513T054602Z
LAST-MODIFIED:20250530T165143Z
UID:10002246-1848909600-1848914100@recoverystlouis.org
SUMMARY:AA Group 179 Open-mixed In person/online
DESCRIPTION:Zoom 598 988 635\nPW 241200
URL:https://recoverystlouis.org/event/aa-group-179-open-mixed-in-person-online/2028-08-03/
END:VEVENT
BEGIN:VEVENT
DTSTART;TZID=America/Denver:20280803T190000
DTEND;TZID=America/Denver:20280803T200000
DTSTAMP:20260423T050145
CREATED:20250513T055622Z
LAST-MODIFIED:20250513T055622Z
UID:10004326-1848942000-1848945600@recoverystlouis.org
SUMMARY:Recovery Dharma Independent/in person only Open-mixed
DESCRIPTION:Contact\nMichelle T\n(314) 495-8026
URL:https://recoverystlouis.org/event/recovery-dharma-independent-in-person-only-open-mixed/2028-08-03/
END:VEVENT
BEGIN:VEVENT
DTSTART;TZID=America/Denver:20280804T070500
DTEND;TZID=America/Denver:20280804T074500
DTSTAMP:20260423T050145
CREATED:20250513T055108Z
LAST-MODIFIED:20250513T055108Z
UID:10002766-1848985500-1848987900@recoverystlouis.org
SUMMARY:AA Closed/ Men only Primary Purpose Mens
DESCRIPTION:
URL:https://recoverystlouis.org/event/aa-closed-men-only-primary-purpose-mens/2028-08-04/
END:VEVENT
BEGIN:VEVENT
DTSTART;TZID=America/Denver:20280804T174500
DTEND;TZID=America/Denver:20280804T184500
DTSTAMP:20260423T050145
CREATED:20250513T055756Z
LAST-MODIFIED:20250513T055756Z
UID:10004846-1849023900-1849027500@recoverystlouis.org
SUMMARY:AA Group 413- happier Hour Women’s-Open In person/online
DESCRIPTION:Zoom 263 787 324\nPW 279425 \nContact\nLeigh H\n(314) 276-6953
URL:https://recoverystlouis.org/event/aa-group-413-happier-hour-womens-open-in-person-online/2028-08-04/
END:VEVENT
BEGIN:VEVENT
DTSTART;TZID=America/Denver:20280806T090000
DTEND;TZID=America/Denver:20280806T101500
DTSTAMP:20260423T050145
CREATED:20250428T191821Z
LAST-MODIFIED:20250512T070411Z
UID:10000169-1849165200-1849169700@recoverystlouis.org
SUMMARY:AA Group 255-FIVE AND DIME Closed-Mixed In person/online
DESCRIPTION:Zoom:845 2025 1856\nPW: 173321 \nContact\nMichael Mac\n314-249-8149
URL:https://recoverystlouis.org/event/lorem-ipsum/2028-08-06/
END:VEVENT
BEGIN:VEVENT
DTSTART;TZID=America/Denver:20280806T110000
DTEND;TZID=America/Denver:20280806T120000
DTSTAMP:20260423T050145
CREATED:20250513T055407Z
LAST-MODIFIED:20250513T055407Z
UID:10003286-1849172400-1849176000@recoverystlouis.org
SUMMARY:OA Sunday Recovery Open-mixed In person/online
DESCRIPTION:Zoom:264 689 861\nPW:066708 \nContact\nCathy K (314) 538-1331
URL:https://recoverystlouis.org/event/oa-sunday-recovery-open-mixed-in-person-online/2028-08-06/
END:VEVENT
BEGIN:VEVENT
DTSTART;TZID=America/Denver:20280807T180000
DTEND;TZID=America/Denver:20280807T190000
DTSTAMP:20260423T050145
CREATED:20250512T071133Z
LAST-MODIFIED:20250512T071133Z
UID:10000689-1849284000-1849287600@recoverystlouis.org
SUMMARY:I AM RESPONSIBLE Women’s-closed In person-online
DESCRIPTION:Zoom:191 385 271\nPW: 085501 \nContact Clare P\n(314) 448-2101
URL:https://recoverystlouis.org/event/i-am-responsible-womens-closed-in-person-online/2028-08-07/
END:VEVENT
BEGIN:VEVENT
DTSTART;TZID=America/Denver:20280808T173000
DTEND;TZID=America/Denver:20280808T183000
DTSTAMP:20260423T050145
CREATED:20250513T054121Z
LAST-MODIFIED:20250513T054121Z
UID:10001207-1849368600-1849372200@recoverystlouis.org
SUMMARY:AA Secular Sobriety Open-mixed In person/online
DESCRIPTION:Zoom: 343 811 2984\nPW 770507
URL:https://recoverystlouis.org/event/aa-secular-sobriety-open-mixed-in-person-online/2028-08-08/
END:VEVENT
BEGIN:VEVENT
DTSTART;TZID=America/Denver:20280808T190000
DTEND;TZID=America/Denver:20280808T200000
DTSTAMP:20260423T050145
CREATED:20250513T055457Z
LAST-MODIFIED:20250513T055457Z
UID:10003807-1849374000-1849377600@recoverystlouis.org
SUMMARY:AA Burton’s Heroes Open -mixed In person/online
DESCRIPTION:
URL:https://recoverystlouis.org/event/aa-burtons-heroes-open-mixed-in-person-online/2028-08-08/
END:VEVENT
BEGIN:VEVENT
DTSTART;TZID=America/Denver:20280809T170000
DTEND;TZID=America/Denver:20280809T190000
DTSTAMP:20260423T050145
CREATED:20250513T054406Z
LAST-MODIFIED:20250513T054406Z
UID:10001727-1849453200-1849460400@recoverystlouis.org
SUMMARY:Private group
DESCRIPTION:
URL:https://recoverystlouis.org/event/private-group/2028-08-09/
END:VEVENT
BEGIN:VEVENT
DTSTART;TZID=America/Denver:20280810T100000
DTEND;TZID=America/Denver:20280810T111500
DTSTAMP:20260423T050145
CREATED:20250513T054602Z
LAST-MODIFIED:20250530T165143Z
UID:10002247-1849514400-1849518900@recoverystlouis.org
SUMMARY:AA Group 179 Open-mixed In person/online
DESCRIPTION:Zoom 598 988 635\nPW 241200
URL:https://recoverystlouis.org/event/aa-group-179-open-mixed-in-person-online/2028-08-10/
END:VEVENT
BEGIN:VEVENT
DTSTART;TZID=America/Denver:20280810T190000
DTEND;TZID=America/Denver:20280810T200000
DTSTAMP:20260423T050145
CREATED:20250513T055622Z
LAST-MODIFIED:20250513T055622Z
UID:10004327-1849546800-1849550400@recoverystlouis.org
SUMMARY:Recovery Dharma Independent/in person only Open-mixed
DESCRIPTION:Contact\nMichelle T\n(314) 495-8026
URL:https://recoverystlouis.org/event/recovery-dharma-independent-in-person-only-open-mixed/2028-08-10/
END:VEVENT
BEGIN:VEVENT
DTSTART;TZID=America/Denver:20280811T070500
DTEND;TZID=America/Denver:20280811T074500
DTSTAMP:20260423T050145
CREATED:20250513T055108Z
LAST-MODIFIED:20250513T055108Z
UID:10002767-1849590300-1849592700@recoverystlouis.org
SUMMARY:AA Closed/ Men only Primary Purpose Mens
DESCRIPTION:
URL:https://recoverystlouis.org/event/aa-closed-men-only-primary-purpose-mens/2028-08-11/
END:VEVENT
BEGIN:VEVENT
DTSTART;TZID=America/Denver:20280811T174500
DTEND;TZID=America/Denver:20280811T184500
DTSTAMP:20260423T050146
CREATED:20250513T055756Z
LAST-MODIFIED:20250513T055756Z
UID:10004847-1849628700-1849632300@recoverystlouis.org
SUMMARY:AA Group 413- happier Hour Women’s-Open In person/online
DESCRIPTION:Zoom 263 787 324\nPW 279425 \nContact\nLeigh H\n(314) 276-6953
URL:https://recoverystlouis.org/event/aa-group-413-happier-hour-womens-open-in-person-online/2028-08-11/
END:VEVENT
BEGIN:VEVENT
DTSTART;TZID=America/Denver:20280813T090000
DTEND;TZID=America/Denver:20280813T101500
DTSTAMP:20260423T050146
CREATED:20250428T191821Z
LAST-MODIFIED:20250512T070411Z
UID:10000170-1849770000-1849774500@recoverystlouis.org
SUMMARY:AA Group 255-FIVE AND DIME Closed-Mixed In person/online
DESCRIPTION:Zoom:845 2025 1856\nPW: 173321 \nContact\nMichael Mac\n314-249-8149
URL:https://recoverystlouis.org/event/lorem-ipsum/2028-08-13/
END:VEVENT
BEGIN:VEVENT
DTSTART;TZID=America/Denver:20280813T110000
DTEND;TZID=America/Denver:20280813T120000
DTSTAMP:20260423T050146
CREATED:20250513T055407Z
LAST-MODIFIED:20250513T055407Z
UID:10003287-1849777200-1849780800@recoverystlouis.org
SUMMARY:OA Sunday Recovery Open-mixed In person/online
DESCRIPTION:Zoom:264 689 861\nPW:066708 \nContact\nCathy K (314) 538-1331
URL:https://recoverystlouis.org/event/oa-sunday-recovery-open-mixed-in-person-online/2028-08-13/
END:VEVENT
BEGIN:VEVENT
DTSTART;TZID=America/Denver:20280814T180000
DTEND;TZID=America/Denver:20280814T190000
DTSTAMP:20260423T050146
CREATED:20250512T071133Z
LAST-MODIFIED:20250512T071133Z
UID:10000690-1849888800-1849892400@recoverystlouis.org
SUMMARY:I AM RESPONSIBLE Women’s-closed In person-online
DESCRIPTION:Zoom:191 385 271\nPW: 085501 \nContact Clare P\n(314) 448-2101
URL:https://recoverystlouis.org/event/i-am-responsible-womens-closed-in-person-online/2028-08-14/
END:VEVENT
BEGIN:VEVENT
DTSTART;TZID=America/Denver:20280815T173000
DTEND;TZID=America/Denver:20280815T183000
DTSTAMP:20260423T050146
CREATED:20250513T054121Z
LAST-MODIFIED:20250513T054121Z
UID:10001208-1849973400-1849977000@recoverystlouis.org
SUMMARY:AA Secular Sobriety Open-mixed In person/online
DESCRIPTION:Zoom: 343 811 2984\nPW 770507
URL:https://recoverystlouis.org/event/aa-secular-sobriety-open-mixed-in-person-online/2028-08-15/
END:VEVENT
BEGIN:VEVENT
DTSTART;TZID=America/Denver:20280815T190000
DTEND;TZID=America/Denver:20280815T200000
DTSTAMP:20260423T050146
CREATED:20250513T055457Z
LAST-MODIFIED:20250513T055457Z
UID:10003808-1849978800-1849982400@recoverystlouis.org
SUMMARY:AA Burton’s Heroes Open -mixed In person/online
DESCRIPTION:
URL:https://recoverystlouis.org/event/aa-burtons-heroes-open-mixed-in-person-online/2028-08-15/
END:VEVENT
BEGIN:VEVENT
DTSTART;TZID=America/Denver:20280816T170000
DTEND;TZID=America/Denver:20280816T190000
DTSTAMP:20260423T050146
CREATED:20250513T054406Z
LAST-MODIFIED:20250513T054406Z
UID:10001728-1850058000-1850065200@recoverystlouis.org
SUMMARY:Private group
DESCRIPTION:
URL:https://recoverystlouis.org/event/private-group/2028-08-16/
END:VEVENT
BEGIN:VEVENT
DTSTART;TZID=America/Denver:20280817T100000
DTEND;TZID=America/Denver:20280817T111500
DTSTAMP:20260423T050146
CREATED:20250513T054602Z
LAST-MODIFIED:20250530T165143Z
UID:10002248-1850119200-1850123700@recoverystlouis.org
SUMMARY:AA Group 179 Open-mixed In person/online
DESCRIPTION:Zoom 598 988 635\nPW 241200
URL:https://recoverystlouis.org/event/aa-group-179-open-mixed-in-person-online/2028-08-17/
END:VEVENT
BEGIN:VEVENT
DTSTART;TZID=America/Denver:20280817T190000
DTEND;TZID=America/Denver:20280817T200000
DTSTAMP:20260423T050146
CREATED:20250513T055622Z
LAST-MODIFIED:20250513T055622Z
UID:10004328-1850151600-1850155200@recoverystlouis.org
SUMMARY:Recovery Dharma Independent/in person only Open-mixed
DESCRIPTION:Contact\nMichelle T\n(314) 495-8026
URL:https://recoverystlouis.org/event/recovery-dharma-independent-in-person-only-open-mixed/2028-08-17/
END:VEVENT
BEGIN:VEVENT
DTSTART;TZID=America/Denver:20280818T070500
DTEND;TZID=America/Denver:20280818T074500
DTSTAMP:20260423T050146
CREATED:20250513T055108Z
LAST-MODIFIED:20250513T055108Z
UID:10002768-1850195100-1850197500@recoverystlouis.org
SUMMARY:AA Closed/ Men only Primary Purpose Mens
DESCRIPTION:
URL:https://recoverystlouis.org/event/aa-closed-men-only-primary-purpose-mens/2028-08-18/
END:VEVENT
BEGIN:VEVENT
DTSTART;TZID=America/Denver:20280818T174500
DTEND;TZID=America/Denver:20280818T184500
DTSTAMP:20260423T050146
CREATED:20250513T055756Z
LAST-MODIFIED:20250513T055756Z
UID:10004848-1850233500-1850237100@recoverystlouis.org
SUMMARY:AA Group 413- happier Hour Women’s-Open In person/online
DESCRIPTION:Zoom 263 787 324\nPW 279425 \nContact\nLeigh H\n(314) 276-6953
URL:https://recoverystlouis.org/event/aa-group-413-happier-hour-womens-open-in-person-online/2028-08-18/
END:VEVENT
BEGIN:VEVENT
DTSTART;TZID=America/Denver:20280820T090000
DTEND;TZID=America/Denver:20280820T101500
DTSTAMP:20260423T050146
CREATED:20250428T191821Z
LAST-MODIFIED:20250512T070411Z
UID:10000171-1850374800-1850379300@recoverystlouis.org
SUMMARY:AA Group 255-FIVE AND DIME Closed-Mixed In person/online
DESCRIPTION:Zoom:845 2025 1856\nPW: 173321 \nContact\nMichael Mac\n314-249-8149
URL:https://recoverystlouis.org/event/lorem-ipsum/2028-08-20/
END:VEVENT
BEGIN:VEVENT
DTSTART;TZID=America/Denver:20280820T110000
DTEND;TZID=America/Denver:20280820T120000
DTSTAMP:20260423T050146
CREATED:20250513T055407Z
LAST-MODIFIED:20250513T055407Z
UID:10003288-1850382000-1850385600@recoverystlouis.org
SUMMARY:OA Sunday Recovery Open-mixed In person/online
DESCRIPTION:Zoom:264 689 861\nPW:066708 \nContact\nCathy K (314) 538-1331
URL:https://recoverystlouis.org/event/oa-sunday-recovery-open-mixed-in-person-online/2028-08-20/
END:VEVENT
BEGIN:VEVENT
DTSTART;TZID=America/Denver:20280821T180000
DTEND;TZID=America/Denver:20280821T190000
DTSTAMP:20260423T050146
CREATED:20250512T071133Z
LAST-MODIFIED:20250512T071133Z
UID:10000691-1850493600-1850497200@recoverystlouis.org
SUMMARY:I AM RESPONSIBLE Women’s-closed In person-online
DESCRIPTION:Zoom:191 385 271\nPW: 085501 \nContact Clare P\n(314) 448-2101
URL:https://recoverystlouis.org/event/i-am-responsible-womens-closed-in-person-online/2028-08-21/
END:VEVENT
END:VCALENDAR