BEGIN:VCALENDAR
VERSION:2.0
PRODID:-//Recovery St. Louis - ECPv6.15.17.1//NONSGML v1.0//EN
CALSCALE:GREGORIAN
METHOD:PUBLISH
X-WR-CALNAME:Recovery St. Louis
X-ORIGINAL-URL:https://recoverystlouis.org
X-WR-CALDESC:Events for Recovery St. Louis
REFRESH-INTERVAL;VALUE=DURATION:PT1H
X-Robots-Tag:noindex
X-PUBLISHED-TTL:PT1H
BEGIN:VTIMEZONE
TZID:America/Denver
BEGIN:DAYLIGHT
TZOFFSETFROM:-0700
TZOFFSETTO:-0600
TZNAME:MDT
DTSTART:20270314T090000
END:DAYLIGHT
BEGIN:STANDARD
TZOFFSETFROM:-0600
TZOFFSETTO:-0700
TZNAME:MST
DTSTART:20271107T080000
END:STANDARD
BEGIN:DAYLIGHT
TZOFFSETFROM:-0700
TZOFFSETTO:-0600
TZNAME:MDT
DTSTART:20280312T090000
END:DAYLIGHT
BEGIN:STANDARD
TZOFFSETFROM:-0600
TZOFFSETTO:-0700
TZNAME:MST
DTSTART:20281105T080000
END:STANDARD
BEGIN:DAYLIGHT
TZOFFSETFROM:-0700
TZOFFSETTO:-0600
TZNAME:MDT
DTSTART:20290311T090000
END:DAYLIGHT
BEGIN:STANDARD
TZOFFSETFROM:-0600
TZOFFSETTO:-0700
TZNAME:MST
DTSTART:20291104T080000
END:STANDARD
END:VTIMEZONE
BEGIN:VEVENT
DTSTART;TZID=America/Denver:20280702T090000
DTEND;TZID=America/Denver:20280702T101500
DTSTAMP:20260423T030945
CREATED:20250428T191821Z
LAST-MODIFIED:20250512T070411Z
UID:10000164-1846141200-1846145700@recoverystlouis.org
SUMMARY:AA Group 255-FIVE AND DIME Closed-Mixed In person/online
DESCRIPTION:Zoom:845 2025 1856\nPW: 173321 \nContact\nMichael Mac\n314-249-8149
URL:https://recoverystlouis.org/event/lorem-ipsum/2028-07-02/
END:VEVENT
BEGIN:VEVENT
DTSTART;TZID=America/Denver:20280702T110000
DTEND;TZID=America/Denver:20280702T120000
DTSTAMP:20260423T030945
CREATED:20250513T055407Z
LAST-MODIFIED:20250513T055407Z
UID:10003281-1846148400-1846152000@recoverystlouis.org
SUMMARY:OA Sunday Recovery Open-mixed In person/online
DESCRIPTION:Zoom:264 689 861\nPW:066708 \nContact\nCathy K (314) 538-1331
URL:https://recoverystlouis.org/event/oa-sunday-recovery-open-mixed-in-person-online/2028-07-02/
END:VEVENT
BEGIN:VEVENT
DTSTART;TZID=America/Denver:20280703T180000
DTEND;TZID=America/Denver:20280703T190000
DTSTAMP:20260423T030945
CREATED:20250512T071133Z
LAST-MODIFIED:20250512T071133Z
UID:10000684-1846260000-1846263600@recoverystlouis.org
SUMMARY:I AM RESPONSIBLE Women’s-closed In person-online
DESCRIPTION:Zoom:191 385 271\nPW: 085501 \nContact Clare P\n(314) 448-2101
URL:https://recoverystlouis.org/event/i-am-responsible-womens-closed-in-person-online/2028-07-03/
END:VEVENT
BEGIN:VEVENT
DTSTART;TZID=America/Denver:20280704T173000
DTEND;TZID=America/Denver:20280704T183000
DTSTAMP:20260423T030945
CREATED:20250513T054121Z
LAST-MODIFIED:20250513T054121Z
UID:10001202-1846344600-1846348200@recoverystlouis.org
SUMMARY:AA Secular Sobriety Open-mixed In person/online
DESCRIPTION:Zoom: 343 811 2984\nPW 770507
URL:https://recoverystlouis.org/event/aa-secular-sobriety-open-mixed-in-person-online/2028-07-04/
END:VEVENT
BEGIN:VEVENT
DTSTART;TZID=America/Denver:20280704T190000
DTEND;TZID=America/Denver:20280704T200000
DTSTAMP:20260423T030945
CREATED:20250513T055457Z
LAST-MODIFIED:20250513T055457Z
UID:10003802-1846350000-1846353600@recoverystlouis.org
SUMMARY:AA Burton’s Heroes Open -mixed In person/online
DESCRIPTION:
URL:https://recoverystlouis.org/event/aa-burtons-heroes-open-mixed-in-person-online/2028-07-04/
END:VEVENT
BEGIN:VEVENT
DTSTART;TZID=America/Denver:20280705T170000
DTEND;TZID=America/Denver:20280705T190000
DTSTAMP:20260423T030945
CREATED:20250513T054406Z
LAST-MODIFIED:20250513T054406Z
UID:10001722-1846429200-1846436400@recoverystlouis.org
SUMMARY:Private group
DESCRIPTION:
URL:https://recoverystlouis.org/event/private-group/2028-07-05/
END:VEVENT
BEGIN:VEVENT
DTSTART;TZID=America/Denver:20280706T100000
DTEND;TZID=America/Denver:20280706T111500
DTSTAMP:20260423T030945
CREATED:20250513T054602Z
LAST-MODIFIED:20250530T165143Z
UID:10002242-1846490400-1846494900@recoverystlouis.org
SUMMARY:AA Group 179 Open-mixed In person/online
DESCRIPTION:Zoom 598 988 635\nPW 241200
URL:https://recoverystlouis.org/event/aa-group-179-open-mixed-in-person-online/2028-07-06/
END:VEVENT
BEGIN:VEVENT
DTSTART;TZID=America/Denver:20280706T190000
DTEND;TZID=America/Denver:20280706T200000
DTSTAMP:20260423T030945
CREATED:20250513T055622Z
LAST-MODIFIED:20250513T055622Z
UID:10004322-1846522800-1846526400@recoverystlouis.org
SUMMARY:Recovery Dharma Independent/in person only Open-mixed
DESCRIPTION:Contact\nMichelle T\n(314) 495-8026
URL:https://recoverystlouis.org/event/recovery-dharma-independent-in-person-only-open-mixed/2028-07-06/
END:VEVENT
BEGIN:VEVENT
DTSTART;TZID=America/Denver:20280707T070500
DTEND;TZID=America/Denver:20280707T074500
DTSTAMP:20260423T030945
CREATED:20250513T055108Z
LAST-MODIFIED:20250513T055108Z
UID:10002762-1846566300-1846568700@recoverystlouis.org
SUMMARY:AA Closed/ Men only Primary Purpose Mens
DESCRIPTION:
URL:https://recoverystlouis.org/event/aa-closed-men-only-primary-purpose-mens/2028-07-07/
END:VEVENT
BEGIN:VEVENT
DTSTART;TZID=America/Denver:20280707T174500
DTEND;TZID=America/Denver:20280707T184500
DTSTAMP:20260423T030945
CREATED:20250513T055756Z
LAST-MODIFIED:20250513T055756Z
UID:10004842-1846604700-1846608300@recoverystlouis.org
SUMMARY:AA Group 413- happier Hour Women’s-Open In person/online
DESCRIPTION:Zoom 263 787 324\nPW 279425 \nContact\nLeigh H\n(314) 276-6953
URL:https://recoverystlouis.org/event/aa-group-413-happier-hour-womens-open-in-person-online/2028-07-07/
END:VEVENT
BEGIN:VEVENT
DTSTART;TZID=America/Denver:20280709T090000
DTEND;TZID=America/Denver:20280709T101500
DTSTAMP:20260423T030945
CREATED:20250428T191821Z
LAST-MODIFIED:20250512T070411Z
UID:10000165-1846746000-1846750500@recoverystlouis.org
SUMMARY:AA Group 255-FIVE AND DIME Closed-Mixed In person/online
DESCRIPTION:Zoom:845 2025 1856\nPW: 173321 \nContact\nMichael Mac\n314-249-8149
URL:https://recoverystlouis.org/event/lorem-ipsum/2028-07-09/
END:VEVENT
BEGIN:VEVENT
DTSTART;TZID=America/Denver:20280709T110000
DTEND;TZID=America/Denver:20280709T120000
DTSTAMP:20260423T030945
CREATED:20250513T055407Z
LAST-MODIFIED:20250513T055407Z
UID:10003282-1846753200-1846756800@recoverystlouis.org
SUMMARY:OA Sunday Recovery Open-mixed In person/online
DESCRIPTION:Zoom:264 689 861\nPW:066708 \nContact\nCathy K (314) 538-1331
URL:https://recoverystlouis.org/event/oa-sunday-recovery-open-mixed-in-person-online/2028-07-09/
END:VEVENT
BEGIN:VEVENT
DTSTART;TZID=America/Denver:20280710T180000
DTEND;TZID=America/Denver:20280710T190000
DTSTAMP:20260423T030945
CREATED:20250512T071133Z
LAST-MODIFIED:20250512T071133Z
UID:10000685-1846864800-1846868400@recoverystlouis.org
SUMMARY:I AM RESPONSIBLE Women’s-closed In person-online
DESCRIPTION:Zoom:191 385 271\nPW: 085501 \nContact Clare P\n(314) 448-2101
URL:https://recoverystlouis.org/event/i-am-responsible-womens-closed-in-person-online/2028-07-10/
END:VEVENT
BEGIN:VEVENT
DTSTART;TZID=America/Denver:20280711T173000
DTEND;TZID=America/Denver:20280711T183000
DTSTAMP:20260423T030945
CREATED:20250513T054121Z
LAST-MODIFIED:20250513T054121Z
UID:10001203-1846949400-1846953000@recoverystlouis.org
SUMMARY:AA Secular Sobriety Open-mixed In person/online
DESCRIPTION:Zoom: 343 811 2984\nPW 770507
URL:https://recoverystlouis.org/event/aa-secular-sobriety-open-mixed-in-person-online/2028-07-11/
END:VEVENT
BEGIN:VEVENT
DTSTART;TZID=America/Denver:20280711T190000
DTEND;TZID=America/Denver:20280711T200000
DTSTAMP:20260423T030945
CREATED:20250513T055457Z
LAST-MODIFIED:20250513T055457Z
UID:10003803-1846954800-1846958400@recoverystlouis.org
SUMMARY:AA Burton’s Heroes Open -mixed In person/online
DESCRIPTION:
URL:https://recoverystlouis.org/event/aa-burtons-heroes-open-mixed-in-person-online/2028-07-11/
END:VEVENT
BEGIN:VEVENT
DTSTART;TZID=America/Denver:20280712T170000
DTEND;TZID=America/Denver:20280712T190000
DTSTAMP:20260423T030945
CREATED:20250513T054406Z
LAST-MODIFIED:20250513T054406Z
UID:10001723-1847034000-1847041200@recoverystlouis.org
SUMMARY:Private group
DESCRIPTION:
URL:https://recoverystlouis.org/event/private-group/2028-07-12/
END:VEVENT
BEGIN:VEVENT
DTSTART;TZID=America/Denver:20280713T100000
DTEND;TZID=America/Denver:20280713T111500
DTSTAMP:20260423T030945
CREATED:20250513T054602Z
LAST-MODIFIED:20250530T165143Z
UID:10002243-1847095200-1847099700@recoverystlouis.org
SUMMARY:AA Group 179 Open-mixed In person/online
DESCRIPTION:Zoom 598 988 635\nPW 241200
URL:https://recoverystlouis.org/event/aa-group-179-open-mixed-in-person-online/2028-07-13/
END:VEVENT
BEGIN:VEVENT
DTSTART;TZID=America/Denver:20280713T190000
DTEND;TZID=America/Denver:20280713T200000
DTSTAMP:20260423T030945
CREATED:20250513T055622Z
LAST-MODIFIED:20250513T055622Z
UID:10004323-1847127600-1847131200@recoverystlouis.org
SUMMARY:Recovery Dharma Independent/in person only Open-mixed
DESCRIPTION:Contact\nMichelle T\n(314) 495-8026
URL:https://recoverystlouis.org/event/recovery-dharma-independent-in-person-only-open-mixed/2028-07-13/
END:VEVENT
BEGIN:VEVENT
DTSTART;TZID=America/Denver:20280714T070500
DTEND;TZID=America/Denver:20280714T074500
DTSTAMP:20260423T030945
CREATED:20250513T055108Z
LAST-MODIFIED:20250513T055108Z
UID:10002763-1847171100-1847173500@recoverystlouis.org
SUMMARY:AA Closed/ Men only Primary Purpose Mens
DESCRIPTION:
URL:https://recoverystlouis.org/event/aa-closed-men-only-primary-purpose-mens/2028-07-14/
END:VEVENT
BEGIN:VEVENT
DTSTART;TZID=America/Denver:20280714T174500
DTEND;TZID=America/Denver:20280714T184500
DTSTAMP:20260423T030945
CREATED:20250513T055756Z
LAST-MODIFIED:20250513T055756Z
UID:10004843-1847209500-1847213100@recoverystlouis.org
SUMMARY:AA Group 413- happier Hour Women’s-Open In person/online
DESCRIPTION:Zoom 263 787 324\nPW 279425 \nContact\nLeigh H\n(314) 276-6953
URL:https://recoverystlouis.org/event/aa-group-413-happier-hour-womens-open-in-person-online/2028-07-14/
END:VEVENT
BEGIN:VEVENT
DTSTART;TZID=America/Denver:20280716T090000
DTEND;TZID=America/Denver:20280716T101500
DTSTAMP:20260423T030945
CREATED:20250428T191821Z
LAST-MODIFIED:20250512T070411Z
UID:10000166-1847350800-1847355300@recoverystlouis.org
SUMMARY:AA Group 255-FIVE AND DIME Closed-Mixed In person/online
DESCRIPTION:Zoom:845 2025 1856\nPW: 173321 \nContact\nMichael Mac\n314-249-8149
URL:https://recoverystlouis.org/event/lorem-ipsum/2028-07-16/
END:VEVENT
BEGIN:VEVENT
DTSTART;TZID=America/Denver:20280716T110000
DTEND;TZID=America/Denver:20280716T120000
DTSTAMP:20260423T030945
CREATED:20250513T055407Z
LAST-MODIFIED:20250513T055407Z
UID:10003283-1847358000-1847361600@recoverystlouis.org
SUMMARY:OA Sunday Recovery Open-mixed In person/online
DESCRIPTION:Zoom:264 689 861\nPW:066708 \nContact\nCathy K (314) 538-1331
URL:https://recoverystlouis.org/event/oa-sunday-recovery-open-mixed-in-person-online/2028-07-16/
END:VEVENT
BEGIN:VEVENT
DTSTART;TZID=America/Denver:20280717T180000
DTEND;TZID=America/Denver:20280717T190000
DTSTAMP:20260423T030945
CREATED:20250512T071133Z
LAST-MODIFIED:20250512T071133Z
UID:10000686-1847469600-1847473200@recoverystlouis.org
SUMMARY:I AM RESPONSIBLE Women’s-closed In person-online
DESCRIPTION:Zoom:191 385 271\nPW: 085501 \nContact Clare P\n(314) 448-2101
URL:https://recoverystlouis.org/event/i-am-responsible-womens-closed-in-person-online/2028-07-17/
END:VEVENT
BEGIN:VEVENT
DTSTART;TZID=America/Denver:20280718T173000
DTEND;TZID=America/Denver:20280718T183000
DTSTAMP:20260423T030945
CREATED:20250513T054121Z
LAST-MODIFIED:20250513T054121Z
UID:10001204-1847554200-1847557800@recoverystlouis.org
SUMMARY:AA Secular Sobriety Open-mixed In person/online
DESCRIPTION:Zoom: 343 811 2984\nPW 770507
URL:https://recoverystlouis.org/event/aa-secular-sobriety-open-mixed-in-person-online/2028-07-18/
END:VEVENT
BEGIN:VEVENT
DTSTART;TZID=America/Denver:20280718T190000
DTEND;TZID=America/Denver:20280718T200000
DTSTAMP:20260423T030945
CREATED:20250513T055457Z
LAST-MODIFIED:20250513T055457Z
UID:10003804-1847559600-1847563200@recoverystlouis.org
SUMMARY:AA Burton’s Heroes Open -mixed In person/online
DESCRIPTION:
URL:https://recoverystlouis.org/event/aa-burtons-heroes-open-mixed-in-person-online/2028-07-18/
END:VEVENT
BEGIN:VEVENT
DTSTART;TZID=America/Denver:20280719T170000
DTEND;TZID=America/Denver:20280719T190000
DTSTAMP:20260423T030945
CREATED:20250513T054406Z
LAST-MODIFIED:20250513T054406Z
UID:10001724-1847638800-1847646000@recoverystlouis.org
SUMMARY:Private group
DESCRIPTION:
URL:https://recoverystlouis.org/event/private-group/2028-07-19/
END:VEVENT
BEGIN:VEVENT
DTSTART;TZID=America/Denver:20280720T100000
DTEND;TZID=America/Denver:20280720T111500
DTSTAMP:20260423T030945
CREATED:20250513T054602Z
LAST-MODIFIED:20250530T165143Z
UID:10002244-1847700000-1847704500@recoverystlouis.org
SUMMARY:AA Group 179 Open-mixed In person/online
DESCRIPTION:Zoom 598 988 635\nPW 241200
URL:https://recoverystlouis.org/event/aa-group-179-open-mixed-in-person-online/2028-07-20/
END:VEVENT
BEGIN:VEVENT
DTSTART;TZID=America/Denver:20280720T190000
DTEND;TZID=America/Denver:20280720T200000
DTSTAMP:20260423T030945
CREATED:20250513T055622Z
LAST-MODIFIED:20250513T055622Z
UID:10004324-1847732400-1847736000@recoverystlouis.org
SUMMARY:Recovery Dharma Independent/in person only Open-mixed
DESCRIPTION:Contact\nMichelle T\n(314) 495-8026
URL:https://recoverystlouis.org/event/recovery-dharma-independent-in-person-only-open-mixed/2028-07-20/
END:VEVENT
BEGIN:VEVENT
DTSTART;TZID=America/Denver:20280721T070500
DTEND;TZID=America/Denver:20280721T074500
DTSTAMP:20260423T030945
CREATED:20250513T055108Z
LAST-MODIFIED:20250513T055108Z
UID:10002764-1847775900-1847778300@recoverystlouis.org
SUMMARY:AA Closed/ Men only Primary Purpose Mens
DESCRIPTION:
URL:https://recoverystlouis.org/event/aa-closed-men-only-primary-purpose-mens/2028-07-21/
END:VEVENT
BEGIN:VEVENT
DTSTART;TZID=America/Denver:20280721T174500
DTEND;TZID=America/Denver:20280721T184500
DTSTAMP:20260423T030945
CREATED:20250513T055756Z
LAST-MODIFIED:20250513T055756Z
UID:10004844-1847814300-1847817900@recoverystlouis.org
SUMMARY:AA Group 413- happier Hour Women’s-Open In person/online
DESCRIPTION:Zoom 263 787 324\nPW 279425 \nContact\nLeigh H\n(314) 276-6953
URL:https://recoverystlouis.org/event/aa-group-413-happier-hour-womens-open-in-person-online/2028-07-21/
END:VEVENT
END:VCALENDAR