BEGIN:VCALENDAR
VERSION:2.0
PRODID:-//Recovery St. Louis - ECPv6.15.17.1//NONSGML v1.0//EN
CALSCALE:GREGORIAN
METHOD:PUBLISH
X-WR-CALNAME:Recovery St. Louis
X-ORIGINAL-URL:https://recoverystlouis.org
X-WR-CALDESC:Events for Recovery St. Louis
REFRESH-INTERVAL;VALUE=DURATION:PT1H
X-Robots-Tag:noindex
X-PUBLISHED-TTL:PT1H
BEGIN:VTIMEZONE
TZID:America/Denver
BEGIN:DAYLIGHT
TZOFFSETFROM:-0700
TZOFFSETTO:-0600
TZNAME:MDT
DTSTART:20250309T090000
END:DAYLIGHT
BEGIN:STANDARD
TZOFFSETFROM:-0600
TZOFFSETTO:-0700
TZNAME:MST
DTSTART:20251102T080000
END:STANDARD
BEGIN:DAYLIGHT
TZOFFSETFROM:-0700
TZOFFSETTO:-0600
TZNAME:MDT
DTSTART:20260308T090000
END:DAYLIGHT
BEGIN:STANDARD
TZOFFSETFROM:-0600
TZOFFSETTO:-0700
TZNAME:MST
DTSTART:20261101T080000
END:STANDARD
BEGIN:DAYLIGHT
TZOFFSETFROM:-0700
TZOFFSETTO:-0600
TZNAME:MDT
DTSTART:20270314T090000
END:DAYLIGHT
BEGIN:STANDARD
TZOFFSETFROM:-0600
TZOFFSETTO:-0700
TZNAME:MST
DTSTART:20271107T080000
END:STANDARD
END:VTIMEZONE
BEGIN:VEVENT
DTSTART;TZID=America/Denver:20261101T090000
DTEND;TZID=America/Denver:20261101T101500
DTSTAMP:20260420T234703
CREATED:20250428T191821Z
LAST-MODIFIED:20250512T070411Z
UID:10000077-1793523600-1793528100@recoverystlouis.org
SUMMARY:AA Group 255-FIVE AND DIME Closed-Mixed In person/online
DESCRIPTION:Zoom:845 2025 1856\nPW: 173321 \nContact\nMichael Mac\n314-249-8149
URL:https://recoverystlouis.org/event/lorem-ipsum/2026-11-01/
END:VEVENT
BEGIN:VEVENT
DTSTART;TZID=America/Denver:20261101T110000
DTEND;TZID=America/Denver:20261101T120000
DTSTAMP:20260420T234703
CREATED:20250513T055407Z
LAST-MODIFIED:20250513T055407Z
UID:10003194-1793530800-1793534400@recoverystlouis.org
SUMMARY:OA Sunday Recovery Open-mixed In person/online
DESCRIPTION:Zoom:264 689 861\nPW:066708 \nContact\nCathy K (314) 538-1331
URL:https://recoverystlouis.org/event/oa-sunday-recovery-open-mixed-in-person-online/2026-11-01/
END:VEVENT
BEGIN:VEVENT
DTSTART;TZID=America/Denver:20261102T180000
DTEND;TZID=America/Denver:20261102T190000
DTSTAMP:20260420T234703
CREATED:20250512T071133Z
LAST-MODIFIED:20250512T071133Z
UID:10000597-1793642400-1793646000@recoverystlouis.org
SUMMARY:I AM RESPONSIBLE Women’s-closed In person-online
DESCRIPTION:Zoom:191 385 271\nPW: 085501 \nContact Clare P\n(314) 448-2101
URL:https://recoverystlouis.org/event/i-am-responsible-womens-closed-in-person-online/2026-11-02/
END:VEVENT
BEGIN:VEVENT
DTSTART;TZID=America/Denver:20261103T173000
DTEND;TZID=America/Denver:20261103T183000
DTSTAMP:20260420T234703
CREATED:20250513T054121Z
LAST-MODIFIED:20250513T054121Z
UID:10001115-1793727000-1793730600@recoverystlouis.org
SUMMARY:AA Secular Sobriety Open-mixed In person/online
DESCRIPTION:Zoom: 343 811 2984\nPW 770507
URL:https://recoverystlouis.org/event/aa-secular-sobriety-open-mixed-in-person-online/2026-11-03/
END:VEVENT
BEGIN:VEVENT
DTSTART;TZID=America/Denver:20261103T190000
DTEND;TZID=America/Denver:20261103T200000
DTSTAMP:20260420T234703
CREATED:20250513T055457Z
LAST-MODIFIED:20250513T055457Z
UID:10003715-1793732400-1793736000@recoverystlouis.org
SUMMARY:AA Burton’s Heroes Open -mixed In person/online
DESCRIPTION:
URL:https://recoverystlouis.org/event/aa-burtons-heroes-open-mixed-in-person-online/2026-11-03/
END:VEVENT
BEGIN:VEVENT
DTSTART;TZID=America/Denver:20261104T170000
DTEND;TZID=America/Denver:20261104T190000
DTSTAMP:20260420T234703
CREATED:20250513T054406Z
LAST-MODIFIED:20250513T054406Z
UID:10001635-1793811600-1793818800@recoverystlouis.org
SUMMARY:Private group
DESCRIPTION:
URL:https://recoverystlouis.org/event/private-group/2026-11-04/
END:VEVENT
BEGIN:VEVENT
DTSTART;TZID=America/Denver:20261105T100000
DTEND;TZID=America/Denver:20261105T111500
DTSTAMP:20260420T234703
CREATED:20250513T054602Z
LAST-MODIFIED:20250530T165143Z
UID:10002155-1793872800-1793877300@recoverystlouis.org
SUMMARY:AA Group 179 Open-mixed In person/online
DESCRIPTION:Zoom 598 988 635\nPW 241200
URL:https://recoverystlouis.org/event/aa-group-179-open-mixed-in-person-online/2026-11-05/
END:VEVENT
BEGIN:VEVENT
DTSTART;TZID=America/Denver:20261105T190000
DTEND;TZID=America/Denver:20261105T200000
DTSTAMP:20260420T234703
CREATED:20250513T055622Z
LAST-MODIFIED:20250513T055622Z
UID:10004235-1793905200-1793908800@recoverystlouis.org
SUMMARY:Recovery Dharma Independent/in person only Open-mixed
DESCRIPTION:Contact\nMichelle T\n(314) 495-8026
URL:https://recoverystlouis.org/event/recovery-dharma-independent-in-person-only-open-mixed/2026-11-05/
END:VEVENT
BEGIN:VEVENT
DTSTART;TZID=America/Denver:20261106T070500
DTEND;TZID=America/Denver:20261106T074500
DTSTAMP:20260420T234703
CREATED:20250513T055108Z
LAST-MODIFIED:20250513T055108Z
UID:10002675-1793948700-1793951100@recoverystlouis.org
SUMMARY:AA Closed/ Men only Primary Purpose Mens
DESCRIPTION:
URL:https://recoverystlouis.org/event/aa-closed-men-only-primary-purpose-mens/2026-11-06/
END:VEVENT
BEGIN:VEVENT
DTSTART;TZID=America/Denver:20261106T174500
DTEND;TZID=America/Denver:20261106T184500
DTSTAMP:20260420T234703
CREATED:20250513T055756Z
LAST-MODIFIED:20250513T055756Z
UID:10004755-1793987100-1793990700@recoverystlouis.org
SUMMARY:AA Group 413- happier Hour Women’s-Open In person/online
DESCRIPTION:Zoom 263 787 324\nPW 279425 \nContact\nLeigh H\n(314) 276-6953
URL:https://recoverystlouis.org/event/aa-group-413-happier-hour-womens-open-in-person-online/2026-11-06/
END:VEVENT
BEGIN:VEVENT
DTSTART;TZID=America/Denver:20261108T090000
DTEND;TZID=America/Denver:20261108T101500
DTSTAMP:20260420T234703
CREATED:20250428T191821Z
LAST-MODIFIED:20250512T070411Z
UID:10000078-1794128400-1794132900@recoverystlouis.org
SUMMARY:AA Group 255-FIVE AND DIME Closed-Mixed In person/online
DESCRIPTION:Zoom:845 2025 1856\nPW: 173321 \nContact\nMichael Mac\n314-249-8149
URL:https://recoverystlouis.org/event/lorem-ipsum/2026-11-08/
END:VEVENT
BEGIN:VEVENT
DTSTART;TZID=America/Denver:20261108T110000
DTEND;TZID=America/Denver:20261108T120000
DTSTAMP:20260420T234703
CREATED:20250513T055407Z
LAST-MODIFIED:20250513T055407Z
UID:10003195-1794135600-1794139200@recoverystlouis.org
SUMMARY:OA Sunday Recovery Open-mixed In person/online
DESCRIPTION:Zoom:264 689 861\nPW:066708 \nContact\nCathy K (314) 538-1331
URL:https://recoverystlouis.org/event/oa-sunday-recovery-open-mixed-in-person-online/2026-11-08/
END:VEVENT
BEGIN:VEVENT
DTSTART;TZID=America/Denver:20261109T180000
DTEND;TZID=America/Denver:20261109T190000
DTSTAMP:20260420T234703
CREATED:20250512T071133Z
LAST-MODIFIED:20250512T071133Z
UID:10000598-1794247200-1794250800@recoverystlouis.org
SUMMARY:I AM RESPONSIBLE Women’s-closed In person-online
DESCRIPTION:Zoom:191 385 271\nPW: 085501 \nContact Clare P\n(314) 448-2101
URL:https://recoverystlouis.org/event/i-am-responsible-womens-closed-in-person-online/2026-11-09/
END:VEVENT
BEGIN:VEVENT
DTSTART;TZID=America/Denver:20261110T173000
DTEND;TZID=America/Denver:20261110T183000
DTSTAMP:20260420T234703
CREATED:20250513T054121Z
LAST-MODIFIED:20250513T054121Z
UID:10001116-1794331800-1794335400@recoverystlouis.org
SUMMARY:AA Secular Sobriety Open-mixed In person/online
DESCRIPTION:Zoom: 343 811 2984\nPW 770507
URL:https://recoverystlouis.org/event/aa-secular-sobriety-open-mixed-in-person-online/2026-11-10/
END:VEVENT
BEGIN:VEVENT
DTSTART;TZID=America/Denver:20261110T190000
DTEND;TZID=America/Denver:20261110T200000
DTSTAMP:20260420T234703
CREATED:20250513T055457Z
LAST-MODIFIED:20250513T055457Z
UID:10003716-1794337200-1794340800@recoverystlouis.org
SUMMARY:AA Burton’s Heroes Open -mixed In person/online
DESCRIPTION:
URL:https://recoverystlouis.org/event/aa-burtons-heroes-open-mixed-in-person-online/2026-11-10/
END:VEVENT
BEGIN:VEVENT
DTSTART;TZID=America/Denver:20261111T170000
DTEND;TZID=America/Denver:20261111T190000
DTSTAMP:20260420T234703
CREATED:20250513T054406Z
LAST-MODIFIED:20250513T054406Z
UID:10001636-1794416400-1794423600@recoverystlouis.org
SUMMARY:Private group
DESCRIPTION:
URL:https://recoverystlouis.org/event/private-group/2026-11-11/
END:VEVENT
BEGIN:VEVENT
DTSTART;TZID=America/Denver:20261112T100000
DTEND;TZID=America/Denver:20261112T111500
DTSTAMP:20260420T234703
CREATED:20250513T054602Z
LAST-MODIFIED:20250530T165143Z
UID:10002156-1794477600-1794482100@recoverystlouis.org
SUMMARY:AA Group 179 Open-mixed In person/online
DESCRIPTION:Zoom 598 988 635\nPW 241200
URL:https://recoverystlouis.org/event/aa-group-179-open-mixed-in-person-online/2026-11-12/
END:VEVENT
BEGIN:VEVENT
DTSTART;TZID=America/Denver:20261112T190000
DTEND;TZID=America/Denver:20261112T200000
DTSTAMP:20260420T234703
CREATED:20250513T055622Z
LAST-MODIFIED:20250513T055622Z
UID:10004236-1794510000-1794513600@recoverystlouis.org
SUMMARY:Recovery Dharma Independent/in person only Open-mixed
DESCRIPTION:Contact\nMichelle T\n(314) 495-8026
URL:https://recoverystlouis.org/event/recovery-dharma-independent-in-person-only-open-mixed/2026-11-12/
END:VEVENT
BEGIN:VEVENT
DTSTART;TZID=America/Denver:20261113T070500
DTEND;TZID=America/Denver:20261113T074500
DTSTAMP:20260420T234703
CREATED:20250513T055108Z
LAST-MODIFIED:20250513T055108Z
UID:10002676-1794553500-1794555900@recoverystlouis.org
SUMMARY:AA Closed/ Men only Primary Purpose Mens
DESCRIPTION:
URL:https://recoverystlouis.org/event/aa-closed-men-only-primary-purpose-mens/2026-11-13/
END:VEVENT
BEGIN:VEVENT
DTSTART;TZID=America/Denver:20261113T174500
DTEND;TZID=America/Denver:20261113T184500
DTSTAMP:20260420T234703
CREATED:20250513T055756Z
LAST-MODIFIED:20250513T055756Z
UID:10004756-1794591900-1794595500@recoverystlouis.org
SUMMARY:AA Group 413- happier Hour Women’s-Open In person/online
DESCRIPTION:Zoom 263 787 324\nPW 279425 \nContact\nLeigh H\n(314) 276-6953
URL:https://recoverystlouis.org/event/aa-group-413-happier-hour-womens-open-in-person-online/2026-11-13/
END:VEVENT
BEGIN:VEVENT
DTSTART;TZID=America/Denver:20261115T090000
DTEND;TZID=America/Denver:20261115T101500
DTSTAMP:20260420T234703
CREATED:20250428T191821Z
LAST-MODIFIED:20250512T070411Z
UID:10000079-1794733200-1794737700@recoverystlouis.org
SUMMARY:AA Group 255-FIVE AND DIME Closed-Mixed In person/online
DESCRIPTION:Zoom:845 2025 1856\nPW: 173321 \nContact\nMichael Mac\n314-249-8149
URL:https://recoverystlouis.org/event/lorem-ipsum/2026-11-15/
END:VEVENT
BEGIN:VEVENT
DTSTART;TZID=America/Denver:20261115T110000
DTEND;TZID=America/Denver:20261115T120000
DTSTAMP:20260420T234703
CREATED:20250513T055407Z
LAST-MODIFIED:20250513T055407Z
UID:10003196-1794740400-1794744000@recoverystlouis.org
SUMMARY:OA Sunday Recovery Open-mixed In person/online
DESCRIPTION:Zoom:264 689 861\nPW:066708 \nContact\nCathy K (314) 538-1331
URL:https://recoverystlouis.org/event/oa-sunday-recovery-open-mixed-in-person-online/2026-11-15/
END:VEVENT
BEGIN:VEVENT
DTSTART;TZID=America/Denver:20261116T180000
DTEND;TZID=America/Denver:20261116T190000
DTSTAMP:20260420T234703
CREATED:20250512T071133Z
LAST-MODIFIED:20250512T071133Z
UID:10000599-1794852000-1794855600@recoverystlouis.org
SUMMARY:I AM RESPONSIBLE Women’s-closed In person-online
DESCRIPTION:Zoom:191 385 271\nPW: 085501 \nContact Clare P\n(314) 448-2101
URL:https://recoverystlouis.org/event/i-am-responsible-womens-closed-in-person-online/2026-11-16/
END:VEVENT
BEGIN:VEVENT
DTSTART;TZID=America/Denver:20261117T173000
DTEND;TZID=America/Denver:20261117T183000
DTSTAMP:20260420T234703
CREATED:20250513T054121Z
LAST-MODIFIED:20250513T054121Z
UID:10001117-1794936600-1794940200@recoverystlouis.org
SUMMARY:AA Secular Sobriety Open-mixed In person/online
DESCRIPTION:Zoom: 343 811 2984\nPW 770507
URL:https://recoverystlouis.org/event/aa-secular-sobriety-open-mixed-in-person-online/2026-11-17/
END:VEVENT
BEGIN:VEVENT
DTSTART;TZID=America/Denver:20261117T190000
DTEND;TZID=America/Denver:20261117T200000
DTSTAMP:20260420T234703
CREATED:20250513T055457Z
LAST-MODIFIED:20250513T055457Z
UID:10003717-1794942000-1794945600@recoverystlouis.org
SUMMARY:AA Burton’s Heroes Open -mixed In person/online
DESCRIPTION:
URL:https://recoverystlouis.org/event/aa-burtons-heroes-open-mixed-in-person-online/2026-11-17/
END:VEVENT
BEGIN:VEVENT
DTSTART;TZID=America/Denver:20261118T170000
DTEND;TZID=America/Denver:20261118T190000
DTSTAMP:20260420T234703
CREATED:20250513T054406Z
LAST-MODIFIED:20250513T054406Z
UID:10001637-1795021200-1795028400@recoverystlouis.org
SUMMARY:Private group
DESCRIPTION:
URL:https://recoverystlouis.org/event/private-group/2026-11-18/
END:VEVENT
BEGIN:VEVENT
DTSTART;TZID=America/Denver:20261119T100000
DTEND;TZID=America/Denver:20261119T111500
DTSTAMP:20260420T234703
CREATED:20250513T054602Z
LAST-MODIFIED:20250530T165143Z
UID:10002157-1795082400-1795086900@recoverystlouis.org
SUMMARY:AA Group 179 Open-mixed In person/online
DESCRIPTION:Zoom 598 988 635\nPW 241200
URL:https://recoverystlouis.org/event/aa-group-179-open-mixed-in-person-online/2026-11-19/
END:VEVENT
BEGIN:VEVENT
DTSTART;TZID=America/Denver:20261119T190000
DTEND;TZID=America/Denver:20261119T200000
DTSTAMP:20260420T234703
CREATED:20250513T055622Z
LAST-MODIFIED:20250513T055622Z
UID:10004237-1795114800-1795118400@recoverystlouis.org
SUMMARY:Recovery Dharma Independent/in person only Open-mixed
DESCRIPTION:Contact\nMichelle T\n(314) 495-8026
URL:https://recoverystlouis.org/event/recovery-dharma-independent-in-person-only-open-mixed/2026-11-19/
END:VEVENT
BEGIN:VEVENT
DTSTART;TZID=America/Denver:20261120T070500
DTEND;TZID=America/Denver:20261120T074500
DTSTAMP:20260420T234703
CREATED:20250513T055108Z
LAST-MODIFIED:20250513T055108Z
UID:10002677-1795158300-1795160700@recoverystlouis.org
SUMMARY:AA Closed/ Men only Primary Purpose Mens
DESCRIPTION:
URL:https://recoverystlouis.org/event/aa-closed-men-only-primary-purpose-mens/2026-11-20/
END:VEVENT
BEGIN:VEVENT
DTSTART;TZID=America/Denver:20261120T174500
DTEND;TZID=America/Denver:20261120T184500
DTSTAMP:20260420T234703
CREATED:20250513T055756Z
LAST-MODIFIED:20250513T055756Z
UID:10004757-1795196700-1795200300@recoverystlouis.org
SUMMARY:AA Group 413- happier Hour Women’s-Open In person/online
DESCRIPTION:Zoom 263 787 324\nPW 279425 \nContact\nLeigh H\n(314) 276-6953
URL:https://recoverystlouis.org/event/aa-group-413-happier-hour-womens-open-in-person-online/2026-11-20/
END:VEVENT
END:VCALENDAR