BEGIN:VCALENDAR
VERSION:2.0
PRODID:-//Recovery St. Louis - ECPv6.15.17.1//NONSGML v1.0//EN
CALSCALE:GREGORIAN
METHOD:PUBLISH
X-WR-CALNAME:Recovery St. Louis
X-ORIGINAL-URL:https://recoverystlouis.org
X-WR-CALDESC:Events for Recovery St. Louis
REFRESH-INTERVAL;VALUE=DURATION:PT1H
X-Robots-Tag:noindex
X-PUBLISHED-TTL:PT1H
BEGIN:VTIMEZONE
TZID:America/Denver
BEGIN:DAYLIGHT
TZOFFSETFROM:-0700
TZOFFSETTO:-0600
TZNAME:MDT
DTSTART:20260308T090000
END:DAYLIGHT
BEGIN:STANDARD
TZOFFSETFROM:-0600
TZOFFSETTO:-0700
TZNAME:MST
DTSTART:20261101T080000
END:STANDARD
BEGIN:DAYLIGHT
TZOFFSETFROM:-0700
TZOFFSETTO:-0600
TZNAME:MDT
DTSTART:20270314T090000
END:DAYLIGHT
BEGIN:STANDARD
TZOFFSETFROM:-0600
TZOFFSETTO:-0700
TZNAME:MST
DTSTART:20271107T080000
END:STANDARD
BEGIN:DAYLIGHT
TZOFFSETFROM:-0700
TZOFFSETTO:-0600
TZNAME:MDT
DTSTART:20280312T090000
END:DAYLIGHT
BEGIN:STANDARD
TZOFFSETFROM:-0600
TZOFFSETTO:-0700
TZNAME:MST
DTSTART:20281105T080000
END:STANDARD
END:VTIMEZONE
BEGIN:VEVENT
DTSTART;TZID=America/Denver:20270917T070500
DTEND;TZID=America/Denver:20270917T074500
DTSTAMP:20260422T163721
CREATED:20250513T055108Z
LAST-MODIFIED:20250513T055108Z
UID:10002720-1821164700-1821167100@recoverystlouis.org
SUMMARY:AA Closed/ Men only Primary Purpose Mens
DESCRIPTION:
URL:https://recoverystlouis.org/event/aa-closed-men-only-primary-purpose-mens/2027-09-17/
END:VEVENT
BEGIN:VEVENT
DTSTART;TZID=America/Denver:20270917T174500
DTEND;TZID=America/Denver:20270917T184500
DTSTAMP:20260422T163721
CREATED:20250513T055756Z
LAST-MODIFIED:20250513T055756Z
UID:10004800-1821203100-1821206700@recoverystlouis.org
SUMMARY:AA Group 413- happier Hour Women’s-Open In person/online
DESCRIPTION:Zoom 263 787 324\nPW 279425 \nContact\nLeigh H\n(314) 276-6953
URL:https://recoverystlouis.org/event/aa-group-413-happier-hour-womens-open-in-person-online/2027-09-17/
END:VEVENT
BEGIN:VEVENT
DTSTART;TZID=America/Denver:20270919T090000
DTEND;TZID=America/Denver:20270919T101500
DTSTAMP:20260422T163721
CREATED:20250428T191821Z
LAST-MODIFIED:20250512T070411Z
UID:10000123-1821344400-1821348900@recoverystlouis.org
SUMMARY:AA Group 255-FIVE AND DIME Closed-Mixed In person/online
DESCRIPTION:Zoom:845 2025 1856\nPW: 173321 \nContact\nMichael Mac\n314-249-8149
URL:https://recoverystlouis.org/event/lorem-ipsum/2027-09-19/
END:VEVENT
BEGIN:VEVENT
DTSTART;TZID=America/Denver:20270919T110000
DTEND;TZID=America/Denver:20270919T120000
DTSTAMP:20260422T163721
CREATED:20250513T055407Z
LAST-MODIFIED:20250513T055407Z
UID:10003240-1821351600-1821355200@recoverystlouis.org
SUMMARY:OA Sunday Recovery Open-mixed In person/online
DESCRIPTION:Zoom:264 689 861\nPW:066708 \nContact\nCathy K (314) 538-1331
URL:https://recoverystlouis.org/event/oa-sunday-recovery-open-mixed-in-person-online/2027-09-19/
END:VEVENT
BEGIN:VEVENT
DTSTART;TZID=America/Denver:20270920T180000
DTEND;TZID=America/Denver:20270920T190000
DTSTAMP:20260422T163721
CREATED:20250512T071133Z
LAST-MODIFIED:20250512T071133Z
UID:10000643-1821463200-1821466800@recoverystlouis.org
SUMMARY:I AM RESPONSIBLE Women’s-closed In person-online
DESCRIPTION:Zoom:191 385 271\nPW: 085501 \nContact Clare P\n(314) 448-2101
URL:https://recoverystlouis.org/event/i-am-responsible-womens-closed-in-person-online/2027-09-20/
END:VEVENT
BEGIN:VEVENT
DTSTART;TZID=America/Denver:20270921T173000
DTEND;TZID=America/Denver:20270921T183000
DTSTAMP:20260422T163721
CREATED:20250513T054121Z
LAST-MODIFIED:20250513T054121Z
UID:10001161-1821547800-1821551400@recoverystlouis.org
SUMMARY:AA Secular Sobriety Open-mixed In person/online
DESCRIPTION:Zoom: 343 811 2984\nPW 770507
URL:https://recoverystlouis.org/event/aa-secular-sobriety-open-mixed-in-person-online/2027-09-21/
END:VEVENT
BEGIN:VEVENT
DTSTART;TZID=America/Denver:20270921T190000
DTEND;TZID=America/Denver:20270921T200000
DTSTAMP:20260422T163721
CREATED:20250513T055457Z
LAST-MODIFIED:20250513T055457Z
UID:10003761-1821553200-1821556800@recoverystlouis.org
SUMMARY:AA Burton’s Heroes Open -mixed In person/online
DESCRIPTION:
URL:https://recoverystlouis.org/event/aa-burtons-heroes-open-mixed-in-person-online/2027-09-21/
END:VEVENT
BEGIN:VEVENT
DTSTART;TZID=America/Denver:20270922T170000
DTEND;TZID=America/Denver:20270922T190000
DTSTAMP:20260422T163721
CREATED:20250513T054406Z
LAST-MODIFIED:20250513T054406Z
UID:10001681-1821632400-1821639600@recoverystlouis.org
SUMMARY:Private group
DESCRIPTION:
URL:https://recoverystlouis.org/event/private-group/2027-09-22/
END:VEVENT
BEGIN:VEVENT
DTSTART;TZID=America/Denver:20270923T100000
DTEND;TZID=America/Denver:20270923T111500
DTSTAMP:20260422T163721
CREATED:20250513T054602Z
LAST-MODIFIED:20250530T165143Z
UID:10002201-1821693600-1821698100@recoverystlouis.org
SUMMARY:AA Group 179 Open-mixed In person/online
DESCRIPTION:Zoom 598 988 635\nPW 241200
URL:https://recoverystlouis.org/event/aa-group-179-open-mixed-in-person-online/2027-09-23/
END:VEVENT
BEGIN:VEVENT
DTSTART;TZID=America/Denver:20270923T190000
DTEND;TZID=America/Denver:20270923T200000
DTSTAMP:20260422T163721
CREATED:20250513T055622Z
LAST-MODIFIED:20250513T055622Z
UID:10004281-1821726000-1821729600@recoverystlouis.org
SUMMARY:Recovery Dharma Independent/in person only Open-mixed
DESCRIPTION:Contact\nMichelle T\n(314) 495-8026
URL:https://recoverystlouis.org/event/recovery-dharma-independent-in-person-only-open-mixed/2027-09-23/
END:VEVENT
BEGIN:VEVENT
DTSTART;TZID=America/Denver:20270924T070500
DTEND;TZID=America/Denver:20270924T074500
DTSTAMP:20260422T163721
CREATED:20250513T055108Z
LAST-MODIFIED:20250513T055108Z
UID:10002721-1821769500-1821771900@recoverystlouis.org
SUMMARY:AA Closed/ Men only Primary Purpose Mens
DESCRIPTION:
URL:https://recoverystlouis.org/event/aa-closed-men-only-primary-purpose-mens/2027-09-24/
END:VEVENT
BEGIN:VEVENT
DTSTART;TZID=America/Denver:20270924T174500
DTEND;TZID=America/Denver:20270924T184500
DTSTAMP:20260422T163721
CREATED:20250513T055756Z
LAST-MODIFIED:20250513T055756Z
UID:10004801-1821807900-1821811500@recoverystlouis.org
SUMMARY:AA Group 413- happier Hour Women’s-Open In person/online
DESCRIPTION:Zoom 263 787 324\nPW 279425 \nContact\nLeigh H\n(314) 276-6953
URL:https://recoverystlouis.org/event/aa-group-413-happier-hour-womens-open-in-person-online/2027-09-24/
END:VEVENT
BEGIN:VEVENT
DTSTART;TZID=America/Denver:20270926T090000
DTEND;TZID=America/Denver:20270926T101500
DTSTAMP:20260422T163721
CREATED:20250428T191821Z
LAST-MODIFIED:20250512T070411Z
UID:10000124-1821949200-1821953700@recoverystlouis.org
SUMMARY:AA Group 255-FIVE AND DIME Closed-Mixed In person/online
DESCRIPTION:Zoom:845 2025 1856\nPW: 173321 \nContact\nMichael Mac\n314-249-8149
URL:https://recoverystlouis.org/event/lorem-ipsum/2027-09-26/
END:VEVENT
BEGIN:VEVENT
DTSTART;TZID=America/Denver:20270926T110000
DTEND;TZID=America/Denver:20270926T120000
DTSTAMP:20260422T163721
CREATED:20250513T055407Z
LAST-MODIFIED:20250513T055407Z
UID:10003241-1821956400-1821960000@recoverystlouis.org
SUMMARY:OA Sunday Recovery Open-mixed In person/online
DESCRIPTION:Zoom:264 689 861\nPW:066708 \nContact\nCathy K (314) 538-1331
URL:https://recoverystlouis.org/event/oa-sunday-recovery-open-mixed-in-person-online/2027-09-26/
END:VEVENT
BEGIN:VEVENT
DTSTART;TZID=America/Denver:20270927T180000
DTEND;TZID=America/Denver:20270927T190000
DTSTAMP:20260422T163721
CREATED:20250512T071133Z
LAST-MODIFIED:20250512T071133Z
UID:10000644-1822068000-1822071600@recoverystlouis.org
SUMMARY:I AM RESPONSIBLE Women’s-closed In person-online
DESCRIPTION:Zoom:191 385 271\nPW: 085501 \nContact Clare P\n(314) 448-2101
URL:https://recoverystlouis.org/event/i-am-responsible-womens-closed-in-person-online/2027-09-27/
END:VEVENT
BEGIN:VEVENT
DTSTART;TZID=America/Denver:20270928T173000
DTEND;TZID=America/Denver:20270928T183000
DTSTAMP:20260422T163721
CREATED:20250513T054121Z
LAST-MODIFIED:20250513T054121Z
UID:10001162-1822152600-1822156200@recoverystlouis.org
SUMMARY:AA Secular Sobriety Open-mixed In person/online
DESCRIPTION:Zoom: 343 811 2984\nPW 770507
URL:https://recoverystlouis.org/event/aa-secular-sobriety-open-mixed-in-person-online/2027-09-28/
END:VEVENT
BEGIN:VEVENT
DTSTART;TZID=America/Denver:20270928T190000
DTEND;TZID=America/Denver:20270928T200000
DTSTAMP:20260422T163721
CREATED:20250513T055457Z
LAST-MODIFIED:20250513T055457Z
UID:10003762-1822158000-1822161600@recoverystlouis.org
SUMMARY:AA Burton’s Heroes Open -mixed In person/online
DESCRIPTION:
URL:https://recoverystlouis.org/event/aa-burtons-heroes-open-mixed-in-person-online/2027-09-28/
END:VEVENT
BEGIN:VEVENT
DTSTART;TZID=America/Denver:20270929T170000
DTEND;TZID=America/Denver:20270929T190000
DTSTAMP:20260422T163721
CREATED:20250513T054406Z
LAST-MODIFIED:20250513T054406Z
UID:10001682-1822237200-1822244400@recoverystlouis.org
SUMMARY:Private group
DESCRIPTION:
URL:https://recoverystlouis.org/event/private-group/2027-09-29/
END:VEVENT
BEGIN:VEVENT
DTSTART;TZID=America/Denver:20270930T100000
DTEND;TZID=America/Denver:20270930T111500
DTSTAMP:20260422T163721
CREATED:20250513T054602Z
LAST-MODIFIED:20250530T165143Z
UID:10002202-1822298400-1822302900@recoverystlouis.org
SUMMARY:AA Group 179 Open-mixed In person/online
DESCRIPTION:Zoom 598 988 635\nPW 241200
URL:https://recoverystlouis.org/event/aa-group-179-open-mixed-in-person-online/2027-09-30/
END:VEVENT
BEGIN:VEVENT
DTSTART;TZID=America/Denver:20270930T190000
DTEND;TZID=America/Denver:20270930T200000
DTSTAMP:20260422T163721
CREATED:20250513T055622Z
LAST-MODIFIED:20250513T055622Z
UID:10004282-1822330800-1822334400@recoverystlouis.org
SUMMARY:Recovery Dharma Independent/in person only Open-mixed
DESCRIPTION:Contact\nMichelle T\n(314) 495-8026
URL:https://recoverystlouis.org/event/recovery-dharma-independent-in-person-only-open-mixed/2027-09-30/
END:VEVENT
BEGIN:VEVENT
DTSTART;TZID=America/Denver:20271001T070500
DTEND;TZID=America/Denver:20271001T074500
DTSTAMP:20260422T163721
CREATED:20250513T055108Z
LAST-MODIFIED:20250513T055108Z
UID:10002722-1822374300-1822376700@recoverystlouis.org
SUMMARY:AA Closed/ Men only Primary Purpose Mens
DESCRIPTION:
URL:https://recoverystlouis.org/event/aa-closed-men-only-primary-purpose-mens/2027-10-01/
END:VEVENT
BEGIN:VEVENT
DTSTART;TZID=America/Denver:20271001T174500
DTEND;TZID=America/Denver:20271001T184500
DTSTAMP:20260422T163721
CREATED:20250513T055756Z
LAST-MODIFIED:20250513T055756Z
UID:10004802-1822412700-1822416300@recoverystlouis.org
SUMMARY:AA Group 413- happier Hour Women’s-Open In person/online
DESCRIPTION:Zoom 263 787 324\nPW 279425 \nContact\nLeigh H\n(314) 276-6953
URL:https://recoverystlouis.org/event/aa-group-413-happier-hour-womens-open-in-person-online/2027-10-01/
END:VEVENT
BEGIN:VEVENT
DTSTART;TZID=America/Denver:20271003T090000
DTEND;TZID=America/Denver:20271003T101500
DTSTAMP:20260422T163721
CREATED:20250428T191821Z
LAST-MODIFIED:20250512T070411Z
UID:10000125-1822554000-1822558500@recoverystlouis.org
SUMMARY:AA Group 255-FIVE AND DIME Closed-Mixed In person/online
DESCRIPTION:Zoom:845 2025 1856\nPW: 173321 \nContact\nMichael Mac\n314-249-8149
URL:https://recoverystlouis.org/event/lorem-ipsum/2027-10-03/
END:VEVENT
BEGIN:VEVENT
DTSTART;TZID=America/Denver:20271003T110000
DTEND;TZID=America/Denver:20271003T120000
DTSTAMP:20260422T163721
CREATED:20250513T055407Z
LAST-MODIFIED:20250513T055407Z
UID:10003242-1822561200-1822564800@recoverystlouis.org
SUMMARY:OA Sunday Recovery Open-mixed In person/online
DESCRIPTION:Zoom:264 689 861\nPW:066708 \nContact\nCathy K (314) 538-1331
URL:https://recoverystlouis.org/event/oa-sunday-recovery-open-mixed-in-person-online/2027-10-03/
END:VEVENT
BEGIN:VEVENT
DTSTART;TZID=America/Denver:20271004T180000
DTEND;TZID=America/Denver:20271004T190000
DTSTAMP:20260422T163721
CREATED:20250512T071133Z
LAST-MODIFIED:20250512T071133Z
UID:10000645-1822672800-1822676400@recoverystlouis.org
SUMMARY:I AM RESPONSIBLE Women’s-closed In person-online
DESCRIPTION:Zoom:191 385 271\nPW: 085501 \nContact Clare P\n(314) 448-2101
URL:https://recoverystlouis.org/event/i-am-responsible-womens-closed-in-person-online/2027-10-04/
END:VEVENT
BEGIN:VEVENT
DTSTART;TZID=America/Denver:20271005T173000
DTEND;TZID=America/Denver:20271005T183000
DTSTAMP:20260422T163721
CREATED:20250513T054121Z
LAST-MODIFIED:20250513T054121Z
UID:10001163-1822757400-1822761000@recoverystlouis.org
SUMMARY:AA Secular Sobriety Open-mixed In person/online
DESCRIPTION:Zoom: 343 811 2984\nPW 770507
URL:https://recoverystlouis.org/event/aa-secular-sobriety-open-mixed-in-person-online/2027-10-05/
END:VEVENT
BEGIN:VEVENT
DTSTART;TZID=America/Denver:20271005T190000
DTEND;TZID=America/Denver:20271005T200000
DTSTAMP:20260422T163721
CREATED:20250513T055457Z
LAST-MODIFIED:20250513T055457Z
UID:10003763-1822762800-1822766400@recoverystlouis.org
SUMMARY:AA Burton’s Heroes Open -mixed In person/online
DESCRIPTION:
URL:https://recoverystlouis.org/event/aa-burtons-heroes-open-mixed-in-person-online/2027-10-05/
END:VEVENT
BEGIN:VEVENT
DTSTART;TZID=America/Denver:20271006T170000
DTEND;TZID=America/Denver:20271006T190000
DTSTAMP:20260422T163721
CREATED:20250513T054406Z
LAST-MODIFIED:20250513T054406Z
UID:10001683-1822842000-1822849200@recoverystlouis.org
SUMMARY:Private group
DESCRIPTION:
URL:https://recoverystlouis.org/event/private-group/2027-10-06/
END:VEVENT
BEGIN:VEVENT
DTSTART;TZID=America/Denver:20271007T100000
DTEND;TZID=America/Denver:20271007T111500
DTSTAMP:20260422T163721
CREATED:20250513T054602Z
LAST-MODIFIED:20250530T165143Z
UID:10002203-1822903200-1822907700@recoverystlouis.org
SUMMARY:AA Group 179 Open-mixed In person/online
DESCRIPTION:Zoom 598 988 635\nPW 241200
URL:https://recoverystlouis.org/event/aa-group-179-open-mixed-in-person-online/2027-10-07/
END:VEVENT
BEGIN:VEVENT
DTSTART;TZID=America/Denver:20271007T190000
DTEND;TZID=America/Denver:20271007T200000
DTSTAMP:20260422T163721
CREATED:20250513T055622Z
LAST-MODIFIED:20250513T055622Z
UID:10004283-1822935600-1822939200@recoverystlouis.org
SUMMARY:Recovery Dharma Independent/in person only Open-mixed
DESCRIPTION:Contact\nMichelle T\n(314) 495-8026
URL:https://recoverystlouis.org/event/recovery-dharma-independent-in-person-only-open-mixed/2027-10-07/
END:VEVENT
END:VCALENDAR