BEGIN:VCALENDAR
VERSION:2.0
PRODID:-//Recovery St. Louis - ECPv6.15.17.1//NONSGML v1.0//EN
CALSCALE:GREGORIAN
METHOD:PUBLISH
X-WR-CALNAME:Recovery St. Louis
X-ORIGINAL-URL:https://recoverystlouis.org
X-WR-CALDESC:Events for Recovery St. Louis
REFRESH-INTERVAL;VALUE=DURATION:PT1H
X-Robots-Tag:noindex
X-PUBLISHED-TTL:PT1H
BEGIN:VTIMEZONE
TZID:America/Denver
BEGIN:DAYLIGHT
TZOFFSETFROM:-0700
TZOFFSETTO:-0600
TZNAME:MDT
DTSTART:20260308T090000
END:DAYLIGHT
BEGIN:STANDARD
TZOFFSETFROM:-0600
TZOFFSETTO:-0700
TZNAME:MST
DTSTART:20261101T080000
END:STANDARD
BEGIN:DAYLIGHT
TZOFFSETFROM:-0700
TZOFFSETTO:-0600
TZNAME:MDT
DTSTART:20270314T090000
END:DAYLIGHT
BEGIN:STANDARD
TZOFFSETFROM:-0600
TZOFFSETTO:-0700
TZNAME:MST
DTSTART:20271107T080000
END:STANDARD
BEGIN:DAYLIGHT
TZOFFSETFROM:-0700
TZOFFSETTO:-0600
TZNAME:MDT
DTSTART:20280312T090000
END:DAYLIGHT
BEGIN:STANDARD
TZOFFSETFROM:-0600
TZOFFSETTO:-0700
TZNAME:MST
DTSTART:20281105T080000
END:STANDARD
END:VTIMEZONE
BEGIN:VEVENT
DTSTART;TZID=America/Denver:20270420T173000
DTEND;TZID=America/Denver:20270420T183000
DTSTAMP:20260422T155200
CREATED:20250513T054121Z
LAST-MODIFIED:20250513T054121Z
UID:10001139-1808242200-1808245800@recoverystlouis.org
SUMMARY:AA Secular Sobriety Open-mixed In person/online
DESCRIPTION:Zoom: 343 811 2984\nPW 770507
URL:https://recoverystlouis.org/event/aa-secular-sobriety-open-mixed-in-person-online/2027-04-20/
END:VEVENT
BEGIN:VEVENT
DTSTART;TZID=America/Denver:20270419T180000
DTEND;TZID=America/Denver:20270419T190000
DTSTAMP:20260422T155200
CREATED:20250512T071133Z
LAST-MODIFIED:20250512T071133Z
UID:10000621-1808157600-1808161200@recoverystlouis.org
SUMMARY:I AM RESPONSIBLE Women’s-closed In person-online
DESCRIPTION:Zoom:191 385 271\nPW: 085501 \nContact Clare P\n(314) 448-2101
URL:https://recoverystlouis.org/event/i-am-responsible-womens-closed-in-person-online/2027-04-19/
END:VEVENT
BEGIN:VEVENT
DTSTART;TZID=America/Denver:20270418T110000
DTEND;TZID=America/Denver:20270418T120000
DTSTAMP:20260422T155200
CREATED:20250513T055407Z
LAST-MODIFIED:20250513T055407Z
UID:10003218-1808046000-1808049600@recoverystlouis.org
SUMMARY:OA Sunday Recovery Open-mixed In person/online
DESCRIPTION:Zoom:264 689 861\nPW:066708 \nContact\nCathy K (314) 538-1331
URL:https://recoverystlouis.org/event/oa-sunday-recovery-open-mixed-in-person-online/2027-04-18/
END:VEVENT
BEGIN:VEVENT
DTSTART;TZID=America/Denver:20270418T090000
DTEND;TZID=America/Denver:20270418T101500
DTSTAMP:20260422T155200
CREATED:20250428T191821Z
LAST-MODIFIED:20250512T070411Z
UID:10000101-1808038800-1808043300@recoverystlouis.org
SUMMARY:AA Group 255-FIVE AND DIME Closed-Mixed In person/online
DESCRIPTION:Zoom:845 2025 1856\nPW: 173321 \nContact\nMichael Mac\n314-249-8149
URL:https://recoverystlouis.org/event/lorem-ipsum/2027-04-18/
END:VEVENT
BEGIN:VEVENT
DTSTART;TZID=America/Denver:20270416T174500
DTEND;TZID=America/Denver:20270416T184500
DTSTAMP:20260422T155200
CREATED:20250513T055756Z
LAST-MODIFIED:20250513T055756Z
UID:10004778-1807897500-1807901100@recoverystlouis.org
SUMMARY:AA Group 413- happier Hour Women’s-Open In person/online
DESCRIPTION:Zoom 263 787 324\nPW 279425 \nContact\nLeigh H\n(314) 276-6953
URL:https://recoverystlouis.org/event/aa-group-413-happier-hour-womens-open-in-person-online/2027-04-16/
END:VEVENT
BEGIN:VEVENT
DTSTART;TZID=America/Denver:20270416T070500
DTEND;TZID=America/Denver:20270416T074500
DTSTAMP:20260422T155200
CREATED:20250513T055108Z
LAST-MODIFIED:20250513T055108Z
UID:10002698-1807859100-1807861500@recoverystlouis.org
SUMMARY:AA Closed/ Men only Primary Purpose Mens
DESCRIPTION:
URL:https://recoverystlouis.org/event/aa-closed-men-only-primary-purpose-mens/2027-04-16/
END:VEVENT
BEGIN:VEVENT
DTSTART;TZID=America/Denver:20270415T190000
DTEND;TZID=America/Denver:20270415T200000
DTSTAMP:20260422T155200
CREATED:20250513T055622Z
LAST-MODIFIED:20250513T055622Z
UID:10004258-1807815600-1807819200@recoverystlouis.org
SUMMARY:Recovery Dharma Independent/in person only Open-mixed
DESCRIPTION:Contact\nMichelle T\n(314) 495-8026
URL:https://recoverystlouis.org/event/recovery-dharma-independent-in-person-only-open-mixed/2027-04-15/
END:VEVENT
BEGIN:VEVENT
DTSTART;TZID=America/Denver:20270415T100000
DTEND;TZID=America/Denver:20270415T111500
DTSTAMP:20260422T155200
CREATED:20250513T054602Z
LAST-MODIFIED:20250530T165143Z
UID:10002178-1807783200-1807787700@recoverystlouis.org
SUMMARY:AA Group 179 Open-mixed In person/online
DESCRIPTION:Zoom 598 988 635\nPW 241200
URL:https://recoverystlouis.org/event/aa-group-179-open-mixed-in-person-online/2027-04-15/
END:VEVENT
BEGIN:VEVENT
DTSTART;TZID=America/Denver:20270414T170000
DTEND;TZID=America/Denver:20270414T190000
DTSTAMP:20260422T155200
CREATED:20250513T054406Z
LAST-MODIFIED:20250513T054406Z
UID:10001658-1807722000-1807729200@recoverystlouis.org
SUMMARY:Private group
DESCRIPTION:
URL:https://recoverystlouis.org/event/private-group/2027-04-14/
END:VEVENT
BEGIN:VEVENT
DTSTART;TZID=America/Denver:20270413T190000
DTEND;TZID=America/Denver:20270413T200000
DTSTAMP:20260422T155201
CREATED:20250513T055457Z
LAST-MODIFIED:20250513T055457Z
UID:10003738-1807642800-1807646400@recoverystlouis.org
SUMMARY:AA Burton’s Heroes Open -mixed In person/online
DESCRIPTION:
URL:https://recoverystlouis.org/event/aa-burtons-heroes-open-mixed-in-person-online/2027-04-13/
END:VEVENT
BEGIN:VEVENT
DTSTART;TZID=America/Denver:20270413T173000
DTEND;TZID=America/Denver:20270413T183000
DTSTAMP:20260422T155201
CREATED:20250513T054121Z
LAST-MODIFIED:20250513T054121Z
UID:10001138-1807637400-1807641000@recoverystlouis.org
SUMMARY:AA Secular Sobriety Open-mixed In person/online
DESCRIPTION:Zoom: 343 811 2984\nPW 770507
URL:https://recoverystlouis.org/event/aa-secular-sobriety-open-mixed-in-person-online/2027-04-13/
END:VEVENT
BEGIN:VEVENT
DTSTART;TZID=America/Denver:20270412T180000
DTEND;TZID=America/Denver:20270412T190000
DTSTAMP:20260422T155201
CREATED:20250512T071133Z
LAST-MODIFIED:20250512T071133Z
UID:10000620-1807552800-1807556400@recoverystlouis.org
SUMMARY:I AM RESPONSIBLE Women’s-closed In person-online
DESCRIPTION:Zoom:191 385 271\nPW: 085501 \nContact Clare P\n(314) 448-2101
URL:https://recoverystlouis.org/event/i-am-responsible-womens-closed-in-person-online/2027-04-12/
END:VEVENT
BEGIN:VEVENT
DTSTART;TZID=America/Denver:20270411T110000
DTEND;TZID=America/Denver:20270411T120000
DTSTAMP:20260422T155201
CREATED:20250513T055407Z
LAST-MODIFIED:20250513T055407Z
UID:10003217-1807441200-1807444800@recoverystlouis.org
SUMMARY:OA Sunday Recovery Open-mixed In person/online
DESCRIPTION:Zoom:264 689 861\nPW:066708 \nContact\nCathy K (314) 538-1331
URL:https://recoverystlouis.org/event/oa-sunday-recovery-open-mixed-in-person-online/2027-04-11/
END:VEVENT
BEGIN:VEVENT
DTSTART;TZID=America/Denver:20270411T090000
DTEND;TZID=America/Denver:20270411T101500
DTSTAMP:20260422T155201
CREATED:20250428T191821Z
LAST-MODIFIED:20250512T070411Z
UID:10000100-1807434000-1807438500@recoverystlouis.org
SUMMARY:AA Group 255-FIVE AND DIME Closed-Mixed In person/online
DESCRIPTION:Zoom:845 2025 1856\nPW: 173321 \nContact\nMichael Mac\n314-249-8149
URL:https://recoverystlouis.org/event/lorem-ipsum/2027-04-11/
END:VEVENT
BEGIN:VEVENT
DTSTART;TZID=America/Denver:20270409T174500
DTEND;TZID=America/Denver:20270409T184500
DTSTAMP:20260422T155201
CREATED:20250513T055756Z
LAST-MODIFIED:20250513T055756Z
UID:10004777-1807292700-1807296300@recoverystlouis.org
SUMMARY:AA Group 413- happier Hour Women’s-Open In person/online
DESCRIPTION:Zoom 263 787 324\nPW 279425 \nContact\nLeigh H\n(314) 276-6953
URL:https://recoverystlouis.org/event/aa-group-413-happier-hour-womens-open-in-person-online/2027-04-09/
END:VEVENT
BEGIN:VEVENT
DTSTART;TZID=America/Denver:20270409T070500
DTEND;TZID=America/Denver:20270409T074500
DTSTAMP:20260422T155201
CREATED:20250513T055108Z
LAST-MODIFIED:20250513T055108Z
UID:10002697-1807254300-1807256700@recoverystlouis.org
SUMMARY:AA Closed/ Men only Primary Purpose Mens
DESCRIPTION:
URL:https://recoverystlouis.org/event/aa-closed-men-only-primary-purpose-mens/2027-04-09/
END:VEVENT
BEGIN:VEVENT
DTSTART;TZID=America/Denver:20270408T190000
DTEND;TZID=America/Denver:20270408T200000
DTSTAMP:20260422T155201
CREATED:20250513T055622Z
LAST-MODIFIED:20250513T055622Z
UID:10004257-1807210800-1807214400@recoverystlouis.org
SUMMARY:Recovery Dharma Independent/in person only Open-mixed
DESCRIPTION:Contact\nMichelle T\n(314) 495-8026
URL:https://recoverystlouis.org/event/recovery-dharma-independent-in-person-only-open-mixed/2027-04-08/
END:VEVENT
BEGIN:VEVENT
DTSTART;TZID=America/Denver:20270408T100000
DTEND;TZID=America/Denver:20270408T111500
DTSTAMP:20260422T155201
CREATED:20250513T054602Z
LAST-MODIFIED:20250530T165143Z
UID:10002177-1807178400-1807182900@recoverystlouis.org
SUMMARY:AA Group 179 Open-mixed In person/online
DESCRIPTION:Zoom 598 988 635\nPW 241200
URL:https://recoverystlouis.org/event/aa-group-179-open-mixed-in-person-online/2027-04-08/
END:VEVENT
BEGIN:VEVENT
DTSTART;TZID=America/Denver:20270407T170000
DTEND;TZID=America/Denver:20270407T190000
DTSTAMP:20260422T155201
CREATED:20250513T054406Z
LAST-MODIFIED:20250513T054406Z
UID:10001657-1807117200-1807124400@recoverystlouis.org
SUMMARY:Private group
DESCRIPTION:
URL:https://recoverystlouis.org/event/private-group/2027-04-07/
END:VEVENT
BEGIN:VEVENT
DTSTART;TZID=America/Denver:20270406T190000
DTEND;TZID=America/Denver:20270406T200000
DTSTAMP:20260422T155201
CREATED:20250513T055457Z
LAST-MODIFIED:20250513T055457Z
UID:10003737-1807038000-1807041600@recoverystlouis.org
SUMMARY:AA Burton’s Heroes Open -mixed In person/online
DESCRIPTION:
URL:https://recoverystlouis.org/event/aa-burtons-heroes-open-mixed-in-person-online/2027-04-06/
END:VEVENT
BEGIN:VEVENT
DTSTART;TZID=America/Denver:20270406T173000
DTEND;TZID=America/Denver:20270406T183000
DTSTAMP:20260422T155201
CREATED:20250513T054121Z
LAST-MODIFIED:20250513T054121Z
UID:10001137-1807032600-1807036200@recoverystlouis.org
SUMMARY:AA Secular Sobriety Open-mixed In person/online
DESCRIPTION:Zoom: 343 811 2984\nPW 770507
URL:https://recoverystlouis.org/event/aa-secular-sobriety-open-mixed-in-person-online/2027-04-06/
END:VEVENT
BEGIN:VEVENT
DTSTART;TZID=America/Denver:20270405T180000
DTEND;TZID=America/Denver:20270405T190000
DTSTAMP:20260422T155201
CREATED:20250512T071133Z
LAST-MODIFIED:20250512T071133Z
UID:10000619-1806948000-1806951600@recoverystlouis.org
SUMMARY:I AM RESPONSIBLE Women’s-closed In person-online
DESCRIPTION:Zoom:191 385 271\nPW: 085501 \nContact Clare P\n(314) 448-2101
URL:https://recoverystlouis.org/event/i-am-responsible-womens-closed-in-person-online/2027-04-05/
END:VEVENT
BEGIN:VEVENT
DTSTART;TZID=America/Denver:20270404T110000
DTEND;TZID=America/Denver:20270404T120000
DTSTAMP:20260422T155201
CREATED:20250513T055407Z
LAST-MODIFIED:20250513T055407Z
UID:10003216-1806836400-1806840000@recoverystlouis.org
SUMMARY:OA Sunday Recovery Open-mixed In person/online
DESCRIPTION:Zoom:264 689 861\nPW:066708 \nContact\nCathy K (314) 538-1331
URL:https://recoverystlouis.org/event/oa-sunday-recovery-open-mixed-in-person-online/2027-04-04/
END:VEVENT
BEGIN:VEVENT
DTSTART;TZID=America/Denver:20270404T090000
DTEND;TZID=America/Denver:20270404T101500
DTSTAMP:20260422T155201
CREATED:20250428T191821Z
LAST-MODIFIED:20250512T070411Z
UID:10000099-1806829200-1806833700@recoverystlouis.org
SUMMARY:AA Group 255-FIVE AND DIME Closed-Mixed In person/online
DESCRIPTION:Zoom:845 2025 1856\nPW: 173321 \nContact\nMichael Mac\n314-249-8149
URL:https://recoverystlouis.org/event/lorem-ipsum/2027-04-04/
END:VEVENT
BEGIN:VEVENT
DTSTART;TZID=America/Denver:20270402T174500
DTEND;TZID=America/Denver:20270402T184500
DTSTAMP:20260422T155201
CREATED:20250513T055756Z
LAST-MODIFIED:20250513T055756Z
UID:10004776-1806687900-1806691500@recoverystlouis.org
SUMMARY:AA Group 413- happier Hour Women’s-Open In person/online
DESCRIPTION:Zoom 263 787 324\nPW 279425 \nContact\nLeigh H\n(314) 276-6953
URL:https://recoverystlouis.org/event/aa-group-413-happier-hour-womens-open-in-person-online/2027-04-02/
END:VEVENT
BEGIN:VEVENT
DTSTART;TZID=America/Denver:20270402T070500
DTEND;TZID=America/Denver:20270402T074500
DTSTAMP:20260422T155201
CREATED:20250513T055108Z
LAST-MODIFIED:20250513T055108Z
UID:10002696-1806649500-1806651900@recoverystlouis.org
SUMMARY:AA Closed/ Men only Primary Purpose Mens
DESCRIPTION:
URL:https://recoverystlouis.org/event/aa-closed-men-only-primary-purpose-mens/2027-04-02/
END:VEVENT
BEGIN:VEVENT
DTSTART;TZID=America/Denver:20270401T190000
DTEND;TZID=America/Denver:20270401T200000
DTSTAMP:20260422T155201
CREATED:20250513T055622Z
LAST-MODIFIED:20250513T055622Z
UID:10004256-1806606000-1806609600@recoverystlouis.org
SUMMARY:Recovery Dharma Independent/in person only Open-mixed
DESCRIPTION:Contact\nMichelle T\n(314) 495-8026
URL:https://recoverystlouis.org/event/recovery-dharma-independent-in-person-only-open-mixed/2027-04-01/
END:VEVENT
BEGIN:VEVENT
DTSTART;TZID=America/Denver:20270401T100000
DTEND;TZID=America/Denver:20270401T111500
DTSTAMP:20260422T155201
CREATED:20250513T054602Z
LAST-MODIFIED:20250530T165143Z
UID:10002176-1806573600-1806578100@recoverystlouis.org
SUMMARY:AA Group 179 Open-mixed In person/online
DESCRIPTION:Zoom 598 988 635\nPW 241200
URL:https://recoverystlouis.org/event/aa-group-179-open-mixed-in-person-online/2027-04-01/
END:VEVENT
BEGIN:VEVENT
DTSTART;TZID=America/Denver:20270331T170000
DTEND;TZID=America/Denver:20270331T190000
DTSTAMP:20260422T155201
CREATED:20250513T054406Z
LAST-MODIFIED:20250513T054406Z
UID:10001656-1806512400-1806519600@recoverystlouis.org
SUMMARY:Private group
DESCRIPTION:
URL:https://recoverystlouis.org/event/private-group/2027-03-31/
END:VEVENT
BEGIN:VEVENT
DTSTART;TZID=America/Denver:20270330T190000
DTEND;TZID=America/Denver:20270330T200000
DTSTAMP:20260422T155201
CREATED:20250513T055457Z
LAST-MODIFIED:20250513T055457Z
UID:10003736-1806433200-1806436800@recoverystlouis.org
SUMMARY:AA Burton’s Heroes Open -mixed In person/online
DESCRIPTION:
URL:https://recoverystlouis.org/event/aa-burtons-heroes-open-mixed-in-person-online/2027-03-30/
END:VEVENT
END:VCALENDAR