BEGIN:VCALENDAR
VERSION:2.0
PRODID:-//Recovery St. Louis - ECPv6.15.17.1//NONSGML v1.0//EN
CALSCALE:GREGORIAN
METHOD:PUBLISH
X-WR-CALNAME:Recovery St. Louis
X-ORIGINAL-URL:https://recoverystlouis.org
X-WR-CALDESC:Events for Recovery St. Louis
REFRESH-INTERVAL;VALUE=DURATION:PT1H
X-Robots-Tag:noindex
X-PUBLISHED-TTL:PT1H
BEGIN:VTIMEZONE
TZID:America/Denver
BEGIN:DAYLIGHT
TZOFFSETFROM:-0700
TZOFFSETTO:-0600
TZNAME:MDT
DTSTART:20240310T090000
END:DAYLIGHT
BEGIN:STANDARD
TZOFFSETFROM:-0600
TZOFFSETTO:-0700
TZNAME:MST
DTSTART:20241103T080000
END:STANDARD
BEGIN:DAYLIGHT
TZOFFSETFROM:-0700
TZOFFSETTO:-0600
TZNAME:MDT
DTSTART:20250309T090000
END:DAYLIGHT
BEGIN:STANDARD
TZOFFSETFROM:-0600
TZOFFSETTO:-0700
TZNAME:MST
DTSTART:20251102T080000
END:STANDARD
BEGIN:DAYLIGHT
TZOFFSETFROM:-0700
TZOFFSETTO:-0600
TZNAME:MDT
DTSTART:20260308T090000
END:DAYLIGHT
BEGIN:STANDARD
TZOFFSETFROM:-0600
TZOFFSETTO:-0700
TZNAME:MST
DTSTART:20261101T080000
END:STANDARD
END:VTIMEZONE
BEGIN:VEVENT
DTSTART;TZID=America/Denver:20251012T090000
DTEND;TZID=America/Denver:20251012T101500
DTSTAMP:20260421T184110
CREATED:20250428T191821Z
LAST-MODIFIED:20250512T070411Z
UID:10000022-1760259600-1760264100@recoverystlouis.org
SUMMARY:AA Group 255-FIVE AND DIME Closed-Mixed In person/online
DESCRIPTION:Zoom:845 2025 1856\nPW: 173321 \nContact\nMichael Mac\n314-249-8149
URL:https://recoverystlouis.org/event/lorem-ipsum/2025-10-12/
END:VEVENT
BEGIN:VEVENT
DTSTART;TZID=America/Denver:20251010T174500
DTEND;TZID=America/Denver:20251010T184500
DTSTAMP:20260421T184110
CREATED:20250513T055756Z
LAST-MODIFIED:20250513T055756Z
UID:10004699-1760118300-1760121900@recoverystlouis.org
SUMMARY:AA Group 413- happier Hour Women’s-Open In person/online
DESCRIPTION:Zoom 263 787 324\nPW 279425 \nContact\nLeigh H\n(314) 276-6953
URL:https://recoverystlouis.org/event/aa-group-413-happier-hour-womens-open-in-person-online/2025-10-10/
END:VEVENT
BEGIN:VEVENT
DTSTART;TZID=America/Denver:20251010T070500
DTEND;TZID=America/Denver:20251010T074500
DTSTAMP:20260421T184110
CREATED:20250513T055108Z
LAST-MODIFIED:20250513T055108Z
UID:10002619-1760079900-1760082300@recoverystlouis.org
SUMMARY:AA Closed/ Men only Primary Purpose Mens
DESCRIPTION:
URL:https://recoverystlouis.org/event/aa-closed-men-only-primary-purpose-mens/2025-10-10/
END:VEVENT
BEGIN:VEVENT
DTSTART;TZID=America/Denver:20251009T190000
DTEND;TZID=America/Denver:20251009T200000
DTSTAMP:20260421T184110
CREATED:20250513T055622Z
LAST-MODIFIED:20250513T055622Z
UID:10004179-1760036400-1760040000@recoverystlouis.org
SUMMARY:Recovery Dharma Independent/in person only Open-mixed
DESCRIPTION:Contact\nMichelle T\n(314) 495-8026
URL:https://recoverystlouis.org/event/recovery-dharma-independent-in-person-only-open-mixed/2025-10-09/
END:VEVENT
BEGIN:VEVENT
DTSTART;TZID=America/Denver:20251009T100000
DTEND;TZID=America/Denver:20251009T111500
DTSTAMP:20260421T184110
CREATED:20250513T054602Z
LAST-MODIFIED:20250530T165143Z
UID:10002099-1760004000-1760008500@recoverystlouis.org
SUMMARY:AA Group 179 Open-mixed In person/online
DESCRIPTION:Zoom 598 988 635\nPW 241200
URL:https://recoverystlouis.org/event/aa-group-179-open-mixed-in-person-online/2025-10-09/
END:VEVENT
BEGIN:VEVENT
DTSTART;TZID=America/Denver:20251008T170000
DTEND;TZID=America/Denver:20251008T190000
DTSTAMP:20260421T184110
CREATED:20250513T054406Z
LAST-MODIFIED:20250513T054406Z
UID:10001579-1759942800-1759950000@recoverystlouis.org
SUMMARY:Private group
DESCRIPTION:
URL:https://recoverystlouis.org/event/private-group/2025-10-08/
END:VEVENT
BEGIN:VEVENT
DTSTART;TZID=America/Denver:20251007T190000
DTEND;TZID=America/Denver:20251007T200000
DTSTAMP:20260421T184110
CREATED:20250513T055457Z
LAST-MODIFIED:20250513T055457Z
UID:10003659-1759863600-1759867200@recoverystlouis.org
SUMMARY:AA Burton’s Heroes Open -mixed In person/online
DESCRIPTION:
URL:https://recoverystlouis.org/event/aa-burtons-heroes-open-mixed-in-person-online/2025-10-07/
END:VEVENT
BEGIN:VEVENT
DTSTART;TZID=America/Denver:20251007T173000
DTEND;TZID=America/Denver:20251007T183000
DTSTAMP:20260421T184110
CREATED:20250513T054121Z
LAST-MODIFIED:20250513T054121Z
UID:10001059-1759858200-1759861800@recoverystlouis.org
SUMMARY:AA Secular Sobriety Open-mixed In person/online
DESCRIPTION:Zoom: 343 811 2984\nPW 770507
URL:https://recoverystlouis.org/event/aa-secular-sobriety-open-mixed-in-person-online/2025-10-07/
END:VEVENT
BEGIN:VEVENT
DTSTART;TZID=America/Denver:20251006T180000
DTEND;TZID=America/Denver:20251006T190000
DTSTAMP:20260421T184110
CREATED:20250512T071133Z
LAST-MODIFIED:20250512T071133Z
UID:10000541-1759773600-1759777200@recoverystlouis.org
SUMMARY:I AM RESPONSIBLE Women’s-closed In person-online
DESCRIPTION:Zoom:191 385 271\nPW: 085501 \nContact Clare P\n(314) 448-2101
URL:https://recoverystlouis.org/event/i-am-responsible-womens-closed-in-person-online/2025-10-06/
END:VEVENT
BEGIN:VEVENT
DTSTART;TZID=America/Denver:20251005T110000
DTEND;TZID=America/Denver:20251005T120000
DTSTAMP:20260421T184110
CREATED:20250513T055407Z
LAST-MODIFIED:20250513T055407Z
UID:10003138-1759662000-1759665600@recoverystlouis.org
SUMMARY:OA Sunday Recovery Open-mixed In person/online
DESCRIPTION:Zoom:264 689 861\nPW:066708 \nContact\nCathy K (314) 538-1331
URL:https://recoverystlouis.org/event/oa-sunday-recovery-open-mixed-in-person-online/2025-10-05/
END:VEVENT
BEGIN:VEVENT
DTSTART;TZID=America/Denver:20251005T090000
DTEND;TZID=America/Denver:20251005T101500
DTSTAMP:20260421T184110
CREATED:20250428T191821Z
LAST-MODIFIED:20250512T070411Z
UID:10000021-1759654800-1759659300@recoverystlouis.org
SUMMARY:AA Group 255-FIVE AND DIME Closed-Mixed In person/online
DESCRIPTION:Zoom:845 2025 1856\nPW: 173321 \nContact\nMichael Mac\n314-249-8149
URL:https://recoverystlouis.org/event/lorem-ipsum/2025-10-05/
END:VEVENT
BEGIN:VEVENT
DTSTART;TZID=America/Denver:20251003T174500
DTEND;TZID=America/Denver:20251003T184500
DTSTAMP:20260421T184110
CREATED:20250513T055756Z
LAST-MODIFIED:20250513T055756Z
UID:10004698-1759513500-1759517100@recoverystlouis.org
SUMMARY:AA Group 413- happier Hour Women’s-Open In person/online
DESCRIPTION:Zoom 263 787 324\nPW 279425 \nContact\nLeigh H\n(314) 276-6953
URL:https://recoverystlouis.org/event/aa-group-413-happier-hour-womens-open-in-person-online/2025-10-03/
END:VEVENT
BEGIN:VEVENT
DTSTART;TZID=America/Denver:20251003T070500
DTEND;TZID=America/Denver:20251003T074500
DTSTAMP:20260421T184110
CREATED:20250513T055108Z
LAST-MODIFIED:20250513T055108Z
UID:10002618-1759475100-1759477500@recoverystlouis.org
SUMMARY:AA Closed/ Men only Primary Purpose Mens
DESCRIPTION:
URL:https://recoverystlouis.org/event/aa-closed-men-only-primary-purpose-mens/2025-10-03/
END:VEVENT
BEGIN:VEVENT
DTSTART;TZID=America/Denver:20251002T190000
DTEND;TZID=America/Denver:20251002T200000
DTSTAMP:20260421T184110
CREATED:20250513T055622Z
LAST-MODIFIED:20250513T055622Z
UID:10004178-1759431600-1759435200@recoverystlouis.org
SUMMARY:Recovery Dharma Independent/in person only Open-mixed
DESCRIPTION:Contact\nMichelle T\n(314) 495-8026
URL:https://recoverystlouis.org/event/recovery-dharma-independent-in-person-only-open-mixed/2025-10-02/
END:VEVENT
BEGIN:VEVENT
DTSTART;TZID=America/Denver:20251002T100000
DTEND;TZID=America/Denver:20251002T111500
DTSTAMP:20260421T184110
CREATED:20250513T054602Z
LAST-MODIFIED:20250530T165143Z
UID:10002098-1759399200-1759403700@recoverystlouis.org
SUMMARY:AA Group 179 Open-mixed In person/online
DESCRIPTION:Zoom 598 988 635\nPW 241200
URL:https://recoverystlouis.org/event/aa-group-179-open-mixed-in-person-online/2025-10-02/
END:VEVENT
BEGIN:VEVENT
DTSTART;TZID=America/Denver:20251001T170000
DTEND;TZID=America/Denver:20251001T190000
DTSTAMP:20260421T184110
CREATED:20250513T054406Z
LAST-MODIFIED:20250513T054406Z
UID:10001578-1759338000-1759345200@recoverystlouis.org
SUMMARY:Private group
DESCRIPTION:
URL:https://recoverystlouis.org/event/private-group/2025-10-01/
END:VEVENT
BEGIN:VEVENT
DTSTART;TZID=America/Denver:20250930T190000
DTEND;TZID=America/Denver:20250930T200000
DTSTAMP:20260421T184110
CREATED:20250513T055457Z
LAST-MODIFIED:20250513T055457Z
UID:10003658-1759258800-1759262400@recoverystlouis.org
SUMMARY:AA Burton’s Heroes Open -mixed In person/online
DESCRIPTION:
URL:https://recoverystlouis.org/event/aa-burtons-heroes-open-mixed-in-person-online/2025-09-30/
END:VEVENT
BEGIN:VEVENT
DTSTART;TZID=America/Denver:20250930T173000
DTEND;TZID=America/Denver:20250930T183000
DTSTAMP:20260421T184110
CREATED:20250513T054121Z
LAST-MODIFIED:20250513T054121Z
UID:10001058-1759253400-1759257000@recoverystlouis.org
SUMMARY:AA Secular Sobriety Open-mixed In person/online
DESCRIPTION:Zoom: 343 811 2984\nPW 770507
URL:https://recoverystlouis.org/event/aa-secular-sobriety-open-mixed-in-person-online/2025-09-30/
END:VEVENT
BEGIN:VEVENT
DTSTART;TZID=America/Denver:20250929T180000
DTEND;TZID=America/Denver:20250929T190000
DTSTAMP:20260421T184110
CREATED:20250512T071133Z
LAST-MODIFIED:20250512T071133Z
UID:10000540-1759168800-1759172400@recoverystlouis.org
SUMMARY:I AM RESPONSIBLE Women’s-closed In person-online
DESCRIPTION:Zoom:191 385 271\nPW: 085501 \nContact Clare P\n(314) 448-2101
URL:https://recoverystlouis.org/event/i-am-responsible-womens-closed-in-person-online/2025-09-29/
END:VEVENT
BEGIN:VEVENT
DTSTART;TZID=America/Denver:20250928T110000
DTEND;TZID=America/Denver:20250928T120000
DTSTAMP:20260421T184110
CREATED:20250513T055407Z
LAST-MODIFIED:20250513T055407Z
UID:10003137-1759057200-1759060800@recoverystlouis.org
SUMMARY:OA Sunday Recovery Open-mixed In person/online
DESCRIPTION:Zoom:264 689 861\nPW:066708 \nContact\nCathy K (314) 538-1331
URL:https://recoverystlouis.org/event/oa-sunday-recovery-open-mixed-in-person-online/2025-09-28/
END:VEVENT
BEGIN:VEVENT
DTSTART;TZID=America/Denver:20250928T090000
DTEND;TZID=America/Denver:20250928T101500
DTSTAMP:20260421T184110
CREATED:20250428T191821Z
LAST-MODIFIED:20250512T070411Z
UID:10000020-1759050000-1759054500@recoverystlouis.org
SUMMARY:AA Group 255-FIVE AND DIME Closed-Mixed In person/online
DESCRIPTION:Zoom:845 2025 1856\nPW: 173321 \nContact\nMichael Mac\n314-249-8149
URL:https://recoverystlouis.org/event/lorem-ipsum/2025-09-28/
END:VEVENT
BEGIN:VEVENT
DTSTART;TZID=America/Denver:20250926T174500
DTEND;TZID=America/Denver:20250926T184500
DTSTAMP:20260421T184110
CREATED:20250513T055756Z
LAST-MODIFIED:20250513T055756Z
UID:10004697-1758908700-1758912300@recoverystlouis.org
SUMMARY:AA Group 413- happier Hour Women’s-Open In person/online
DESCRIPTION:Zoom 263 787 324\nPW 279425 \nContact\nLeigh H\n(314) 276-6953
URL:https://recoverystlouis.org/event/aa-group-413-happier-hour-womens-open-in-person-online/2025-09-26/
END:VEVENT
BEGIN:VEVENT
DTSTART;TZID=America/Denver:20250926T070500
DTEND;TZID=America/Denver:20250926T074500
DTSTAMP:20260421T184110
CREATED:20250513T055108Z
LAST-MODIFIED:20250513T055108Z
UID:10002617-1758870300-1758872700@recoverystlouis.org
SUMMARY:AA Closed/ Men only Primary Purpose Mens
DESCRIPTION:
URL:https://recoverystlouis.org/event/aa-closed-men-only-primary-purpose-mens/2025-09-26/
END:VEVENT
BEGIN:VEVENT
DTSTART;TZID=America/Denver:20250925T190000
DTEND;TZID=America/Denver:20250925T200000
DTSTAMP:20260421T184110
CREATED:20250513T055622Z
LAST-MODIFIED:20250513T055622Z
UID:10004177-1758826800-1758830400@recoverystlouis.org
SUMMARY:Recovery Dharma Independent/in person only Open-mixed
DESCRIPTION:Contact\nMichelle T\n(314) 495-8026
URL:https://recoverystlouis.org/event/recovery-dharma-independent-in-person-only-open-mixed/2025-09-25/
END:VEVENT
BEGIN:VEVENT
DTSTART;TZID=America/Denver:20250925T100000
DTEND;TZID=America/Denver:20250925T111500
DTSTAMP:20260421T184110
CREATED:20250513T054602Z
LAST-MODIFIED:20250530T165143Z
UID:10002097-1758794400-1758798900@recoverystlouis.org
SUMMARY:AA Group 179 Open-mixed In person/online
DESCRIPTION:Zoom 598 988 635\nPW 241200
URL:https://recoverystlouis.org/event/aa-group-179-open-mixed-in-person-online/2025-09-25/
END:VEVENT
BEGIN:VEVENT
DTSTART;TZID=America/Denver:20250924T170000
DTEND;TZID=America/Denver:20250924T190000
DTSTAMP:20260421T184110
CREATED:20250513T054406Z
LAST-MODIFIED:20250513T054406Z
UID:10001577-1758733200-1758740400@recoverystlouis.org
SUMMARY:Private group
DESCRIPTION:
URL:https://recoverystlouis.org/event/private-group/2025-09-24/
END:VEVENT
BEGIN:VEVENT
DTSTART;TZID=America/Denver:20250923T190000
DTEND;TZID=America/Denver:20250923T200000
DTSTAMP:20260421T184110
CREATED:20250513T055457Z
LAST-MODIFIED:20250513T055457Z
UID:10003657-1758654000-1758657600@recoverystlouis.org
SUMMARY:AA Burton’s Heroes Open -mixed In person/online
DESCRIPTION:
URL:https://recoverystlouis.org/event/aa-burtons-heroes-open-mixed-in-person-online/2025-09-23/
END:VEVENT
BEGIN:VEVENT
DTSTART;TZID=America/Denver:20250923T173000
DTEND;TZID=America/Denver:20250923T183000
DTSTAMP:20260421T184110
CREATED:20250513T054121Z
LAST-MODIFIED:20250513T054121Z
UID:10001057-1758648600-1758652200@recoverystlouis.org
SUMMARY:AA Secular Sobriety Open-mixed In person/online
DESCRIPTION:Zoom: 343 811 2984\nPW 770507
URL:https://recoverystlouis.org/event/aa-secular-sobriety-open-mixed-in-person-online/2025-09-23/
END:VEVENT
BEGIN:VEVENT
DTSTART;TZID=America/Denver:20250922T180000
DTEND;TZID=America/Denver:20250922T190000
DTSTAMP:20260421T184110
CREATED:20250512T071133Z
LAST-MODIFIED:20250512T071133Z
UID:10000539-1758564000-1758567600@recoverystlouis.org
SUMMARY:I AM RESPONSIBLE Women’s-closed In person-online
DESCRIPTION:Zoom:191 385 271\nPW: 085501 \nContact Clare P\n(314) 448-2101
URL:https://recoverystlouis.org/event/i-am-responsible-womens-closed-in-person-online/2025-09-22/
END:VEVENT
BEGIN:VEVENT
DTSTART;TZID=America/Denver:20250921T110000
DTEND;TZID=America/Denver:20250921T120000
DTSTAMP:20260421T184110
CREATED:20250513T055407Z
LAST-MODIFIED:20250513T055407Z
UID:10003136-1758452400-1758456000@recoverystlouis.org
SUMMARY:OA Sunday Recovery Open-mixed In person/online
DESCRIPTION:Zoom:264 689 861\nPW:066708 \nContact\nCathy K (314) 538-1331
URL:https://recoverystlouis.org/event/oa-sunday-recovery-open-mixed-in-person-online/2025-09-21/
END:VEVENT
END:VCALENDAR