BEGIN:VCALENDAR
VERSION:2.0
PRODID:-//Recovery St. Louis - ECPv6.15.17.1//NONSGML v1.0//EN
CALSCALE:GREGORIAN
METHOD:PUBLISH
X-ORIGINAL-URL:https://recoverystlouis.org
X-WR-CALDESC:Events for Recovery St. Louis
REFRESH-INTERVAL;VALUE=DURATION:PT1H
X-Robots-Tag:noindex
X-PUBLISHED-TTL:PT1H
BEGIN:VTIMEZONE
TZID:America/Denver
BEGIN:DAYLIGHT
TZOFFSETFROM:-0700
TZOFFSETTO:-0600
TZNAME:MDT
DTSTART:20260308T090000
END:DAYLIGHT
BEGIN:STANDARD
TZOFFSETFROM:-0600
TZOFFSETTO:-0700
TZNAME:MST
DTSTART:20261101T080000
END:STANDARD
BEGIN:DAYLIGHT
TZOFFSETFROM:-0700
TZOFFSETTO:-0600
TZNAME:MDT
DTSTART:20270314T090000
END:DAYLIGHT
BEGIN:STANDARD
TZOFFSETFROM:-0600
TZOFFSETTO:-0700
TZNAME:MST
DTSTART:20271107T080000
END:STANDARD
BEGIN:DAYLIGHT
TZOFFSETFROM:-0700
TZOFFSETTO:-0600
TZNAME:MDT
DTSTART:20280312T090000
END:DAYLIGHT
BEGIN:STANDARD
TZOFFSETFROM:-0600
TZOFFSETTO:-0700
TZNAME:MST
DTSTART:20281105T080000
END:STANDARD
END:VTIMEZONE
BEGIN:VEVENT
DTSTART;TZID=America/Denver:20271020T170000
DTEND;TZID=America/Denver:20271020T190000
DTSTAMP:20260422T164057
CREATED:20250513T054406Z
LAST-MODIFIED:20250513T054406Z
UID:10001685-1824051600-1824058800@recoverystlouis.org
SUMMARY:Private group
DESCRIPTION:
URL:https://recoverystlouis.org/event/private-group/2027-10-20/
END:VEVENT
BEGIN:VEVENT
DTSTART;TZID=America/Denver:20271021T100000
DTEND;TZID=America/Denver:20271021T111500
DTSTAMP:20260422T164057
CREATED:20250513T054602Z
LAST-MODIFIED:20250530T165143Z
UID:10002205-1824112800-1824117300@recoverystlouis.org
SUMMARY:AA Group 179 Open-mixed In person/online
DESCRIPTION:Zoom 598 988 635\nPW 241200
URL:https://recoverystlouis.org/event/aa-group-179-open-mixed-in-person-online/2027-10-21/
END:VEVENT
BEGIN:VEVENT
DTSTART;TZID=America/Denver:20271021T190000
DTEND;TZID=America/Denver:20271021T200000
DTSTAMP:20260422T164057
CREATED:20250513T055622Z
LAST-MODIFIED:20250513T055622Z
UID:10004285-1824145200-1824148800@recoverystlouis.org
SUMMARY:Recovery Dharma Independent/in person only Open-mixed
DESCRIPTION:Contact\nMichelle T\n(314) 495-8026
URL:https://recoverystlouis.org/event/recovery-dharma-independent-in-person-only-open-mixed/2027-10-21/
END:VEVENT
BEGIN:VEVENT
DTSTART;TZID=America/Denver:20271022T070500
DTEND;TZID=America/Denver:20271022T074500
DTSTAMP:20260422T164057
CREATED:20250513T055108Z
LAST-MODIFIED:20250513T055108Z
UID:10002725-1824188700-1824191100@recoverystlouis.org
SUMMARY:AA Closed/ Men only Primary Purpose Mens
DESCRIPTION:
URL:https://recoverystlouis.org/event/aa-closed-men-only-primary-purpose-mens/2027-10-22/
END:VEVENT
BEGIN:VEVENT
DTSTART;TZID=America/Denver:20271022T174500
DTEND;TZID=America/Denver:20271022T184500
DTSTAMP:20260422T164057
CREATED:20250513T055756Z
LAST-MODIFIED:20250513T055756Z
UID:10004805-1824227100-1824230700@recoverystlouis.org
SUMMARY:AA Group 413- happier Hour Women’s-Open In person/online
DESCRIPTION:Zoom 263 787 324\nPW 279425 \nContact\nLeigh H\n(314) 276-6953
URL:https://recoverystlouis.org/event/aa-group-413-happier-hour-womens-open-in-person-online/2027-10-22/
END:VEVENT
BEGIN:VEVENT
DTSTART;TZID=America/Denver:20271024T090000
DTEND;TZID=America/Denver:20271024T101500
DTSTAMP:20260422T164057
CREATED:20250428T191821Z
LAST-MODIFIED:20250512T070411Z
UID:10000128-1824368400-1824372900@recoverystlouis.org
SUMMARY:AA Group 255-FIVE AND DIME Closed-Mixed In person/online
DESCRIPTION:Zoom:845 2025 1856\nPW: 173321 \nContact\nMichael Mac\n314-249-8149
URL:https://recoverystlouis.org/event/lorem-ipsum/2027-10-24/
END:VEVENT
BEGIN:VEVENT
DTSTART;TZID=America/Denver:20271024T110000
DTEND;TZID=America/Denver:20271024T120000
DTSTAMP:20260422T164057
CREATED:20250513T055407Z
LAST-MODIFIED:20250513T055407Z
UID:10003245-1824375600-1824379200@recoverystlouis.org
SUMMARY:OA Sunday Recovery Open-mixed In person/online
DESCRIPTION:Zoom:264 689 861\nPW:066708 \nContact\nCathy K (314) 538-1331
URL:https://recoverystlouis.org/event/oa-sunday-recovery-open-mixed-in-person-online/2027-10-24/
END:VEVENT
BEGIN:VEVENT
DTSTART;TZID=America/Denver:20271025T180000
DTEND;TZID=America/Denver:20271025T190000
DTSTAMP:20260422T164057
CREATED:20250512T071133Z
LAST-MODIFIED:20250512T071133Z
UID:10000648-1824487200-1824490800@recoverystlouis.org
SUMMARY:I AM RESPONSIBLE Women’s-closed In person-online
DESCRIPTION:Zoom:191 385 271\nPW: 085501 \nContact Clare P\n(314) 448-2101
URL:https://recoverystlouis.org/event/i-am-responsible-womens-closed-in-person-online/2027-10-25/
END:VEVENT
BEGIN:VEVENT
DTSTART;TZID=America/Denver:20271026T173000
DTEND;TZID=America/Denver:20271026T183000
DTSTAMP:20260422T164057
CREATED:20250513T054121Z
LAST-MODIFIED:20250513T054121Z
UID:10001166-1824571800-1824575400@recoverystlouis.org
SUMMARY:AA Secular Sobriety Open-mixed In person/online
DESCRIPTION:Zoom: 343 811 2984\nPW 770507
URL:https://recoverystlouis.org/event/aa-secular-sobriety-open-mixed-in-person-online/2027-10-26/
END:VEVENT
BEGIN:VEVENT
DTSTART;TZID=America/Denver:20271026T190000
DTEND;TZID=America/Denver:20271026T200000
DTSTAMP:20260422T164057
CREATED:20250513T055457Z
LAST-MODIFIED:20250513T055457Z
UID:10003766-1824577200-1824580800@recoverystlouis.org
SUMMARY:AA Burton’s Heroes Open -mixed In person/online
DESCRIPTION:
URL:https://recoverystlouis.org/event/aa-burtons-heroes-open-mixed-in-person-online/2027-10-26/
END:VEVENT
BEGIN:VEVENT
DTSTART;TZID=America/Denver:20271027T170000
DTEND;TZID=America/Denver:20271027T190000
DTSTAMP:20260422T164057
CREATED:20250513T054406Z
LAST-MODIFIED:20250513T054406Z
UID:10001686-1824656400-1824663600@recoverystlouis.org
SUMMARY:Private group
DESCRIPTION:
URL:https://recoverystlouis.org/event/private-group/2027-10-27/
END:VEVENT
BEGIN:VEVENT
DTSTART;TZID=America/Denver:20271028T100000
DTEND;TZID=America/Denver:20271028T111500
DTSTAMP:20260422T164057
CREATED:20250513T054602Z
LAST-MODIFIED:20250530T165143Z
UID:10002206-1824717600-1824722100@recoverystlouis.org
SUMMARY:AA Group 179 Open-mixed In person/online
DESCRIPTION:Zoom 598 988 635\nPW 241200
URL:https://recoverystlouis.org/event/aa-group-179-open-mixed-in-person-online/2027-10-28/
END:VEVENT
BEGIN:VEVENT
DTSTART;TZID=America/Denver:20271028T190000
DTEND;TZID=America/Denver:20271028T200000
DTSTAMP:20260422T164057
CREATED:20250513T055622Z
LAST-MODIFIED:20250513T055622Z
UID:10004286-1824750000-1824753600@recoverystlouis.org
SUMMARY:Recovery Dharma Independent/in person only Open-mixed
DESCRIPTION:Contact\nMichelle T\n(314) 495-8026
URL:https://recoverystlouis.org/event/recovery-dharma-independent-in-person-only-open-mixed/2027-10-28/
END:VEVENT
BEGIN:VEVENT
DTSTART;TZID=America/Denver:20271029T070500
DTEND;TZID=America/Denver:20271029T074500
DTSTAMP:20260422T164057
CREATED:20250513T055108Z
LAST-MODIFIED:20250513T055108Z
UID:10002726-1824793500-1824795900@recoverystlouis.org
SUMMARY:AA Closed/ Men only Primary Purpose Mens
DESCRIPTION:
URL:https://recoverystlouis.org/event/aa-closed-men-only-primary-purpose-mens/2027-10-29/
END:VEVENT
BEGIN:VEVENT
DTSTART;TZID=America/Denver:20271029T174500
DTEND;TZID=America/Denver:20271029T184500
DTSTAMP:20260422T164057
CREATED:20250513T055756Z
LAST-MODIFIED:20250513T055756Z
UID:10004806-1824831900-1824835500@recoverystlouis.org
SUMMARY:AA Group 413- happier Hour Women’s-Open In person/online
DESCRIPTION:Zoom 263 787 324\nPW 279425 \nContact\nLeigh H\n(314) 276-6953
URL:https://recoverystlouis.org/event/aa-group-413-happier-hour-womens-open-in-person-online/2027-10-29/
END:VEVENT
BEGIN:VEVENT
DTSTART;TZID=America/Denver:20271031T090000
DTEND;TZID=America/Denver:20271031T101500
DTSTAMP:20260422T164057
CREATED:20250428T191821Z
LAST-MODIFIED:20250512T070411Z
UID:10000129-1824973200-1824977700@recoverystlouis.org
SUMMARY:AA Group 255-FIVE AND DIME Closed-Mixed In person/online
DESCRIPTION:Zoom:845 2025 1856\nPW: 173321 \nContact\nMichael Mac\n314-249-8149
URL:https://recoverystlouis.org/event/lorem-ipsum/2027-10-31/
END:VEVENT
BEGIN:VEVENT
DTSTART;TZID=America/Denver:20271031T110000
DTEND;TZID=America/Denver:20271031T120000
DTSTAMP:20260422T164057
CREATED:20250513T055407Z
LAST-MODIFIED:20250513T055407Z
UID:10003246-1824980400-1824984000@recoverystlouis.org
SUMMARY:OA Sunday Recovery Open-mixed In person/online
DESCRIPTION:Zoom:264 689 861\nPW:066708 \nContact\nCathy K (314) 538-1331
URL:https://recoverystlouis.org/event/oa-sunday-recovery-open-mixed-in-person-online/2027-10-31/
END:VEVENT
BEGIN:VEVENT
DTSTART;TZID=America/Denver:20271101T180000
DTEND;TZID=America/Denver:20271101T190000
DTSTAMP:20260422T164057
CREATED:20250512T071133Z
LAST-MODIFIED:20250512T071133Z
UID:10000649-1825092000-1825095600@recoverystlouis.org
SUMMARY:I AM RESPONSIBLE Women’s-closed In person-online
DESCRIPTION:Zoom:191 385 271\nPW: 085501 \nContact Clare P\n(314) 448-2101
URL:https://recoverystlouis.org/event/i-am-responsible-womens-closed-in-person-online/2027-11-01/
END:VEVENT
BEGIN:VEVENT
DTSTART;TZID=America/Denver:20271102T173000
DTEND;TZID=America/Denver:20271102T183000
DTSTAMP:20260422T164057
CREATED:20250513T054121Z
LAST-MODIFIED:20250513T054121Z
UID:10001167-1825176600-1825180200@recoverystlouis.org
SUMMARY:AA Secular Sobriety Open-mixed In person/online
DESCRIPTION:Zoom: 343 811 2984\nPW 770507
URL:https://recoverystlouis.org/event/aa-secular-sobriety-open-mixed-in-person-online/2027-11-02/
END:VEVENT
BEGIN:VEVENT
DTSTART;TZID=America/Denver:20271102T190000
DTEND;TZID=America/Denver:20271102T200000
DTSTAMP:20260422T164057
CREATED:20250513T055457Z
LAST-MODIFIED:20250513T055457Z
UID:10003767-1825182000-1825185600@recoverystlouis.org
SUMMARY:AA Burton’s Heroes Open -mixed In person/online
DESCRIPTION:
URL:https://recoverystlouis.org/event/aa-burtons-heroes-open-mixed-in-person-online/2027-11-02/
END:VEVENT
BEGIN:VEVENT
DTSTART;TZID=America/Denver:20271103T170000
DTEND;TZID=America/Denver:20271103T190000
DTSTAMP:20260422T164057
CREATED:20250513T054406Z
LAST-MODIFIED:20250513T054406Z
UID:10001687-1825261200-1825268400@recoverystlouis.org
SUMMARY:Private group
DESCRIPTION:
URL:https://recoverystlouis.org/event/private-group/2027-11-03/
END:VEVENT
BEGIN:VEVENT
DTSTART;TZID=America/Denver:20271104T100000
DTEND;TZID=America/Denver:20271104T111500
DTSTAMP:20260422T164057
CREATED:20250513T054602Z
LAST-MODIFIED:20250530T165143Z
UID:10002207-1825322400-1825326900@recoverystlouis.org
SUMMARY:AA Group 179 Open-mixed In person/online
DESCRIPTION:Zoom 598 988 635\nPW 241200
URL:https://recoverystlouis.org/event/aa-group-179-open-mixed-in-person-online/2027-11-04/
END:VEVENT
BEGIN:VEVENT
DTSTART;TZID=America/Denver:20271104T190000
DTEND;TZID=America/Denver:20271104T200000
DTSTAMP:20260422T164057
CREATED:20250513T055622Z
LAST-MODIFIED:20250513T055622Z
UID:10004287-1825354800-1825358400@recoverystlouis.org
SUMMARY:Recovery Dharma Independent/in person only Open-mixed
DESCRIPTION:Contact\nMichelle T\n(314) 495-8026
URL:https://recoverystlouis.org/event/recovery-dharma-independent-in-person-only-open-mixed/2027-11-04/
END:VEVENT
BEGIN:VEVENT
DTSTART;TZID=America/Denver:20271105T070500
DTEND;TZID=America/Denver:20271105T074500
DTSTAMP:20260422T164057
CREATED:20250513T055108Z
LAST-MODIFIED:20250513T055108Z
UID:10002727-1825398300-1825400700@recoverystlouis.org
SUMMARY:AA Closed/ Men only Primary Purpose Mens
DESCRIPTION:
URL:https://recoverystlouis.org/event/aa-closed-men-only-primary-purpose-mens/2027-11-05/
END:VEVENT
BEGIN:VEVENT
DTSTART;TZID=America/Denver:20271105T174500
DTEND;TZID=America/Denver:20271105T184500
DTSTAMP:20260422T164057
CREATED:20250513T055756Z
LAST-MODIFIED:20250513T055756Z
UID:10004807-1825436700-1825440300@recoverystlouis.org
SUMMARY:AA Group 413- happier Hour Women’s-Open In person/online
DESCRIPTION:Zoom 263 787 324\nPW 279425 \nContact\nLeigh H\n(314) 276-6953
URL:https://recoverystlouis.org/event/aa-group-413-happier-hour-womens-open-in-person-online/2027-11-05/
END:VEVENT
BEGIN:VEVENT
DTSTART;TZID=America/Denver:20271107T090000
DTEND;TZID=America/Denver:20271107T101500
DTSTAMP:20260422T164057
CREATED:20250428T191821Z
LAST-MODIFIED:20250512T070411Z
UID:10000130-1825578000-1825582500@recoverystlouis.org
SUMMARY:AA Group 255-FIVE AND DIME Closed-Mixed In person/online
DESCRIPTION:Zoom:845 2025 1856\nPW: 173321 \nContact\nMichael Mac\n314-249-8149
URL:https://recoverystlouis.org/event/lorem-ipsum/2027-11-07/
END:VEVENT
BEGIN:VEVENT
DTSTART;TZID=America/Denver:20271107T110000
DTEND;TZID=America/Denver:20271107T120000
DTSTAMP:20260422T164057
CREATED:20250513T055407Z
LAST-MODIFIED:20250513T055407Z
UID:10003247-1825585200-1825588800@recoverystlouis.org
SUMMARY:OA Sunday Recovery Open-mixed In person/online
DESCRIPTION:Zoom:264 689 861\nPW:066708 \nContact\nCathy K (314) 538-1331
URL:https://recoverystlouis.org/event/oa-sunday-recovery-open-mixed-in-person-online/2027-11-07/
END:VEVENT
BEGIN:VEVENT
DTSTART;TZID=America/Denver:20271108T180000
DTEND;TZID=America/Denver:20271108T190000
DTSTAMP:20260422T164057
CREATED:20250512T071133Z
LAST-MODIFIED:20250512T071133Z
UID:10000650-1825696800-1825700400@recoverystlouis.org
SUMMARY:I AM RESPONSIBLE Women’s-closed In person-online
DESCRIPTION:Zoom:191 385 271\nPW: 085501 \nContact Clare P\n(314) 448-2101
URL:https://recoverystlouis.org/event/i-am-responsible-womens-closed-in-person-online/2027-11-08/
END:VEVENT
BEGIN:VEVENT
DTSTART;TZID=America/Denver:20271109T173000
DTEND;TZID=America/Denver:20271109T183000
DTSTAMP:20260422T164057
CREATED:20250513T054121Z
LAST-MODIFIED:20250513T054121Z
UID:10001168-1825781400-1825785000@recoverystlouis.org
SUMMARY:AA Secular Sobriety Open-mixed In person/online
DESCRIPTION:Zoom: 343 811 2984\nPW 770507
URL:https://recoverystlouis.org/event/aa-secular-sobriety-open-mixed-in-person-online/2027-11-09/
END:VEVENT
BEGIN:VEVENT
DTSTART;TZID=America/Denver:20271109T190000
DTEND;TZID=America/Denver:20271109T200000
DTSTAMP:20260422T164057
CREATED:20250513T055457Z
LAST-MODIFIED:20250513T055457Z
UID:10003768-1825786800-1825790400@recoverystlouis.org
SUMMARY:AA Burton’s Heroes Open -mixed In person/online
DESCRIPTION:
URL:https://recoverystlouis.org/event/aa-burtons-heroes-open-mixed-in-person-online/2027-11-09/
END:VEVENT
END:VCALENDAR