BEGIN:VCALENDAR
VERSION:2.0
PRODID:-//Recovery St. Louis - ECPv6.15.17.1//NONSGML v1.0//EN
CALSCALE:GREGORIAN
METHOD:PUBLISH
X-ORIGINAL-URL:https://recoverystlouis.org
X-WR-CALDESC:Events for Recovery St. Louis
REFRESH-INTERVAL;VALUE=DURATION:PT1H
X-Robots-Tag:noindex
X-PUBLISHED-TTL:PT1H
BEGIN:VTIMEZONE
TZID:America/Denver
BEGIN:DAYLIGHT
TZOFFSETFROM:-0700
TZOFFSETTO:-0600
TZNAME:MDT
DTSTART:20260308T090000
END:DAYLIGHT
BEGIN:STANDARD
TZOFFSETFROM:-0600
TZOFFSETTO:-0700
TZNAME:MST
DTSTART:20261101T080000
END:STANDARD
BEGIN:DAYLIGHT
TZOFFSETFROM:-0700
TZOFFSETTO:-0600
TZNAME:MDT
DTSTART:20270314T090000
END:DAYLIGHT
BEGIN:STANDARD
TZOFFSETFROM:-0600
TZOFFSETTO:-0700
TZNAME:MST
DTSTART:20271107T080000
END:STANDARD
BEGIN:DAYLIGHT
TZOFFSETFROM:-0700
TZOFFSETTO:-0600
TZNAME:MDT
DTSTART:20280312T090000
END:DAYLIGHT
BEGIN:STANDARD
TZOFFSETFROM:-0600
TZOFFSETTO:-0700
TZNAME:MST
DTSTART:20281105T080000
END:STANDARD
END:VTIMEZONE
BEGIN:VEVENT
DTSTART;TZID=America/Denver:20270216T173000
DTEND;TZID=America/Denver:20270216T183000
DTSTAMP:20260421T173234
CREATED:20250513T054121Z
LAST-MODIFIED:20250513T054121Z
UID:10001130-1802799000-1802802600@recoverystlouis.org
SUMMARY:AA Secular Sobriety Open-mixed In person/online
DESCRIPTION:Zoom: 343 811 2984\nPW 770507
URL:https://recoverystlouis.org/event/aa-secular-sobriety-open-mixed-in-person-online/2027-02-16/
END:VEVENT
BEGIN:VEVENT
DTSTART;TZID=America/Denver:20270216T190000
DTEND;TZID=America/Denver:20270216T200000
DTSTAMP:20260421T173234
CREATED:20250513T055457Z
LAST-MODIFIED:20250513T055457Z
UID:10003730-1802804400-1802808000@recoverystlouis.org
SUMMARY:AA Burton’s Heroes Open -mixed In person/online
DESCRIPTION:
URL:https://recoverystlouis.org/event/aa-burtons-heroes-open-mixed-in-person-online/2027-02-16/
END:VEVENT
BEGIN:VEVENT
DTSTART;TZID=America/Denver:20270217T170000
DTEND;TZID=America/Denver:20270217T190000
DTSTAMP:20260421T173234
CREATED:20250513T054406Z
LAST-MODIFIED:20250513T054406Z
UID:10001650-1802883600-1802890800@recoverystlouis.org
SUMMARY:Private group
DESCRIPTION:
URL:https://recoverystlouis.org/event/private-group/2027-02-17/
END:VEVENT
BEGIN:VEVENT
DTSTART;TZID=America/Denver:20270218T100000
DTEND;TZID=America/Denver:20270218T111500
DTSTAMP:20260421T173234
CREATED:20250513T054602Z
LAST-MODIFIED:20250530T165143Z
UID:10002170-1802944800-1802949300@recoverystlouis.org
SUMMARY:AA Group 179 Open-mixed In person/online
DESCRIPTION:Zoom 598 988 635\nPW 241200
URL:https://recoverystlouis.org/event/aa-group-179-open-mixed-in-person-online/2027-02-18/
END:VEVENT
BEGIN:VEVENT
DTSTART;TZID=America/Denver:20270218T190000
DTEND;TZID=America/Denver:20270218T200000
DTSTAMP:20260421T173234
CREATED:20250513T055622Z
LAST-MODIFIED:20250513T055622Z
UID:10004250-1802977200-1802980800@recoverystlouis.org
SUMMARY:Recovery Dharma Independent/in person only Open-mixed
DESCRIPTION:Contact\nMichelle T\n(314) 495-8026
URL:https://recoverystlouis.org/event/recovery-dharma-independent-in-person-only-open-mixed/2027-02-18/
END:VEVENT
BEGIN:VEVENT
DTSTART;TZID=America/Denver:20270219T070500
DTEND;TZID=America/Denver:20270219T074500
DTSTAMP:20260421T173234
CREATED:20250513T055108Z
LAST-MODIFIED:20250513T055108Z
UID:10002690-1803020700-1803023100@recoverystlouis.org
SUMMARY:AA Closed/ Men only Primary Purpose Mens
DESCRIPTION:
URL:https://recoverystlouis.org/event/aa-closed-men-only-primary-purpose-mens/2027-02-19/
END:VEVENT
BEGIN:VEVENT
DTSTART;TZID=America/Denver:20270219T174500
DTEND;TZID=America/Denver:20270219T184500
DTSTAMP:20260421T173234
CREATED:20250513T055756Z
LAST-MODIFIED:20250513T055756Z
UID:10004770-1803059100-1803062700@recoverystlouis.org
SUMMARY:AA Group 413- happier Hour Women’s-Open In person/online
DESCRIPTION:Zoom 263 787 324\nPW 279425 \nContact\nLeigh H\n(314) 276-6953
URL:https://recoverystlouis.org/event/aa-group-413-happier-hour-womens-open-in-person-online/2027-02-19/
END:VEVENT
BEGIN:VEVENT
DTSTART;TZID=America/Denver:20270221T090000
DTEND;TZID=America/Denver:20270221T101500
DTSTAMP:20260421T173234
CREATED:20250428T191821Z
LAST-MODIFIED:20250512T070411Z
UID:10000093-1803200400-1803204900@recoverystlouis.org
SUMMARY:AA Group 255-FIVE AND DIME Closed-Mixed In person/online
DESCRIPTION:Zoom:845 2025 1856\nPW: 173321 \nContact\nMichael Mac\n314-249-8149
URL:https://recoverystlouis.org/event/lorem-ipsum/2027-02-21/
END:VEVENT
BEGIN:VEVENT
DTSTART;TZID=America/Denver:20270221T110000
DTEND;TZID=America/Denver:20270221T120000
DTSTAMP:20260421T173234
CREATED:20250513T055407Z
LAST-MODIFIED:20250513T055407Z
UID:10003210-1803207600-1803211200@recoverystlouis.org
SUMMARY:OA Sunday Recovery Open-mixed In person/online
DESCRIPTION:Zoom:264 689 861\nPW:066708 \nContact\nCathy K (314) 538-1331
URL:https://recoverystlouis.org/event/oa-sunday-recovery-open-mixed-in-person-online/2027-02-21/
END:VEVENT
BEGIN:VEVENT
DTSTART;TZID=America/Denver:20270222T180000
DTEND;TZID=America/Denver:20270222T190000
DTSTAMP:20260421T173234
CREATED:20250512T071133Z
LAST-MODIFIED:20250512T071133Z
UID:10000613-1803319200-1803322800@recoverystlouis.org
SUMMARY:I AM RESPONSIBLE Women’s-closed In person-online
DESCRIPTION:Zoom:191 385 271\nPW: 085501 \nContact Clare P\n(314) 448-2101
URL:https://recoverystlouis.org/event/i-am-responsible-womens-closed-in-person-online/2027-02-22/
END:VEVENT
BEGIN:VEVENT
DTSTART;TZID=America/Denver:20270223T173000
DTEND;TZID=America/Denver:20270223T183000
DTSTAMP:20260421T173234
CREATED:20250513T054121Z
LAST-MODIFIED:20250513T054121Z
UID:10001131-1803403800-1803407400@recoverystlouis.org
SUMMARY:AA Secular Sobriety Open-mixed In person/online
DESCRIPTION:Zoom: 343 811 2984\nPW 770507
URL:https://recoverystlouis.org/event/aa-secular-sobriety-open-mixed-in-person-online/2027-02-23/
END:VEVENT
BEGIN:VEVENT
DTSTART;TZID=America/Denver:20270223T190000
DTEND;TZID=America/Denver:20270223T200000
DTSTAMP:20260421T173234
CREATED:20250513T055457Z
LAST-MODIFIED:20250513T055457Z
UID:10003731-1803409200-1803412800@recoverystlouis.org
SUMMARY:AA Burton’s Heroes Open -mixed In person/online
DESCRIPTION:
URL:https://recoverystlouis.org/event/aa-burtons-heroes-open-mixed-in-person-online/2027-02-23/
END:VEVENT
BEGIN:VEVENT
DTSTART;TZID=America/Denver:20270224T170000
DTEND;TZID=America/Denver:20270224T190000
DTSTAMP:20260421T173234
CREATED:20250513T054406Z
LAST-MODIFIED:20250513T054406Z
UID:10001651-1803488400-1803495600@recoverystlouis.org
SUMMARY:Private group
DESCRIPTION:
URL:https://recoverystlouis.org/event/private-group/2027-02-24/
END:VEVENT
BEGIN:VEVENT
DTSTART;TZID=America/Denver:20270225T100000
DTEND;TZID=America/Denver:20270225T111500
DTSTAMP:20260421T173234
CREATED:20250513T054602Z
LAST-MODIFIED:20250530T165143Z
UID:10002171-1803549600-1803554100@recoverystlouis.org
SUMMARY:AA Group 179 Open-mixed In person/online
DESCRIPTION:Zoom 598 988 635\nPW 241200
URL:https://recoverystlouis.org/event/aa-group-179-open-mixed-in-person-online/2027-02-25/
END:VEVENT
BEGIN:VEVENT
DTSTART;TZID=America/Denver:20270225T190000
DTEND;TZID=America/Denver:20270225T200000
DTSTAMP:20260421T173234
CREATED:20250513T055622Z
LAST-MODIFIED:20250513T055622Z
UID:10004251-1803582000-1803585600@recoverystlouis.org
SUMMARY:Recovery Dharma Independent/in person only Open-mixed
DESCRIPTION:Contact\nMichelle T\n(314) 495-8026
URL:https://recoverystlouis.org/event/recovery-dharma-independent-in-person-only-open-mixed/2027-02-25/
END:VEVENT
BEGIN:VEVENT
DTSTART;TZID=America/Denver:20270226T070500
DTEND;TZID=America/Denver:20270226T074500
DTSTAMP:20260421T173234
CREATED:20250513T055108Z
LAST-MODIFIED:20250513T055108Z
UID:10002691-1803625500-1803627900@recoverystlouis.org
SUMMARY:AA Closed/ Men only Primary Purpose Mens
DESCRIPTION:
URL:https://recoverystlouis.org/event/aa-closed-men-only-primary-purpose-mens/2027-02-26/
END:VEVENT
BEGIN:VEVENT
DTSTART;TZID=America/Denver:20270226T174500
DTEND;TZID=America/Denver:20270226T184500
DTSTAMP:20260421T173234
CREATED:20250513T055756Z
LAST-MODIFIED:20250513T055756Z
UID:10004771-1803663900-1803667500@recoverystlouis.org
SUMMARY:AA Group 413- happier Hour Women’s-Open In person/online
DESCRIPTION:Zoom 263 787 324\nPW 279425 \nContact\nLeigh H\n(314) 276-6953
URL:https://recoverystlouis.org/event/aa-group-413-happier-hour-womens-open-in-person-online/2027-02-26/
END:VEVENT
BEGIN:VEVENT
DTSTART;TZID=America/Denver:20270228T090000
DTEND;TZID=America/Denver:20270228T101500
DTSTAMP:20260421T173234
CREATED:20250428T191821Z
LAST-MODIFIED:20250512T070411Z
UID:10000094-1803805200-1803809700@recoverystlouis.org
SUMMARY:AA Group 255-FIVE AND DIME Closed-Mixed In person/online
DESCRIPTION:Zoom:845 2025 1856\nPW: 173321 \nContact\nMichael Mac\n314-249-8149
URL:https://recoverystlouis.org/event/lorem-ipsum/2027-02-28/
END:VEVENT
BEGIN:VEVENT
DTSTART;TZID=America/Denver:20270228T110000
DTEND;TZID=America/Denver:20270228T120000
DTSTAMP:20260421T173234
CREATED:20250513T055407Z
LAST-MODIFIED:20250513T055407Z
UID:10003211-1803812400-1803816000@recoverystlouis.org
SUMMARY:OA Sunday Recovery Open-mixed In person/online
DESCRIPTION:Zoom:264 689 861\nPW:066708 \nContact\nCathy K (314) 538-1331
URL:https://recoverystlouis.org/event/oa-sunday-recovery-open-mixed-in-person-online/2027-02-28/
END:VEVENT
BEGIN:VEVENT
DTSTART;TZID=America/Denver:20270301T180000
DTEND;TZID=America/Denver:20270301T190000
DTSTAMP:20260421T173234
CREATED:20250512T071133Z
LAST-MODIFIED:20250512T071133Z
UID:10000614-1803924000-1803927600@recoverystlouis.org
SUMMARY:I AM RESPONSIBLE Women’s-closed In person-online
DESCRIPTION:Zoom:191 385 271\nPW: 085501 \nContact Clare P\n(314) 448-2101
URL:https://recoverystlouis.org/event/i-am-responsible-womens-closed-in-person-online/2027-03-01/
END:VEVENT
BEGIN:VEVENT
DTSTART;TZID=America/Denver:20270302T173000
DTEND;TZID=America/Denver:20270302T183000
DTSTAMP:20260421T173234
CREATED:20250513T054121Z
LAST-MODIFIED:20250513T054121Z
UID:10001132-1804008600-1804012200@recoverystlouis.org
SUMMARY:AA Secular Sobriety Open-mixed In person/online
DESCRIPTION:Zoom: 343 811 2984\nPW 770507
URL:https://recoverystlouis.org/event/aa-secular-sobriety-open-mixed-in-person-online/2027-03-02/
END:VEVENT
BEGIN:VEVENT
DTSTART;TZID=America/Denver:20270302T190000
DTEND;TZID=America/Denver:20270302T200000
DTSTAMP:20260421T173234
CREATED:20250513T055457Z
LAST-MODIFIED:20250513T055457Z
UID:10003732-1804014000-1804017600@recoverystlouis.org
SUMMARY:AA Burton’s Heroes Open -mixed In person/online
DESCRIPTION:
URL:https://recoverystlouis.org/event/aa-burtons-heroes-open-mixed-in-person-online/2027-03-02/
END:VEVENT
BEGIN:VEVENT
DTSTART;TZID=America/Denver:20270303T170000
DTEND;TZID=America/Denver:20270303T190000
DTSTAMP:20260421T173234
CREATED:20250513T054406Z
LAST-MODIFIED:20250513T054406Z
UID:10001652-1804093200-1804100400@recoverystlouis.org
SUMMARY:Private group
DESCRIPTION:
URL:https://recoverystlouis.org/event/private-group/2027-03-03/
END:VEVENT
BEGIN:VEVENT
DTSTART;TZID=America/Denver:20270304T100000
DTEND;TZID=America/Denver:20270304T111500
DTSTAMP:20260421T173234
CREATED:20250513T054602Z
LAST-MODIFIED:20250530T165143Z
UID:10002172-1804154400-1804158900@recoverystlouis.org
SUMMARY:AA Group 179 Open-mixed In person/online
DESCRIPTION:Zoom 598 988 635\nPW 241200
URL:https://recoverystlouis.org/event/aa-group-179-open-mixed-in-person-online/2027-03-04/
END:VEVENT
BEGIN:VEVENT
DTSTART;TZID=America/Denver:20270304T190000
DTEND;TZID=America/Denver:20270304T200000
DTSTAMP:20260421T173234
CREATED:20250513T055622Z
LAST-MODIFIED:20250513T055622Z
UID:10004252-1804186800-1804190400@recoverystlouis.org
SUMMARY:Recovery Dharma Independent/in person only Open-mixed
DESCRIPTION:Contact\nMichelle T\n(314) 495-8026
URL:https://recoverystlouis.org/event/recovery-dharma-independent-in-person-only-open-mixed/2027-03-04/
END:VEVENT
BEGIN:VEVENT
DTSTART;TZID=America/Denver:20270305T070500
DTEND;TZID=America/Denver:20270305T074500
DTSTAMP:20260421T173234
CREATED:20250513T055108Z
LAST-MODIFIED:20250513T055108Z
UID:10002692-1804230300-1804232700@recoverystlouis.org
SUMMARY:AA Closed/ Men only Primary Purpose Mens
DESCRIPTION:
URL:https://recoverystlouis.org/event/aa-closed-men-only-primary-purpose-mens/2027-03-05/
END:VEVENT
BEGIN:VEVENT
DTSTART;TZID=America/Denver:20270305T174500
DTEND;TZID=America/Denver:20270305T184500
DTSTAMP:20260421T173234
CREATED:20250513T055756Z
LAST-MODIFIED:20250513T055756Z
UID:10004772-1804268700-1804272300@recoverystlouis.org
SUMMARY:AA Group 413- happier Hour Women’s-Open In person/online
DESCRIPTION:Zoom 263 787 324\nPW 279425 \nContact\nLeigh H\n(314) 276-6953
URL:https://recoverystlouis.org/event/aa-group-413-happier-hour-womens-open-in-person-online/2027-03-05/
END:VEVENT
BEGIN:VEVENT
DTSTART;TZID=America/Denver:20270307T090000
DTEND;TZID=America/Denver:20270307T101500
DTSTAMP:20260421T173234
CREATED:20250428T191821Z
LAST-MODIFIED:20250512T070411Z
UID:10000095-1804410000-1804414500@recoverystlouis.org
SUMMARY:AA Group 255-FIVE AND DIME Closed-Mixed In person/online
DESCRIPTION:Zoom:845 2025 1856\nPW: 173321 \nContact\nMichael Mac\n314-249-8149
URL:https://recoverystlouis.org/event/lorem-ipsum/2027-03-07/
END:VEVENT
BEGIN:VEVENT
DTSTART;TZID=America/Denver:20270307T110000
DTEND;TZID=America/Denver:20270307T120000
DTSTAMP:20260421T173234
CREATED:20250513T055407Z
LAST-MODIFIED:20250513T055407Z
UID:10003212-1804417200-1804420800@recoverystlouis.org
SUMMARY:OA Sunday Recovery Open-mixed In person/online
DESCRIPTION:Zoom:264 689 861\nPW:066708 \nContact\nCathy K (314) 538-1331
URL:https://recoverystlouis.org/event/oa-sunday-recovery-open-mixed-in-person-online/2027-03-07/
END:VEVENT
BEGIN:VEVENT
DTSTART;TZID=America/Denver:20270308T180000
DTEND;TZID=America/Denver:20270308T190000
DTSTAMP:20260421T173234
CREATED:20250512T071133Z
LAST-MODIFIED:20250512T071133Z
UID:10000615-1804528800-1804532400@recoverystlouis.org
SUMMARY:I AM RESPONSIBLE Women’s-closed In person-online
DESCRIPTION:Zoom:191 385 271\nPW: 085501 \nContact Clare P\n(314) 448-2101
URL:https://recoverystlouis.org/event/i-am-responsible-womens-closed-in-person-online/2027-03-08/
END:VEVENT
END:VCALENDAR