BEGIN:VCALENDAR
VERSION:2.0
PRODID:-//Recovery St. Louis - ECPv6.15.17.1//NONSGML v1.0//EN
CALSCALE:GREGORIAN
METHOD:PUBLISH
X-WR-CALNAME:Recovery St. Louis
X-ORIGINAL-URL:https://recoverystlouis.org
X-WR-CALDESC:Events for Recovery St. Louis
REFRESH-INTERVAL;VALUE=DURATION:PT1H
X-Robots-Tag:noindex
X-PUBLISHED-TTL:PT1H
BEGIN:VTIMEZONE
TZID:America/Denver
BEGIN:DAYLIGHT
TZOFFSETFROM:-0700
TZOFFSETTO:-0600
TZNAME:MDT
DTSTART:20250309T090000
END:DAYLIGHT
BEGIN:STANDARD
TZOFFSETFROM:-0600
TZOFFSETTO:-0700
TZNAME:MST
DTSTART:20251102T080000
END:STANDARD
BEGIN:DAYLIGHT
TZOFFSETFROM:-0700
TZOFFSETTO:-0600
TZNAME:MDT
DTSTART:20260308T090000
END:DAYLIGHT
BEGIN:STANDARD
TZOFFSETFROM:-0600
TZOFFSETTO:-0700
TZNAME:MST
DTSTART:20261101T080000
END:STANDARD
BEGIN:DAYLIGHT
TZOFFSETFROM:-0700
TZOFFSETTO:-0600
TZNAME:MDT
DTSTART:20270314T090000
END:DAYLIGHT
BEGIN:STANDARD
TZOFFSETFROM:-0600
TZOFFSETTO:-0700
TZNAME:MST
DTSTART:20271107T080000
END:STANDARD
END:VTIMEZONE
BEGIN:VEVENT
DTSTART;TZID=America/Denver:20261204T070500
DTEND;TZID=America/Denver:20261204T074500
DTSTAMP:20260421T125635
CREATED:20250513T055108Z
LAST-MODIFIED:20250513T055108Z
UID:10002679-1796367900-1796370300@recoverystlouis.org
SUMMARY:AA Closed/ Men only Primary Purpose Mens
DESCRIPTION:
URL:https://recoverystlouis.org/event/aa-closed-men-only-primary-purpose-mens/2026-12-04/
END:VEVENT
BEGIN:VEVENT
DTSTART;TZID=America/Denver:20261204T174500
DTEND;TZID=America/Denver:20261204T184500
DTSTAMP:20260421T125635
CREATED:20250513T055756Z
LAST-MODIFIED:20250513T055756Z
UID:10004759-1796406300-1796409900@recoverystlouis.org
SUMMARY:AA Group 413- happier Hour Women’s-Open In person/online
DESCRIPTION:Zoom 263 787 324\nPW 279425 \nContact\nLeigh H\n(314) 276-6953
URL:https://recoverystlouis.org/event/aa-group-413-happier-hour-womens-open-in-person-online/2026-12-04/
END:VEVENT
BEGIN:VEVENT
DTSTART;TZID=America/Denver:20261206T090000
DTEND;TZID=America/Denver:20261206T101500
DTSTAMP:20260421T125635
CREATED:20250428T191821Z
LAST-MODIFIED:20250512T070411Z
UID:10000082-1796547600-1796552100@recoverystlouis.org
SUMMARY:AA Group 255-FIVE AND DIME Closed-Mixed In person/online
DESCRIPTION:Zoom:845 2025 1856\nPW: 173321 \nContact\nMichael Mac\n314-249-8149
URL:https://recoverystlouis.org/event/lorem-ipsum/2026-12-06/
END:VEVENT
BEGIN:VEVENT
DTSTART;TZID=America/Denver:20261206T110000
DTEND;TZID=America/Denver:20261206T120000
DTSTAMP:20260421T125635
CREATED:20250513T055407Z
LAST-MODIFIED:20250513T055407Z
UID:10003199-1796554800-1796558400@recoverystlouis.org
SUMMARY:OA Sunday Recovery Open-mixed In person/online
DESCRIPTION:Zoom:264 689 861\nPW:066708 \nContact\nCathy K (314) 538-1331
URL:https://recoverystlouis.org/event/oa-sunday-recovery-open-mixed-in-person-online/2026-12-06/
END:VEVENT
BEGIN:VEVENT
DTSTART;TZID=America/Denver:20261207T180000
DTEND;TZID=America/Denver:20261207T190000
DTSTAMP:20260421T125635
CREATED:20250512T071133Z
LAST-MODIFIED:20250512T071133Z
UID:10000602-1796666400-1796670000@recoverystlouis.org
SUMMARY:I AM RESPONSIBLE Women’s-closed In person-online
DESCRIPTION:Zoom:191 385 271\nPW: 085501 \nContact Clare P\n(314) 448-2101
URL:https://recoverystlouis.org/event/i-am-responsible-womens-closed-in-person-online/2026-12-07/
END:VEVENT
BEGIN:VEVENT
DTSTART;TZID=America/Denver:20261208T173000
DTEND;TZID=America/Denver:20261208T183000
DTSTAMP:20260421T125635
CREATED:20250513T054121Z
LAST-MODIFIED:20250513T054121Z
UID:10001120-1796751000-1796754600@recoverystlouis.org
SUMMARY:AA Secular Sobriety Open-mixed In person/online
DESCRIPTION:Zoom: 343 811 2984\nPW 770507
URL:https://recoverystlouis.org/event/aa-secular-sobriety-open-mixed-in-person-online/2026-12-08/
END:VEVENT
BEGIN:VEVENT
DTSTART;TZID=America/Denver:20261208T190000
DTEND;TZID=America/Denver:20261208T200000
DTSTAMP:20260421T125636
CREATED:20250513T055457Z
LAST-MODIFIED:20250513T055457Z
UID:10003720-1796756400-1796760000@recoverystlouis.org
SUMMARY:AA Burton’s Heroes Open -mixed In person/online
DESCRIPTION:
URL:https://recoverystlouis.org/event/aa-burtons-heroes-open-mixed-in-person-online/2026-12-08/
END:VEVENT
BEGIN:VEVENT
DTSTART;TZID=America/Denver:20261209T170000
DTEND;TZID=America/Denver:20261209T190000
DTSTAMP:20260421T125636
CREATED:20250513T054406Z
LAST-MODIFIED:20250513T054406Z
UID:10001640-1796835600-1796842800@recoverystlouis.org
SUMMARY:Private group
DESCRIPTION:
URL:https://recoverystlouis.org/event/private-group/2026-12-09/
END:VEVENT
BEGIN:VEVENT
DTSTART;TZID=America/Denver:20261210T100000
DTEND;TZID=America/Denver:20261210T111500
DTSTAMP:20260421T125636
CREATED:20250513T054602Z
LAST-MODIFIED:20250530T165143Z
UID:10002160-1796896800-1796901300@recoverystlouis.org
SUMMARY:AA Group 179 Open-mixed In person/online
DESCRIPTION:Zoom 598 988 635\nPW 241200
URL:https://recoverystlouis.org/event/aa-group-179-open-mixed-in-person-online/2026-12-10/
END:VEVENT
BEGIN:VEVENT
DTSTART;TZID=America/Denver:20261210T190000
DTEND;TZID=America/Denver:20261210T200000
DTSTAMP:20260421T125636
CREATED:20250513T055622Z
LAST-MODIFIED:20250513T055622Z
UID:10004240-1796929200-1796932800@recoverystlouis.org
SUMMARY:Recovery Dharma Independent/in person only Open-mixed
DESCRIPTION:Contact\nMichelle T\n(314) 495-8026
URL:https://recoverystlouis.org/event/recovery-dharma-independent-in-person-only-open-mixed/2026-12-10/
END:VEVENT
BEGIN:VEVENT
DTSTART;TZID=America/Denver:20261211T070500
DTEND;TZID=America/Denver:20261211T074500
DTSTAMP:20260421T125636
CREATED:20250513T055108Z
LAST-MODIFIED:20250513T055108Z
UID:10002680-1796972700-1796975100@recoverystlouis.org
SUMMARY:AA Closed/ Men only Primary Purpose Mens
DESCRIPTION:
URL:https://recoverystlouis.org/event/aa-closed-men-only-primary-purpose-mens/2026-12-11/
END:VEVENT
BEGIN:VEVENT
DTSTART;TZID=America/Denver:20261211T174500
DTEND;TZID=America/Denver:20261211T184500
DTSTAMP:20260421T125636
CREATED:20250513T055756Z
LAST-MODIFIED:20250513T055756Z
UID:10004760-1797011100-1797014700@recoverystlouis.org
SUMMARY:AA Group 413- happier Hour Women’s-Open In person/online
DESCRIPTION:Zoom 263 787 324\nPW 279425 \nContact\nLeigh H\n(314) 276-6953
URL:https://recoverystlouis.org/event/aa-group-413-happier-hour-womens-open-in-person-online/2026-12-11/
END:VEVENT
BEGIN:VEVENT
DTSTART;TZID=America/Denver:20261213T090000
DTEND;TZID=America/Denver:20261213T101500
DTSTAMP:20260421T125636
CREATED:20250428T191821Z
LAST-MODIFIED:20250512T070411Z
UID:10000083-1797152400-1797156900@recoverystlouis.org
SUMMARY:AA Group 255-FIVE AND DIME Closed-Mixed In person/online
DESCRIPTION:Zoom:845 2025 1856\nPW: 173321 \nContact\nMichael Mac\n314-249-8149
URL:https://recoverystlouis.org/event/lorem-ipsum/2026-12-13/
END:VEVENT
BEGIN:VEVENT
DTSTART;TZID=America/Denver:20261213T110000
DTEND;TZID=America/Denver:20261213T120000
DTSTAMP:20260421T125636
CREATED:20250513T055407Z
LAST-MODIFIED:20250513T055407Z
UID:10003200-1797159600-1797163200@recoverystlouis.org
SUMMARY:OA Sunday Recovery Open-mixed In person/online
DESCRIPTION:Zoom:264 689 861\nPW:066708 \nContact\nCathy K (314) 538-1331
URL:https://recoverystlouis.org/event/oa-sunday-recovery-open-mixed-in-person-online/2026-12-13/
END:VEVENT
BEGIN:VEVENT
DTSTART;TZID=America/Denver:20261214T180000
DTEND;TZID=America/Denver:20261214T190000
DTSTAMP:20260421T125636
CREATED:20250512T071133Z
LAST-MODIFIED:20250512T071133Z
UID:10000603-1797271200-1797274800@recoverystlouis.org
SUMMARY:I AM RESPONSIBLE Women’s-closed In person-online
DESCRIPTION:Zoom:191 385 271\nPW: 085501 \nContact Clare P\n(314) 448-2101
URL:https://recoverystlouis.org/event/i-am-responsible-womens-closed-in-person-online/2026-12-14/
END:VEVENT
BEGIN:VEVENT
DTSTART;TZID=America/Denver:20261215T173000
DTEND;TZID=America/Denver:20261215T183000
DTSTAMP:20260421T125636
CREATED:20250513T054121Z
LAST-MODIFIED:20250513T054121Z
UID:10001121-1797355800-1797359400@recoverystlouis.org
SUMMARY:AA Secular Sobriety Open-mixed In person/online
DESCRIPTION:Zoom: 343 811 2984\nPW 770507
URL:https://recoverystlouis.org/event/aa-secular-sobriety-open-mixed-in-person-online/2026-12-15/
END:VEVENT
BEGIN:VEVENT
DTSTART;TZID=America/Denver:20261215T190000
DTEND;TZID=America/Denver:20261215T200000
DTSTAMP:20260421T125636
CREATED:20250513T055457Z
LAST-MODIFIED:20250513T055457Z
UID:10003721-1797361200-1797364800@recoverystlouis.org
SUMMARY:AA Burton’s Heroes Open -mixed In person/online
DESCRIPTION:
URL:https://recoverystlouis.org/event/aa-burtons-heroes-open-mixed-in-person-online/2026-12-15/
END:VEVENT
BEGIN:VEVENT
DTSTART;TZID=America/Denver:20261216T170000
DTEND;TZID=America/Denver:20261216T190000
DTSTAMP:20260421T125636
CREATED:20250513T054406Z
LAST-MODIFIED:20250513T054406Z
UID:10001641-1797440400-1797447600@recoverystlouis.org
SUMMARY:Private group
DESCRIPTION:
URL:https://recoverystlouis.org/event/private-group/2026-12-16/
END:VEVENT
BEGIN:VEVENT
DTSTART;TZID=America/Denver:20261217T100000
DTEND;TZID=America/Denver:20261217T111500
DTSTAMP:20260421T125636
CREATED:20250513T054602Z
LAST-MODIFIED:20250530T165143Z
UID:10002161-1797501600-1797506100@recoverystlouis.org
SUMMARY:AA Group 179 Open-mixed In person/online
DESCRIPTION:Zoom 598 988 635\nPW 241200
URL:https://recoverystlouis.org/event/aa-group-179-open-mixed-in-person-online/2026-12-17/
END:VEVENT
BEGIN:VEVENT
DTSTART;TZID=America/Denver:20261217T190000
DTEND;TZID=America/Denver:20261217T200000
DTSTAMP:20260421T125636
CREATED:20250513T055622Z
LAST-MODIFIED:20250513T055622Z
UID:10004241-1797534000-1797537600@recoverystlouis.org
SUMMARY:Recovery Dharma Independent/in person only Open-mixed
DESCRIPTION:Contact\nMichelle T\n(314) 495-8026
URL:https://recoverystlouis.org/event/recovery-dharma-independent-in-person-only-open-mixed/2026-12-17/
END:VEVENT
BEGIN:VEVENT
DTSTART;TZID=America/Denver:20261218T070500
DTEND;TZID=America/Denver:20261218T074500
DTSTAMP:20260421T125636
CREATED:20250513T055108Z
LAST-MODIFIED:20250513T055108Z
UID:10002681-1797577500-1797579900@recoverystlouis.org
SUMMARY:AA Closed/ Men only Primary Purpose Mens
DESCRIPTION:
URL:https://recoverystlouis.org/event/aa-closed-men-only-primary-purpose-mens/2026-12-18/
END:VEVENT
BEGIN:VEVENT
DTSTART;TZID=America/Denver:20261218T174500
DTEND;TZID=America/Denver:20261218T184500
DTSTAMP:20260421T125636
CREATED:20250513T055756Z
LAST-MODIFIED:20250513T055756Z
UID:10004761-1797615900-1797619500@recoverystlouis.org
SUMMARY:AA Group 413- happier Hour Women’s-Open In person/online
DESCRIPTION:Zoom 263 787 324\nPW 279425 \nContact\nLeigh H\n(314) 276-6953
URL:https://recoverystlouis.org/event/aa-group-413-happier-hour-womens-open-in-person-online/2026-12-18/
END:VEVENT
BEGIN:VEVENT
DTSTART;TZID=America/Denver:20261220T090000
DTEND;TZID=America/Denver:20261220T101500
DTSTAMP:20260421T125636
CREATED:20250428T191821Z
LAST-MODIFIED:20250512T070411Z
UID:10000084-1797757200-1797761700@recoverystlouis.org
SUMMARY:AA Group 255-FIVE AND DIME Closed-Mixed In person/online
DESCRIPTION:Zoom:845 2025 1856\nPW: 173321 \nContact\nMichael Mac\n314-249-8149
URL:https://recoverystlouis.org/event/lorem-ipsum/2026-12-20/
END:VEVENT
BEGIN:VEVENT
DTSTART;TZID=America/Denver:20261220T110000
DTEND;TZID=America/Denver:20261220T120000
DTSTAMP:20260421T125636
CREATED:20250513T055407Z
LAST-MODIFIED:20250513T055407Z
UID:10003201-1797764400-1797768000@recoverystlouis.org
SUMMARY:OA Sunday Recovery Open-mixed In person/online
DESCRIPTION:Zoom:264 689 861\nPW:066708 \nContact\nCathy K (314) 538-1331
URL:https://recoverystlouis.org/event/oa-sunday-recovery-open-mixed-in-person-online/2026-12-20/
END:VEVENT
BEGIN:VEVENT
DTSTART;TZID=America/Denver:20261221T180000
DTEND;TZID=America/Denver:20261221T190000
DTSTAMP:20260421T125636
CREATED:20250512T071133Z
LAST-MODIFIED:20250512T071133Z
UID:10000604-1797876000-1797879600@recoverystlouis.org
SUMMARY:I AM RESPONSIBLE Women’s-closed In person-online
DESCRIPTION:Zoom:191 385 271\nPW: 085501 \nContact Clare P\n(314) 448-2101
URL:https://recoverystlouis.org/event/i-am-responsible-womens-closed-in-person-online/2026-12-21/
END:VEVENT
BEGIN:VEVENT
DTSTART;TZID=America/Denver:20261222T173000
DTEND;TZID=America/Denver:20261222T183000
DTSTAMP:20260421T125636
CREATED:20250513T054121Z
LAST-MODIFIED:20250513T054121Z
UID:10001122-1797960600-1797964200@recoverystlouis.org
SUMMARY:AA Secular Sobriety Open-mixed In person/online
DESCRIPTION:Zoom: 343 811 2984\nPW 770507
URL:https://recoverystlouis.org/event/aa-secular-sobriety-open-mixed-in-person-online/2026-12-22/
END:VEVENT
BEGIN:VEVENT
DTSTART;TZID=America/Denver:20261222T190000
DTEND;TZID=America/Denver:20261222T200000
DTSTAMP:20260421T125636
CREATED:20250513T055457Z
LAST-MODIFIED:20250513T055457Z
UID:10003722-1797966000-1797969600@recoverystlouis.org
SUMMARY:AA Burton’s Heroes Open -mixed In person/online
DESCRIPTION:
URL:https://recoverystlouis.org/event/aa-burtons-heroes-open-mixed-in-person-online/2026-12-22/
END:VEVENT
BEGIN:VEVENT
DTSTART;TZID=America/Denver:20261223T170000
DTEND;TZID=America/Denver:20261223T190000
DTSTAMP:20260421T125636
CREATED:20250513T054406Z
LAST-MODIFIED:20250513T054406Z
UID:10001642-1798045200-1798052400@recoverystlouis.org
SUMMARY:Private group
DESCRIPTION:
URL:https://recoverystlouis.org/event/private-group/2026-12-23/
END:VEVENT
BEGIN:VEVENT
DTSTART;TZID=America/Denver:20261224T100000
DTEND;TZID=America/Denver:20261224T111500
DTSTAMP:20260421T125636
CREATED:20250513T054602Z
LAST-MODIFIED:20250530T165143Z
UID:10002162-1798106400-1798110900@recoverystlouis.org
SUMMARY:AA Group 179 Open-mixed In person/online
DESCRIPTION:Zoom 598 988 635\nPW 241200
URL:https://recoverystlouis.org/event/aa-group-179-open-mixed-in-person-online/2026-12-24/
END:VEVENT
BEGIN:VEVENT
DTSTART;TZID=America/Denver:20261224T190000
DTEND;TZID=America/Denver:20261224T200000
DTSTAMP:20260421T125636
CREATED:20250513T055622Z
LAST-MODIFIED:20250513T055622Z
UID:10004242-1798138800-1798142400@recoverystlouis.org
SUMMARY:Recovery Dharma Independent/in person only Open-mixed
DESCRIPTION:Contact\nMichelle T\n(314) 495-8026
URL:https://recoverystlouis.org/event/recovery-dharma-independent-in-person-only-open-mixed/2026-12-24/
END:VEVENT
END:VCALENDAR