BEGIN:VCALENDAR
VERSION:2.0
PRODID:-//Recovery St. Louis - ECPv6.15.17.1//NONSGML v1.0//EN
CALSCALE:GREGORIAN
METHOD:PUBLISH
X-WR-CALNAME:Recovery St. Louis
X-ORIGINAL-URL:https://recoverystlouis.org
X-WR-CALDESC:Events for Recovery St. Louis
REFRESH-INTERVAL;VALUE=DURATION:PT1H
X-Robots-Tag:noindex
X-PUBLISHED-TTL:PT1H
BEGIN:VTIMEZONE
TZID:America/Denver
BEGIN:DAYLIGHT
TZOFFSETFROM:-0700
TZOFFSETTO:-0600
TZNAME:MDT
DTSTART:20240310T090000
END:DAYLIGHT
BEGIN:STANDARD
TZOFFSETFROM:-0600
TZOFFSETTO:-0700
TZNAME:MST
DTSTART:20241103T080000
END:STANDARD
BEGIN:DAYLIGHT
TZOFFSETFROM:-0700
TZOFFSETTO:-0600
TZNAME:MDT
DTSTART:20250309T090000
END:DAYLIGHT
BEGIN:STANDARD
TZOFFSETFROM:-0600
TZOFFSETTO:-0700
TZNAME:MST
DTSTART:20251102T080000
END:STANDARD
BEGIN:DAYLIGHT
TZOFFSETFROM:-0700
TZOFFSETTO:-0600
TZNAME:MDT
DTSTART:20260308T090000
END:DAYLIGHT
BEGIN:STANDARD
TZOFFSETFROM:-0600
TZOFFSETTO:-0700
TZNAME:MST
DTSTART:20261101T080000
END:STANDARD
END:VTIMEZONE
BEGIN:VEVENT
DTSTART;TZID=America/Denver:20251028T173000
DTEND;TZID=America/Denver:20251028T183000
DTSTAMP:20260421T135641
CREATED:20250513T054121Z
LAST-MODIFIED:20250513T054121Z
UID:10001062-1761672600-1761676200@recoverystlouis.org
SUMMARY:AA Secular Sobriety Open-mixed In person/online
DESCRIPTION:Zoom: 343 811 2984\nPW 770507
URL:https://recoverystlouis.org/event/aa-secular-sobriety-open-mixed-in-person-online/2025-10-28/
END:VEVENT
BEGIN:VEVENT
DTSTART;TZID=America/Denver:20251027T180000
DTEND;TZID=America/Denver:20251027T190000
DTSTAMP:20260421T135641
CREATED:20250512T071133Z
LAST-MODIFIED:20250512T071133Z
UID:10000544-1761588000-1761591600@recoverystlouis.org
SUMMARY:I AM RESPONSIBLE Women’s-closed In person-online
DESCRIPTION:Zoom:191 385 271\nPW: 085501 \nContact Clare P\n(314) 448-2101
URL:https://recoverystlouis.org/event/i-am-responsible-womens-closed-in-person-online/2025-10-27/
END:VEVENT
BEGIN:VEVENT
DTSTART;TZID=America/Denver:20251026T110000
DTEND;TZID=America/Denver:20251026T120000
DTSTAMP:20260421T135641
CREATED:20250513T055407Z
LAST-MODIFIED:20250513T055407Z
UID:10003141-1761476400-1761480000@recoverystlouis.org
SUMMARY:OA Sunday Recovery Open-mixed In person/online
DESCRIPTION:Zoom:264 689 861\nPW:066708 \nContact\nCathy K (314) 538-1331
URL:https://recoverystlouis.org/event/oa-sunday-recovery-open-mixed-in-person-online/2025-10-26/
END:VEVENT
BEGIN:VEVENT
DTSTART;TZID=America/Denver:20251026T090000
DTEND;TZID=America/Denver:20251026T101500
DTSTAMP:20260421T135641
CREATED:20250428T191821Z
LAST-MODIFIED:20250512T070411Z
UID:10000024-1761469200-1761473700@recoverystlouis.org
SUMMARY:AA Group 255-FIVE AND DIME Closed-Mixed In person/online
DESCRIPTION:Zoom:845 2025 1856\nPW: 173321 \nContact\nMichael Mac\n314-249-8149
URL:https://recoverystlouis.org/event/lorem-ipsum/2025-10-26/
END:VEVENT
BEGIN:VEVENT
DTSTART;TZID=America/Denver:20251024T174500
DTEND;TZID=America/Denver:20251024T184500
DTSTAMP:20260421T135641
CREATED:20250513T055756Z
LAST-MODIFIED:20250513T055756Z
UID:10004701-1761327900-1761331500@recoverystlouis.org
SUMMARY:AA Group 413- happier Hour Women’s-Open In person/online
DESCRIPTION:Zoom 263 787 324\nPW 279425 \nContact\nLeigh H\n(314) 276-6953
URL:https://recoverystlouis.org/event/aa-group-413-happier-hour-womens-open-in-person-online/2025-10-24/
END:VEVENT
BEGIN:VEVENT
DTSTART;TZID=America/Denver:20251024T070500
DTEND;TZID=America/Denver:20251024T074500
DTSTAMP:20260421T135641
CREATED:20250513T055108Z
LAST-MODIFIED:20250513T055108Z
UID:10002621-1761289500-1761291900@recoverystlouis.org
SUMMARY:AA Closed/ Men only Primary Purpose Mens
DESCRIPTION:
URL:https://recoverystlouis.org/event/aa-closed-men-only-primary-purpose-mens/2025-10-24/
END:VEVENT
BEGIN:VEVENT
DTSTART;TZID=America/Denver:20251023T190000
DTEND;TZID=America/Denver:20251023T200000
DTSTAMP:20260421T135641
CREATED:20250513T055622Z
LAST-MODIFIED:20250513T055622Z
UID:10004181-1761246000-1761249600@recoverystlouis.org
SUMMARY:Recovery Dharma Independent/in person only Open-mixed
DESCRIPTION:Contact\nMichelle T\n(314) 495-8026
URL:https://recoverystlouis.org/event/recovery-dharma-independent-in-person-only-open-mixed/2025-10-23/
END:VEVENT
BEGIN:VEVENT
DTSTART;TZID=America/Denver:20251023T100000
DTEND;TZID=America/Denver:20251023T111500
DTSTAMP:20260421T135641
CREATED:20250513T054602Z
LAST-MODIFIED:20250530T165143Z
UID:10002101-1761213600-1761218100@recoverystlouis.org
SUMMARY:AA Group 179 Open-mixed In person/online
DESCRIPTION:Zoom 598 988 635\nPW 241200
URL:https://recoverystlouis.org/event/aa-group-179-open-mixed-in-person-online/2025-10-23/
END:VEVENT
BEGIN:VEVENT
DTSTART;TZID=America/Denver:20251022T170000
DTEND;TZID=America/Denver:20251022T190000
DTSTAMP:20260421T135641
CREATED:20250513T054406Z
LAST-MODIFIED:20250513T054406Z
UID:10001581-1761152400-1761159600@recoverystlouis.org
SUMMARY:Private group
DESCRIPTION:
URL:https://recoverystlouis.org/event/private-group/2025-10-22/
END:VEVENT
BEGIN:VEVENT
DTSTART;TZID=America/Denver:20251021T190000
DTEND;TZID=America/Denver:20251021T200000
DTSTAMP:20260421T135641
CREATED:20250513T055457Z
LAST-MODIFIED:20250513T055457Z
UID:10003661-1761073200-1761076800@recoverystlouis.org
SUMMARY:AA Burton’s Heroes Open -mixed In person/online
DESCRIPTION:
URL:https://recoverystlouis.org/event/aa-burtons-heroes-open-mixed-in-person-online/2025-10-21/
END:VEVENT
BEGIN:VEVENT
DTSTART;TZID=America/Denver:20251021T173000
DTEND;TZID=America/Denver:20251021T183000
DTSTAMP:20260421T135641
CREATED:20250513T054121Z
LAST-MODIFIED:20250513T054121Z
UID:10001061-1761067800-1761071400@recoverystlouis.org
SUMMARY:AA Secular Sobriety Open-mixed In person/online
DESCRIPTION:Zoom: 343 811 2984\nPW 770507
URL:https://recoverystlouis.org/event/aa-secular-sobriety-open-mixed-in-person-online/2025-10-21/
END:VEVENT
BEGIN:VEVENT
DTSTART;TZID=America/Denver:20251020T180000
DTEND;TZID=America/Denver:20251020T190000
DTSTAMP:20260421T135641
CREATED:20250512T071133Z
LAST-MODIFIED:20250512T071133Z
UID:10000543-1760983200-1760986800@recoverystlouis.org
SUMMARY:I AM RESPONSIBLE Women’s-closed In person-online
DESCRIPTION:Zoom:191 385 271\nPW: 085501 \nContact Clare P\n(314) 448-2101
URL:https://recoverystlouis.org/event/i-am-responsible-womens-closed-in-person-online/2025-10-20/
END:VEVENT
BEGIN:VEVENT
DTSTART;TZID=America/Denver:20251019T110000
DTEND;TZID=America/Denver:20251019T120000
DTSTAMP:20260421T135641
CREATED:20250513T055407Z
LAST-MODIFIED:20250513T055407Z
UID:10003140-1760871600-1760875200@recoverystlouis.org
SUMMARY:OA Sunday Recovery Open-mixed In person/online
DESCRIPTION:Zoom:264 689 861\nPW:066708 \nContact\nCathy K (314) 538-1331
URL:https://recoverystlouis.org/event/oa-sunday-recovery-open-mixed-in-person-online/2025-10-19/
END:VEVENT
BEGIN:VEVENT
DTSTART;TZID=America/Denver:20251019T090000
DTEND;TZID=America/Denver:20251019T101500
DTSTAMP:20260421T135641
CREATED:20250428T191821Z
LAST-MODIFIED:20250512T070411Z
UID:10000023-1760864400-1760868900@recoverystlouis.org
SUMMARY:AA Group 255-FIVE AND DIME Closed-Mixed In person/online
DESCRIPTION:Zoom:845 2025 1856\nPW: 173321 \nContact\nMichael Mac\n314-249-8149
URL:https://recoverystlouis.org/event/lorem-ipsum/2025-10-19/
END:VEVENT
BEGIN:VEVENT
DTSTART;TZID=America/Denver:20251017T174500
DTEND;TZID=America/Denver:20251017T184500
DTSTAMP:20260421T135641
CREATED:20250513T055756Z
LAST-MODIFIED:20250513T055756Z
UID:10004700-1760723100-1760726700@recoverystlouis.org
SUMMARY:AA Group 413- happier Hour Women’s-Open In person/online
DESCRIPTION:Zoom 263 787 324\nPW 279425 \nContact\nLeigh H\n(314) 276-6953
URL:https://recoverystlouis.org/event/aa-group-413-happier-hour-womens-open-in-person-online/2025-10-17/
END:VEVENT
BEGIN:VEVENT
DTSTART;TZID=America/Denver:20251017T070500
DTEND;TZID=America/Denver:20251017T074500
DTSTAMP:20260421T135641
CREATED:20250513T055108Z
LAST-MODIFIED:20250513T055108Z
UID:10002620-1760684700-1760687100@recoverystlouis.org
SUMMARY:AA Closed/ Men only Primary Purpose Mens
DESCRIPTION:
URL:https://recoverystlouis.org/event/aa-closed-men-only-primary-purpose-mens/2025-10-17/
END:VEVENT
BEGIN:VEVENT
DTSTART;TZID=America/Denver:20251016T190000
DTEND;TZID=America/Denver:20251016T200000
DTSTAMP:20260421T135641
CREATED:20250513T055622Z
LAST-MODIFIED:20250513T055622Z
UID:10004180-1760641200-1760644800@recoverystlouis.org
SUMMARY:Recovery Dharma Independent/in person only Open-mixed
DESCRIPTION:Contact\nMichelle T\n(314) 495-8026
URL:https://recoverystlouis.org/event/recovery-dharma-independent-in-person-only-open-mixed/2025-10-16/
END:VEVENT
BEGIN:VEVENT
DTSTART;TZID=America/Denver:20251016T100000
DTEND;TZID=America/Denver:20251016T111500
DTSTAMP:20260421T135641
CREATED:20250513T054602Z
LAST-MODIFIED:20250530T165143Z
UID:10002100-1760608800-1760613300@recoverystlouis.org
SUMMARY:AA Group 179 Open-mixed In person/online
DESCRIPTION:Zoom 598 988 635\nPW 241200
URL:https://recoverystlouis.org/event/aa-group-179-open-mixed-in-person-online/2025-10-16/
END:VEVENT
BEGIN:VEVENT
DTSTART;TZID=America/Denver:20251015T170000
DTEND;TZID=America/Denver:20251015T190000
DTSTAMP:20260421T135641
CREATED:20250513T054406Z
LAST-MODIFIED:20250513T054406Z
UID:10001580-1760547600-1760554800@recoverystlouis.org
SUMMARY:Private group
DESCRIPTION:
URL:https://recoverystlouis.org/event/private-group/2025-10-15/
END:VEVENT
BEGIN:VEVENT
DTSTART;TZID=America/Denver:20251014T190000
DTEND;TZID=America/Denver:20251014T200000
DTSTAMP:20260421T135641
CREATED:20250513T055457Z
LAST-MODIFIED:20250513T055457Z
UID:10003660-1760468400-1760472000@recoverystlouis.org
SUMMARY:AA Burton’s Heroes Open -mixed In person/online
DESCRIPTION:
URL:https://recoverystlouis.org/event/aa-burtons-heroes-open-mixed-in-person-online/2025-10-14/
END:VEVENT
BEGIN:VEVENT
DTSTART;TZID=America/Denver:20251014T173000
DTEND;TZID=America/Denver:20251014T183000
DTSTAMP:20260421T135641
CREATED:20250513T054121Z
LAST-MODIFIED:20250513T054121Z
UID:10001060-1760463000-1760466600@recoverystlouis.org
SUMMARY:AA Secular Sobriety Open-mixed In person/online
DESCRIPTION:Zoom: 343 811 2984\nPW 770507
URL:https://recoverystlouis.org/event/aa-secular-sobriety-open-mixed-in-person-online/2025-10-14/
END:VEVENT
BEGIN:VEVENT
DTSTART;TZID=America/Denver:20251013T180000
DTEND;TZID=America/Denver:20251013T190000
DTSTAMP:20260421T135641
CREATED:20250512T071133Z
LAST-MODIFIED:20250512T071133Z
UID:10000542-1760378400-1760382000@recoverystlouis.org
SUMMARY:I AM RESPONSIBLE Women’s-closed In person-online
DESCRIPTION:Zoom:191 385 271\nPW: 085501 \nContact Clare P\n(314) 448-2101
URL:https://recoverystlouis.org/event/i-am-responsible-womens-closed-in-person-online/2025-10-13/
END:VEVENT
BEGIN:VEVENT
DTSTART;TZID=America/Denver:20251012T110000
DTEND;TZID=America/Denver:20251012T120000
DTSTAMP:20260421T135641
CREATED:20250513T055407Z
LAST-MODIFIED:20250513T055407Z
UID:10003139-1760266800-1760270400@recoverystlouis.org
SUMMARY:OA Sunday Recovery Open-mixed In person/online
DESCRIPTION:Zoom:264 689 861\nPW:066708 \nContact\nCathy K (314) 538-1331
URL:https://recoverystlouis.org/event/oa-sunday-recovery-open-mixed-in-person-online/2025-10-12/
END:VEVENT
BEGIN:VEVENT
DTSTART;TZID=America/Denver:20251012T090000
DTEND;TZID=America/Denver:20251012T101500
DTSTAMP:20260421T135641
CREATED:20250428T191821Z
LAST-MODIFIED:20250512T070411Z
UID:10000022-1760259600-1760264100@recoverystlouis.org
SUMMARY:AA Group 255-FIVE AND DIME Closed-Mixed In person/online
DESCRIPTION:Zoom:845 2025 1856\nPW: 173321 \nContact\nMichael Mac\n314-249-8149
URL:https://recoverystlouis.org/event/lorem-ipsum/2025-10-12/
END:VEVENT
BEGIN:VEVENT
DTSTART;TZID=America/Denver:20251010T174500
DTEND;TZID=America/Denver:20251010T184500
DTSTAMP:20260421T135641
CREATED:20250513T055756Z
LAST-MODIFIED:20250513T055756Z
UID:10004699-1760118300-1760121900@recoverystlouis.org
SUMMARY:AA Group 413- happier Hour Women’s-Open In person/online
DESCRIPTION:Zoom 263 787 324\nPW 279425 \nContact\nLeigh H\n(314) 276-6953
URL:https://recoverystlouis.org/event/aa-group-413-happier-hour-womens-open-in-person-online/2025-10-10/
END:VEVENT
BEGIN:VEVENT
DTSTART;TZID=America/Denver:20251010T070500
DTEND;TZID=America/Denver:20251010T074500
DTSTAMP:20260421T135641
CREATED:20250513T055108Z
LAST-MODIFIED:20250513T055108Z
UID:10002619-1760079900-1760082300@recoverystlouis.org
SUMMARY:AA Closed/ Men only Primary Purpose Mens
DESCRIPTION:
URL:https://recoverystlouis.org/event/aa-closed-men-only-primary-purpose-mens/2025-10-10/
END:VEVENT
BEGIN:VEVENT
DTSTART;TZID=America/Denver:20251009T190000
DTEND;TZID=America/Denver:20251009T200000
DTSTAMP:20260421T135641
CREATED:20250513T055622Z
LAST-MODIFIED:20250513T055622Z
UID:10004179-1760036400-1760040000@recoverystlouis.org
SUMMARY:Recovery Dharma Independent/in person only Open-mixed
DESCRIPTION:Contact\nMichelle T\n(314) 495-8026
URL:https://recoverystlouis.org/event/recovery-dharma-independent-in-person-only-open-mixed/2025-10-09/
END:VEVENT
BEGIN:VEVENT
DTSTART;TZID=America/Denver:20251009T100000
DTEND;TZID=America/Denver:20251009T111500
DTSTAMP:20260421T135641
CREATED:20250513T054602Z
LAST-MODIFIED:20250530T165143Z
UID:10002099-1760004000-1760008500@recoverystlouis.org
SUMMARY:AA Group 179 Open-mixed In person/online
DESCRIPTION:Zoom 598 988 635\nPW 241200
URL:https://recoverystlouis.org/event/aa-group-179-open-mixed-in-person-online/2025-10-09/
END:VEVENT
BEGIN:VEVENT
DTSTART;TZID=America/Denver:20251008T170000
DTEND;TZID=America/Denver:20251008T190000
DTSTAMP:20260421T135641
CREATED:20250513T054406Z
LAST-MODIFIED:20250513T054406Z
UID:10001579-1759942800-1759950000@recoverystlouis.org
SUMMARY:Private group
DESCRIPTION:
URL:https://recoverystlouis.org/event/private-group/2025-10-08/
END:VEVENT
BEGIN:VEVENT
DTSTART;TZID=America/Denver:20251007T190000
DTEND;TZID=America/Denver:20251007T200000
DTSTAMP:20260421T135641
CREATED:20250513T055457Z
LAST-MODIFIED:20250513T055457Z
UID:10003659-1759863600-1759867200@recoverystlouis.org
SUMMARY:AA Burton’s Heroes Open -mixed In person/online
DESCRIPTION:
URL:https://recoverystlouis.org/event/aa-burtons-heroes-open-mixed-in-person-online/2025-10-07/
END:VEVENT
END:VCALENDAR