BEGIN:VCALENDAR
VERSION:2.0
PRODID:-//Recovery St. Louis - ECPv6.15.17.1//NONSGML v1.0//EN
CALSCALE:GREGORIAN
METHOD:PUBLISH
X-ORIGINAL-URL:https://recoverystlouis.org
X-WR-CALDESC:Events for Recovery St. Louis
REFRESH-INTERVAL;VALUE=DURATION:PT1H
X-Robots-Tag:noindex
X-PUBLISHED-TTL:PT1H
BEGIN:VTIMEZONE
TZID:America/Denver
BEGIN:DAYLIGHT
TZOFFSETFROM:-0700
TZOFFSETTO:-0600
TZNAME:MDT
DTSTART:20250309T090000
END:DAYLIGHT
BEGIN:STANDARD
TZOFFSETFROM:-0600
TZOFFSETTO:-0700
TZNAME:MST
DTSTART:20251102T080000
END:STANDARD
BEGIN:DAYLIGHT
TZOFFSETFROM:-0700
TZOFFSETTO:-0600
TZNAME:MDT
DTSTART:20260308T090000
END:DAYLIGHT
BEGIN:STANDARD
TZOFFSETFROM:-0600
TZOFFSETTO:-0700
TZNAME:MST
DTSTART:20261101T080000
END:STANDARD
BEGIN:DAYLIGHT
TZOFFSETFROM:-0700
TZOFFSETTO:-0600
TZNAME:MDT
DTSTART:20270314T090000
END:DAYLIGHT
BEGIN:STANDARD
TZOFFSETFROM:-0600
TZOFFSETTO:-0700
TZNAME:MST
DTSTART:20271107T080000
END:STANDARD
END:VTIMEZONE
BEGIN:VEVENT
DTSTART;TZID=America/Denver:20261119T100000
DTEND;TZID=America/Denver:20261119T111500
DTSTAMP:20260421T151113
CREATED:20250513T054602Z
LAST-MODIFIED:20250530T165143Z
UID:10002157-1795082400-1795086900@recoverystlouis.org
SUMMARY:AA Group 179 Open-mixed In person/online
DESCRIPTION:Zoom 598 988 635\nPW 241200
URL:https://recoverystlouis.org/event/aa-group-179-open-mixed-in-person-online/2026-11-19/
END:VEVENT
BEGIN:VEVENT
DTSTART;TZID=America/Denver:20261119T190000
DTEND;TZID=America/Denver:20261119T200000
DTSTAMP:20260421T151113
CREATED:20250513T055622Z
LAST-MODIFIED:20250513T055622Z
UID:10004237-1795114800-1795118400@recoverystlouis.org
SUMMARY:Recovery Dharma Independent/in person only Open-mixed
DESCRIPTION:Contact\nMichelle T\n(314) 495-8026
URL:https://recoverystlouis.org/event/recovery-dharma-independent-in-person-only-open-mixed/2026-11-19/
END:VEVENT
BEGIN:VEVENT
DTSTART;TZID=America/Denver:20261120T070500
DTEND;TZID=America/Denver:20261120T074500
DTSTAMP:20260421T151113
CREATED:20250513T055108Z
LAST-MODIFIED:20250513T055108Z
UID:10002677-1795158300-1795160700@recoverystlouis.org
SUMMARY:AA Closed/ Men only Primary Purpose Mens
DESCRIPTION:
URL:https://recoverystlouis.org/event/aa-closed-men-only-primary-purpose-mens/2026-11-20/
END:VEVENT
BEGIN:VEVENT
DTSTART;TZID=America/Denver:20261120T174500
DTEND;TZID=America/Denver:20261120T184500
DTSTAMP:20260421T151113
CREATED:20250513T055756Z
LAST-MODIFIED:20250513T055756Z
UID:10004757-1795196700-1795200300@recoverystlouis.org
SUMMARY:AA Group 413- happier Hour Women’s-Open In person/online
DESCRIPTION:Zoom 263 787 324\nPW 279425 \nContact\nLeigh H\n(314) 276-6953
URL:https://recoverystlouis.org/event/aa-group-413-happier-hour-womens-open-in-person-online/2026-11-20/
END:VEVENT
BEGIN:VEVENT
DTSTART;TZID=America/Denver:20261122T090000
DTEND;TZID=America/Denver:20261122T101500
DTSTAMP:20260421T151113
CREATED:20250428T191821Z
LAST-MODIFIED:20250512T070411Z
UID:10000080-1795338000-1795342500@recoverystlouis.org
SUMMARY:AA Group 255-FIVE AND DIME Closed-Mixed In person/online
DESCRIPTION:Zoom:845 2025 1856\nPW: 173321 \nContact\nMichael Mac\n314-249-8149
URL:https://recoverystlouis.org/event/lorem-ipsum/2026-11-22/
END:VEVENT
BEGIN:VEVENT
DTSTART;TZID=America/Denver:20261122T110000
DTEND;TZID=America/Denver:20261122T120000
DTSTAMP:20260421T151113
CREATED:20250513T055407Z
LAST-MODIFIED:20250513T055407Z
UID:10003197-1795345200-1795348800@recoverystlouis.org
SUMMARY:OA Sunday Recovery Open-mixed In person/online
DESCRIPTION:Zoom:264 689 861\nPW:066708 \nContact\nCathy K (314) 538-1331
URL:https://recoverystlouis.org/event/oa-sunday-recovery-open-mixed-in-person-online/2026-11-22/
END:VEVENT
BEGIN:VEVENT
DTSTART;TZID=America/Denver:20261123T180000
DTEND;TZID=America/Denver:20261123T190000
DTSTAMP:20260421T151113
CREATED:20250512T071133Z
LAST-MODIFIED:20250512T071133Z
UID:10000600-1795456800-1795460400@recoverystlouis.org
SUMMARY:I AM RESPONSIBLE Women’s-closed In person-online
DESCRIPTION:Zoom:191 385 271\nPW: 085501 \nContact Clare P\n(314) 448-2101
URL:https://recoverystlouis.org/event/i-am-responsible-womens-closed-in-person-online/2026-11-23/
END:VEVENT
BEGIN:VEVENT
DTSTART;TZID=America/Denver:20261124T173000
DTEND;TZID=America/Denver:20261124T183000
DTSTAMP:20260421T151113
CREATED:20250513T054121Z
LAST-MODIFIED:20250513T054121Z
UID:10001118-1795541400-1795545000@recoverystlouis.org
SUMMARY:AA Secular Sobriety Open-mixed In person/online
DESCRIPTION:Zoom: 343 811 2984\nPW 770507
URL:https://recoverystlouis.org/event/aa-secular-sobriety-open-mixed-in-person-online/2026-11-24/
END:VEVENT
BEGIN:VEVENT
DTSTART;TZID=America/Denver:20261124T190000
DTEND;TZID=America/Denver:20261124T200000
DTSTAMP:20260421T151113
CREATED:20250513T055457Z
LAST-MODIFIED:20250513T055457Z
UID:10003718-1795546800-1795550400@recoverystlouis.org
SUMMARY:AA Burton’s Heroes Open -mixed In person/online
DESCRIPTION:
URL:https://recoverystlouis.org/event/aa-burtons-heroes-open-mixed-in-person-online/2026-11-24/
END:VEVENT
BEGIN:VEVENT
DTSTART;TZID=America/Denver:20261125T170000
DTEND;TZID=America/Denver:20261125T190000
DTSTAMP:20260421T151113
CREATED:20250513T054406Z
LAST-MODIFIED:20250513T054406Z
UID:10001638-1795626000-1795633200@recoverystlouis.org
SUMMARY:Private group
DESCRIPTION:
URL:https://recoverystlouis.org/event/private-group/2026-11-25/
END:VEVENT
BEGIN:VEVENT
DTSTART;TZID=America/Denver:20261126T100000
DTEND;TZID=America/Denver:20261126T111500
DTSTAMP:20260421T151113
CREATED:20250513T054602Z
LAST-MODIFIED:20250530T165143Z
UID:10002158-1795687200-1795691700@recoverystlouis.org
SUMMARY:AA Group 179 Open-mixed In person/online
DESCRIPTION:Zoom 598 988 635\nPW 241200
URL:https://recoverystlouis.org/event/aa-group-179-open-mixed-in-person-online/2026-11-26/
END:VEVENT
BEGIN:VEVENT
DTSTART;TZID=America/Denver:20261126T190000
DTEND;TZID=America/Denver:20261126T200000
DTSTAMP:20260421T151113
CREATED:20250513T055622Z
LAST-MODIFIED:20250513T055622Z
UID:10004238-1795719600-1795723200@recoverystlouis.org
SUMMARY:Recovery Dharma Independent/in person only Open-mixed
DESCRIPTION:Contact\nMichelle T\n(314) 495-8026
URL:https://recoverystlouis.org/event/recovery-dharma-independent-in-person-only-open-mixed/2026-11-26/
END:VEVENT
BEGIN:VEVENT
DTSTART;TZID=America/Denver:20261127T070500
DTEND;TZID=America/Denver:20261127T074500
DTSTAMP:20260421T151113
CREATED:20250513T055108Z
LAST-MODIFIED:20250513T055108Z
UID:10002678-1795763100-1795765500@recoverystlouis.org
SUMMARY:AA Closed/ Men only Primary Purpose Mens
DESCRIPTION:
URL:https://recoverystlouis.org/event/aa-closed-men-only-primary-purpose-mens/2026-11-27/
END:VEVENT
BEGIN:VEVENT
DTSTART;TZID=America/Denver:20261127T174500
DTEND;TZID=America/Denver:20261127T184500
DTSTAMP:20260421T151113
CREATED:20250513T055756Z
LAST-MODIFIED:20250513T055756Z
UID:10004758-1795801500-1795805100@recoverystlouis.org
SUMMARY:AA Group 413- happier Hour Women’s-Open In person/online
DESCRIPTION:Zoom 263 787 324\nPW 279425 \nContact\nLeigh H\n(314) 276-6953
URL:https://recoverystlouis.org/event/aa-group-413-happier-hour-womens-open-in-person-online/2026-11-27/
END:VEVENT
BEGIN:VEVENT
DTSTART;TZID=America/Denver:20261129T090000
DTEND;TZID=America/Denver:20261129T101500
DTSTAMP:20260421T151113
CREATED:20250428T191821Z
LAST-MODIFIED:20250512T070411Z
UID:10000081-1795942800-1795947300@recoverystlouis.org
SUMMARY:AA Group 255-FIVE AND DIME Closed-Mixed In person/online
DESCRIPTION:Zoom:845 2025 1856\nPW: 173321 \nContact\nMichael Mac\n314-249-8149
URL:https://recoverystlouis.org/event/lorem-ipsum/2026-11-29/
END:VEVENT
BEGIN:VEVENT
DTSTART;TZID=America/Denver:20261129T110000
DTEND;TZID=America/Denver:20261129T120000
DTSTAMP:20260421T151113
CREATED:20250513T055407Z
LAST-MODIFIED:20250513T055407Z
UID:10003198-1795950000-1795953600@recoverystlouis.org
SUMMARY:OA Sunday Recovery Open-mixed In person/online
DESCRIPTION:Zoom:264 689 861\nPW:066708 \nContact\nCathy K (314) 538-1331
URL:https://recoverystlouis.org/event/oa-sunday-recovery-open-mixed-in-person-online/2026-11-29/
END:VEVENT
BEGIN:VEVENT
DTSTART;TZID=America/Denver:20261130T180000
DTEND;TZID=America/Denver:20261130T190000
DTSTAMP:20260421T151113
CREATED:20250512T071133Z
LAST-MODIFIED:20250512T071133Z
UID:10000601-1796061600-1796065200@recoverystlouis.org
SUMMARY:I AM RESPONSIBLE Women’s-closed In person-online
DESCRIPTION:Zoom:191 385 271\nPW: 085501 \nContact Clare P\n(314) 448-2101
URL:https://recoverystlouis.org/event/i-am-responsible-womens-closed-in-person-online/2026-11-30/
END:VEVENT
BEGIN:VEVENT
DTSTART;TZID=America/Denver:20261201T173000
DTEND;TZID=America/Denver:20261201T183000
DTSTAMP:20260421T151113
CREATED:20250513T054121Z
LAST-MODIFIED:20250513T054121Z
UID:10001119-1796146200-1796149800@recoverystlouis.org
SUMMARY:AA Secular Sobriety Open-mixed In person/online
DESCRIPTION:Zoom: 343 811 2984\nPW 770507
URL:https://recoverystlouis.org/event/aa-secular-sobriety-open-mixed-in-person-online/2026-12-01/
END:VEVENT
BEGIN:VEVENT
DTSTART;TZID=America/Denver:20261201T190000
DTEND;TZID=America/Denver:20261201T200000
DTSTAMP:20260421T151113
CREATED:20250513T055457Z
LAST-MODIFIED:20250513T055457Z
UID:10003719-1796151600-1796155200@recoverystlouis.org
SUMMARY:AA Burton’s Heroes Open -mixed In person/online
DESCRIPTION:
URL:https://recoverystlouis.org/event/aa-burtons-heroes-open-mixed-in-person-online/2026-12-01/
END:VEVENT
BEGIN:VEVENT
DTSTART;TZID=America/Denver:20261202T170000
DTEND;TZID=America/Denver:20261202T190000
DTSTAMP:20260421T151113
CREATED:20250513T054406Z
LAST-MODIFIED:20250513T054406Z
UID:10001639-1796230800-1796238000@recoverystlouis.org
SUMMARY:Private group
DESCRIPTION:
URL:https://recoverystlouis.org/event/private-group/2026-12-02/
END:VEVENT
BEGIN:VEVENT
DTSTART;TZID=America/Denver:20261203T100000
DTEND;TZID=America/Denver:20261203T111500
DTSTAMP:20260421T151113
CREATED:20250513T054602Z
LAST-MODIFIED:20250530T165143Z
UID:10002159-1796292000-1796296500@recoverystlouis.org
SUMMARY:AA Group 179 Open-mixed In person/online
DESCRIPTION:Zoom 598 988 635\nPW 241200
URL:https://recoverystlouis.org/event/aa-group-179-open-mixed-in-person-online/2026-12-03/
END:VEVENT
BEGIN:VEVENT
DTSTART;TZID=America/Denver:20261203T190000
DTEND;TZID=America/Denver:20261203T200000
DTSTAMP:20260421T151113
CREATED:20250513T055622Z
LAST-MODIFIED:20250513T055622Z
UID:10004239-1796324400-1796328000@recoverystlouis.org
SUMMARY:Recovery Dharma Independent/in person only Open-mixed
DESCRIPTION:Contact\nMichelle T\n(314) 495-8026
URL:https://recoverystlouis.org/event/recovery-dharma-independent-in-person-only-open-mixed/2026-12-03/
END:VEVENT
BEGIN:VEVENT
DTSTART;TZID=America/Denver:20261204T070500
DTEND;TZID=America/Denver:20261204T074500
DTSTAMP:20260421T151113
CREATED:20250513T055108Z
LAST-MODIFIED:20250513T055108Z
UID:10002679-1796367900-1796370300@recoverystlouis.org
SUMMARY:AA Closed/ Men only Primary Purpose Mens
DESCRIPTION:
URL:https://recoverystlouis.org/event/aa-closed-men-only-primary-purpose-mens/2026-12-04/
END:VEVENT
BEGIN:VEVENT
DTSTART;TZID=America/Denver:20261204T174500
DTEND;TZID=America/Denver:20261204T184500
DTSTAMP:20260421T151113
CREATED:20250513T055756Z
LAST-MODIFIED:20250513T055756Z
UID:10004759-1796406300-1796409900@recoverystlouis.org
SUMMARY:AA Group 413- happier Hour Women’s-Open In person/online
DESCRIPTION:Zoom 263 787 324\nPW 279425 \nContact\nLeigh H\n(314) 276-6953
URL:https://recoverystlouis.org/event/aa-group-413-happier-hour-womens-open-in-person-online/2026-12-04/
END:VEVENT
BEGIN:VEVENT
DTSTART;TZID=America/Denver:20261206T090000
DTEND;TZID=America/Denver:20261206T101500
DTSTAMP:20260421T151113
CREATED:20250428T191821Z
LAST-MODIFIED:20250512T070411Z
UID:10000082-1796547600-1796552100@recoverystlouis.org
SUMMARY:AA Group 255-FIVE AND DIME Closed-Mixed In person/online
DESCRIPTION:Zoom:845 2025 1856\nPW: 173321 \nContact\nMichael Mac\n314-249-8149
URL:https://recoverystlouis.org/event/lorem-ipsum/2026-12-06/
END:VEVENT
BEGIN:VEVENT
DTSTART;TZID=America/Denver:20261206T110000
DTEND;TZID=America/Denver:20261206T120000
DTSTAMP:20260421T151113
CREATED:20250513T055407Z
LAST-MODIFIED:20250513T055407Z
UID:10003199-1796554800-1796558400@recoverystlouis.org
SUMMARY:OA Sunday Recovery Open-mixed In person/online
DESCRIPTION:Zoom:264 689 861\nPW:066708 \nContact\nCathy K (314) 538-1331
URL:https://recoverystlouis.org/event/oa-sunday-recovery-open-mixed-in-person-online/2026-12-06/
END:VEVENT
BEGIN:VEVENT
DTSTART;TZID=America/Denver:20261207T180000
DTEND;TZID=America/Denver:20261207T190000
DTSTAMP:20260421T151113
CREATED:20250512T071133Z
LAST-MODIFIED:20250512T071133Z
UID:10000602-1796666400-1796670000@recoverystlouis.org
SUMMARY:I AM RESPONSIBLE Women’s-closed In person-online
DESCRIPTION:Zoom:191 385 271\nPW: 085501 \nContact Clare P\n(314) 448-2101
URL:https://recoverystlouis.org/event/i-am-responsible-womens-closed-in-person-online/2026-12-07/
END:VEVENT
BEGIN:VEVENT
DTSTART;TZID=America/Denver:20261208T173000
DTEND;TZID=America/Denver:20261208T183000
DTSTAMP:20260421T151113
CREATED:20250513T054121Z
LAST-MODIFIED:20250513T054121Z
UID:10001120-1796751000-1796754600@recoverystlouis.org
SUMMARY:AA Secular Sobriety Open-mixed In person/online
DESCRIPTION:Zoom: 343 811 2984\nPW 770507
URL:https://recoverystlouis.org/event/aa-secular-sobriety-open-mixed-in-person-online/2026-12-08/
END:VEVENT
BEGIN:VEVENT
DTSTART;TZID=America/Denver:20261208T190000
DTEND;TZID=America/Denver:20261208T200000
DTSTAMP:20260421T151113
CREATED:20250513T055457Z
LAST-MODIFIED:20250513T055457Z
UID:10003720-1796756400-1796760000@recoverystlouis.org
SUMMARY:AA Burton’s Heroes Open -mixed In person/online
DESCRIPTION:
URL:https://recoverystlouis.org/event/aa-burtons-heroes-open-mixed-in-person-online/2026-12-08/
END:VEVENT
BEGIN:VEVENT
DTSTART;TZID=America/Denver:20261209T170000
DTEND;TZID=America/Denver:20261209T190000
DTSTAMP:20260421T151113
CREATED:20250513T054406Z
LAST-MODIFIED:20250513T054406Z
UID:10001640-1796835600-1796842800@recoverystlouis.org
SUMMARY:Private group
DESCRIPTION:
URL:https://recoverystlouis.org/event/private-group/2026-12-09/
END:VEVENT
END:VCALENDAR