BEGIN:VCALENDAR
VERSION:2.0
PRODID:-//Recovery St. Louis - ECPv6.15.17.1//NONSGML v1.0//EN
CALSCALE:GREGORIAN
METHOD:PUBLISH
X-WR-CALNAME:Recovery St. Louis
X-ORIGINAL-URL:https://recoverystlouis.org
X-WR-CALDESC:Events for Recovery St. Louis
REFRESH-INTERVAL;VALUE=DURATION:PT1H
X-Robots-Tag:noindex
X-PUBLISHED-TTL:PT1H
BEGIN:VTIMEZONE
TZID:America/Denver
BEGIN:DAYLIGHT
TZOFFSETFROM:-0700
TZOFFSETTO:-0600
TZNAME:MDT
DTSTART:20260308T090000
END:DAYLIGHT
BEGIN:STANDARD
TZOFFSETFROM:-0600
TZOFFSETTO:-0700
TZNAME:MST
DTSTART:20261101T080000
END:STANDARD
BEGIN:DAYLIGHT
TZOFFSETFROM:-0700
TZOFFSETTO:-0600
TZNAME:MDT
DTSTART:20270314T090000
END:DAYLIGHT
BEGIN:STANDARD
TZOFFSETFROM:-0600
TZOFFSETTO:-0700
TZNAME:MST
DTSTART:20271107T080000
END:STANDARD
BEGIN:DAYLIGHT
TZOFFSETFROM:-0700
TZOFFSETTO:-0600
TZNAME:MDT
DTSTART:20280312T090000
END:DAYLIGHT
BEGIN:STANDARD
TZOFFSETFROM:-0600
TZOFFSETTO:-0700
TZNAME:MST
DTSTART:20281105T080000
END:STANDARD
BEGIN:DAYLIGHT
TZOFFSETFROM:-0700
TZOFFSETTO:-0600
TZNAME:MDT
DTSTART:20290311T090000
END:DAYLIGHT
BEGIN:STANDARD
TZOFFSETFROM:-0600
TZOFFSETTO:-0700
TZNAME:MST
DTSTART:20291104T080000
END:STANDARD
END:VTIMEZONE
BEGIN:VEVENT
DTSTART;TZID=America/Denver:20271217T070500
DTEND;TZID=America/Denver:20271217T074500
DTSTAMP:20260422T163733
CREATED:20250513T055108Z
LAST-MODIFIED:20250513T055108Z
UID:10002733-1829027100-1829029500@recoverystlouis.org
SUMMARY:AA Closed/ Men only Primary Purpose Mens
DESCRIPTION:
URL:https://recoverystlouis.org/event/aa-closed-men-only-primary-purpose-mens/2027-12-17/
END:VEVENT
BEGIN:VEVENT
DTSTART;TZID=America/Denver:20271217T174500
DTEND;TZID=America/Denver:20271217T184500
DTSTAMP:20260422T163733
CREATED:20250513T055756Z
LAST-MODIFIED:20250513T055756Z
UID:10004813-1829065500-1829069100@recoverystlouis.org
SUMMARY:AA Group 413- happier Hour Women’s-Open In person/online
DESCRIPTION:Zoom 263 787 324\nPW 279425 \nContact\nLeigh H\n(314) 276-6953
URL:https://recoverystlouis.org/event/aa-group-413-happier-hour-womens-open-in-person-online/2027-12-17/
END:VEVENT
BEGIN:VEVENT
DTSTART;TZID=America/Denver:20271219T090000
DTEND;TZID=America/Denver:20271219T101500
DTSTAMP:20260422T163733
CREATED:20250428T191821Z
LAST-MODIFIED:20250512T070411Z
UID:10000136-1829206800-1829211300@recoverystlouis.org
SUMMARY:AA Group 255-FIVE AND DIME Closed-Mixed In person/online
DESCRIPTION:Zoom:845 2025 1856\nPW: 173321 \nContact\nMichael Mac\n314-249-8149
URL:https://recoverystlouis.org/event/lorem-ipsum/2027-12-19/
END:VEVENT
BEGIN:VEVENT
DTSTART;TZID=America/Denver:20271219T110000
DTEND;TZID=America/Denver:20271219T120000
DTSTAMP:20260422T163733
CREATED:20250513T055407Z
LAST-MODIFIED:20250513T055407Z
UID:10003253-1829214000-1829217600@recoverystlouis.org
SUMMARY:OA Sunday Recovery Open-mixed In person/online
DESCRIPTION:Zoom:264 689 861\nPW:066708 \nContact\nCathy K (314) 538-1331
URL:https://recoverystlouis.org/event/oa-sunday-recovery-open-mixed-in-person-online/2027-12-19/
END:VEVENT
BEGIN:VEVENT
DTSTART;TZID=America/Denver:20271220T180000
DTEND;TZID=America/Denver:20271220T190000
DTSTAMP:20260422T163733
CREATED:20250512T071133Z
LAST-MODIFIED:20250512T071133Z
UID:10000656-1829325600-1829329200@recoverystlouis.org
SUMMARY:I AM RESPONSIBLE Women’s-closed In person-online
DESCRIPTION:Zoom:191 385 271\nPW: 085501 \nContact Clare P\n(314) 448-2101
URL:https://recoverystlouis.org/event/i-am-responsible-womens-closed-in-person-online/2027-12-20/
END:VEVENT
BEGIN:VEVENT
DTSTART;TZID=America/Denver:20271221T173000
DTEND;TZID=America/Denver:20271221T183000
DTSTAMP:20260422T163733
CREATED:20250513T054121Z
LAST-MODIFIED:20250513T054121Z
UID:10001174-1829410200-1829413800@recoverystlouis.org
SUMMARY:AA Secular Sobriety Open-mixed In person/online
DESCRIPTION:Zoom: 343 811 2984\nPW 770507
URL:https://recoverystlouis.org/event/aa-secular-sobriety-open-mixed-in-person-online/2027-12-21/
END:VEVENT
BEGIN:VEVENT
DTSTART;TZID=America/Denver:20271221T190000
DTEND;TZID=America/Denver:20271221T200000
DTSTAMP:20260422T163733
CREATED:20250513T055457Z
LAST-MODIFIED:20250513T055457Z
UID:10003774-1829415600-1829419200@recoverystlouis.org
SUMMARY:AA Burton’s Heroes Open -mixed In person/online
DESCRIPTION:
URL:https://recoverystlouis.org/event/aa-burtons-heroes-open-mixed-in-person-online/2027-12-21/
END:VEVENT
BEGIN:VEVENT
DTSTART;TZID=America/Denver:20271222T170000
DTEND;TZID=America/Denver:20271222T190000
DTSTAMP:20260422T163733
CREATED:20250513T054406Z
LAST-MODIFIED:20250513T054406Z
UID:10001694-1829494800-1829502000@recoverystlouis.org
SUMMARY:Private group
DESCRIPTION:
URL:https://recoverystlouis.org/event/private-group/2027-12-22/
END:VEVENT
BEGIN:VEVENT
DTSTART;TZID=America/Denver:20271223T100000
DTEND;TZID=America/Denver:20271223T111500
DTSTAMP:20260422T163733
CREATED:20250513T054602Z
LAST-MODIFIED:20250530T165143Z
UID:10002214-1829556000-1829560500@recoverystlouis.org
SUMMARY:AA Group 179 Open-mixed In person/online
DESCRIPTION:Zoom 598 988 635\nPW 241200
URL:https://recoverystlouis.org/event/aa-group-179-open-mixed-in-person-online/2027-12-23/
END:VEVENT
BEGIN:VEVENT
DTSTART;TZID=America/Denver:20271223T190000
DTEND;TZID=America/Denver:20271223T200000
DTSTAMP:20260422T163733
CREATED:20250513T055622Z
LAST-MODIFIED:20250513T055622Z
UID:10004294-1829588400-1829592000@recoverystlouis.org
SUMMARY:Recovery Dharma Independent/in person only Open-mixed
DESCRIPTION:Contact\nMichelle T\n(314) 495-8026
URL:https://recoverystlouis.org/event/recovery-dharma-independent-in-person-only-open-mixed/2027-12-23/
END:VEVENT
BEGIN:VEVENT
DTSTART;TZID=America/Denver:20271224T070500
DTEND;TZID=America/Denver:20271224T074500
DTSTAMP:20260422T163733
CREATED:20250513T055108Z
LAST-MODIFIED:20250513T055108Z
UID:10002734-1829631900-1829634300@recoverystlouis.org
SUMMARY:AA Closed/ Men only Primary Purpose Mens
DESCRIPTION:
URL:https://recoverystlouis.org/event/aa-closed-men-only-primary-purpose-mens/2027-12-24/
END:VEVENT
BEGIN:VEVENT
DTSTART;TZID=America/Denver:20271224T174500
DTEND;TZID=America/Denver:20271224T184500
DTSTAMP:20260422T163733
CREATED:20250513T055756Z
LAST-MODIFIED:20250513T055756Z
UID:10004814-1829670300-1829673900@recoverystlouis.org
SUMMARY:AA Group 413- happier Hour Women’s-Open In person/online
DESCRIPTION:Zoom 263 787 324\nPW 279425 \nContact\nLeigh H\n(314) 276-6953
URL:https://recoverystlouis.org/event/aa-group-413-happier-hour-womens-open-in-person-online/2027-12-24/
END:VEVENT
BEGIN:VEVENT
DTSTART;TZID=America/Denver:20271226T090000
DTEND;TZID=America/Denver:20271226T101500
DTSTAMP:20260422T163733
CREATED:20250428T191821Z
LAST-MODIFIED:20250512T070411Z
UID:10000137-1829811600-1829816100@recoverystlouis.org
SUMMARY:AA Group 255-FIVE AND DIME Closed-Mixed In person/online
DESCRIPTION:Zoom:845 2025 1856\nPW: 173321 \nContact\nMichael Mac\n314-249-8149
URL:https://recoverystlouis.org/event/lorem-ipsum/2027-12-26/
END:VEVENT
BEGIN:VEVENT
DTSTART;TZID=America/Denver:20271226T110000
DTEND;TZID=America/Denver:20271226T120000
DTSTAMP:20260422T163733
CREATED:20250513T055407Z
LAST-MODIFIED:20250513T055407Z
UID:10003254-1829818800-1829822400@recoverystlouis.org
SUMMARY:OA Sunday Recovery Open-mixed In person/online
DESCRIPTION:Zoom:264 689 861\nPW:066708 \nContact\nCathy K (314) 538-1331
URL:https://recoverystlouis.org/event/oa-sunday-recovery-open-mixed-in-person-online/2027-12-26/
END:VEVENT
BEGIN:VEVENT
DTSTART;TZID=America/Denver:20271227T180000
DTEND;TZID=America/Denver:20271227T190000
DTSTAMP:20260422T163733
CREATED:20250512T071133Z
LAST-MODIFIED:20250512T071133Z
UID:10000657-1829930400-1829934000@recoverystlouis.org
SUMMARY:I AM RESPONSIBLE Women’s-closed In person-online
DESCRIPTION:Zoom:191 385 271\nPW: 085501 \nContact Clare P\n(314) 448-2101
URL:https://recoverystlouis.org/event/i-am-responsible-womens-closed-in-person-online/2027-12-27/
END:VEVENT
BEGIN:VEVENT
DTSTART;TZID=America/Denver:20271228T173000
DTEND;TZID=America/Denver:20271228T183000
DTSTAMP:20260422T163733
CREATED:20250513T054121Z
LAST-MODIFIED:20250513T054121Z
UID:10001175-1830015000-1830018600@recoverystlouis.org
SUMMARY:AA Secular Sobriety Open-mixed In person/online
DESCRIPTION:Zoom: 343 811 2984\nPW 770507
URL:https://recoverystlouis.org/event/aa-secular-sobriety-open-mixed-in-person-online/2027-12-28/
END:VEVENT
BEGIN:VEVENT
DTSTART;TZID=America/Denver:20271228T190000
DTEND;TZID=America/Denver:20271228T200000
DTSTAMP:20260422T163733
CREATED:20250513T055457Z
LAST-MODIFIED:20250513T055457Z
UID:10003775-1830020400-1830024000@recoverystlouis.org
SUMMARY:AA Burton’s Heroes Open -mixed In person/online
DESCRIPTION:
URL:https://recoverystlouis.org/event/aa-burtons-heroes-open-mixed-in-person-online/2027-12-28/
END:VEVENT
BEGIN:VEVENT
DTSTART;TZID=America/Denver:20271229T170000
DTEND;TZID=America/Denver:20271229T190000
DTSTAMP:20260422T163733
CREATED:20250513T054406Z
LAST-MODIFIED:20250513T054406Z
UID:10001695-1830099600-1830106800@recoverystlouis.org
SUMMARY:Private group
DESCRIPTION:
URL:https://recoverystlouis.org/event/private-group/2027-12-29/
END:VEVENT
BEGIN:VEVENT
DTSTART;TZID=America/Denver:20271230T100000
DTEND;TZID=America/Denver:20271230T111500
DTSTAMP:20260422T163733
CREATED:20250513T054602Z
LAST-MODIFIED:20250530T165143Z
UID:10002215-1830160800-1830165300@recoverystlouis.org
SUMMARY:AA Group 179 Open-mixed In person/online
DESCRIPTION:Zoom 598 988 635\nPW 241200
URL:https://recoverystlouis.org/event/aa-group-179-open-mixed-in-person-online/2027-12-30/
END:VEVENT
BEGIN:VEVENT
DTSTART;TZID=America/Denver:20271230T190000
DTEND;TZID=America/Denver:20271230T200000
DTSTAMP:20260422T163733
CREATED:20250513T055622Z
LAST-MODIFIED:20250513T055622Z
UID:10004295-1830193200-1830196800@recoverystlouis.org
SUMMARY:Recovery Dharma Independent/in person only Open-mixed
DESCRIPTION:Contact\nMichelle T\n(314) 495-8026
URL:https://recoverystlouis.org/event/recovery-dharma-independent-in-person-only-open-mixed/2027-12-30/
END:VEVENT
BEGIN:VEVENT
DTSTART;TZID=America/Denver:20271231T070500
DTEND;TZID=America/Denver:20271231T074500
DTSTAMP:20260422T163733
CREATED:20250513T055108Z
LAST-MODIFIED:20250513T055108Z
UID:10002735-1830236700-1830239100@recoverystlouis.org
SUMMARY:AA Closed/ Men only Primary Purpose Mens
DESCRIPTION:
URL:https://recoverystlouis.org/event/aa-closed-men-only-primary-purpose-mens/2027-12-31/
END:VEVENT
BEGIN:VEVENT
DTSTART;TZID=America/Denver:20271231T174500
DTEND;TZID=America/Denver:20271231T184500
DTSTAMP:20260422T163733
CREATED:20250513T055756Z
LAST-MODIFIED:20250513T055756Z
UID:10004815-1830275100-1830278700@recoverystlouis.org
SUMMARY:AA Group 413- happier Hour Women’s-Open In person/online
DESCRIPTION:Zoom 263 787 324\nPW 279425 \nContact\nLeigh H\n(314) 276-6953
URL:https://recoverystlouis.org/event/aa-group-413-happier-hour-womens-open-in-person-online/2027-12-31/
END:VEVENT
BEGIN:VEVENT
DTSTART;TZID=America/Denver:20280102T090000
DTEND;TZID=America/Denver:20280102T101500
DTSTAMP:20260422T163733
CREATED:20250428T191821Z
LAST-MODIFIED:20250512T070411Z
UID:10000138-1830416400-1830420900@recoverystlouis.org
SUMMARY:AA Group 255-FIVE AND DIME Closed-Mixed In person/online
DESCRIPTION:Zoom:845 2025 1856\nPW: 173321 \nContact\nMichael Mac\n314-249-8149
URL:https://recoverystlouis.org/event/lorem-ipsum/2028-01-02/
END:VEVENT
BEGIN:VEVENT
DTSTART;TZID=America/Denver:20280102T110000
DTEND;TZID=America/Denver:20280102T120000
DTSTAMP:20260422T163734
CREATED:20250513T055407Z
LAST-MODIFIED:20250513T055407Z
UID:10003255-1830423600-1830427200@recoverystlouis.org
SUMMARY:OA Sunday Recovery Open-mixed In person/online
DESCRIPTION:Zoom:264 689 861\nPW:066708 \nContact\nCathy K (314) 538-1331
URL:https://recoverystlouis.org/event/oa-sunday-recovery-open-mixed-in-person-online/2028-01-02/
END:VEVENT
BEGIN:VEVENT
DTSTART;TZID=America/Denver:20280103T180000
DTEND;TZID=America/Denver:20280103T190000
DTSTAMP:20260422T163734
CREATED:20250512T071133Z
LAST-MODIFIED:20250512T071133Z
UID:10000658-1830535200-1830538800@recoverystlouis.org
SUMMARY:I AM RESPONSIBLE Women’s-closed In person-online
DESCRIPTION:Zoom:191 385 271\nPW: 085501 \nContact Clare P\n(314) 448-2101
URL:https://recoverystlouis.org/event/i-am-responsible-womens-closed-in-person-online/2028-01-03/
END:VEVENT
BEGIN:VEVENT
DTSTART;TZID=America/Denver:20280104T173000
DTEND;TZID=America/Denver:20280104T183000
DTSTAMP:20260422T163734
CREATED:20250513T054121Z
LAST-MODIFIED:20250513T054121Z
UID:10001176-1830619800-1830623400@recoverystlouis.org
SUMMARY:AA Secular Sobriety Open-mixed In person/online
DESCRIPTION:Zoom: 343 811 2984\nPW 770507
URL:https://recoverystlouis.org/event/aa-secular-sobriety-open-mixed-in-person-online/2028-01-04/
END:VEVENT
BEGIN:VEVENT
DTSTART;TZID=America/Denver:20280104T190000
DTEND;TZID=America/Denver:20280104T200000
DTSTAMP:20260422T163734
CREATED:20250513T055457Z
LAST-MODIFIED:20250513T055457Z
UID:10003776-1830625200-1830628800@recoverystlouis.org
SUMMARY:AA Burton’s Heroes Open -mixed In person/online
DESCRIPTION:
URL:https://recoverystlouis.org/event/aa-burtons-heroes-open-mixed-in-person-online/2028-01-04/
END:VEVENT
BEGIN:VEVENT
DTSTART;TZID=America/Denver:20280105T170000
DTEND;TZID=America/Denver:20280105T190000
DTSTAMP:20260422T163734
CREATED:20250513T054406Z
LAST-MODIFIED:20250513T054406Z
UID:10001696-1830704400-1830711600@recoverystlouis.org
SUMMARY:Private group
DESCRIPTION:
URL:https://recoverystlouis.org/event/private-group/2028-01-05/
END:VEVENT
BEGIN:VEVENT
DTSTART;TZID=America/Denver:20280106T100000
DTEND;TZID=America/Denver:20280106T111500
DTSTAMP:20260422T163734
CREATED:20250513T054602Z
LAST-MODIFIED:20250530T165143Z
UID:10002216-1830765600-1830770100@recoverystlouis.org
SUMMARY:AA Group 179 Open-mixed In person/online
DESCRIPTION:Zoom 598 988 635\nPW 241200
URL:https://recoverystlouis.org/event/aa-group-179-open-mixed-in-person-online/2028-01-06/
END:VEVENT
BEGIN:VEVENT
DTSTART;TZID=America/Denver:20280106T190000
DTEND;TZID=America/Denver:20280106T200000
DTSTAMP:20260422T163734
CREATED:20250513T055622Z
LAST-MODIFIED:20250513T055622Z
UID:10004296-1830798000-1830801600@recoverystlouis.org
SUMMARY:Recovery Dharma Independent/in person only Open-mixed
DESCRIPTION:Contact\nMichelle T\n(314) 495-8026
URL:https://recoverystlouis.org/event/recovery-dharma-independent-in-person-only-open-mixed/2028-01-06/
END:VEVENT
END:VCALENDAR