BEGIN:VCALENDAR
VERSION:2.0
PRODID:-//Recovery St. Louis - ECPv6.15.17.1//NONSGML v1.0//EN
CALSCALE:GREGORIAN
METHOD:PUBLISH
X-WR-CALNAME:Recovery St. Louis
X-ORIGINAL-URL:https://recoverystlouis.org
X-WR-CALDESC:Events for Recovery St. Louis
REFRESH-INTERVAL;VALUE=DURATION:PT1H
X-Robots-Tag:noindex
X-PUBLISHED-TTL:PT1H
BEGIN:VTIMEZONE
TZID:America/Denver
BEGIN:DAYLIGHT
TZOFFSETFROM:-0700
TZOFFSETTO:-0600
TZNAME:MDT
DTSTART:20250309T090000
END:DAYLIGHT
BEGIN:STANDARD
TZOFFSETFROM:-0600
TZOFFSETTO:-0700
TZNAME:MST
DTSTART:20251102T080000
END:STANDARD
BEGIN:DAYLIGHT
TZOFFSETFROM:-0700
TZOFFSETTO:-0600
TZNAME:MDT
DTSTART:20260308T090000
END:DAYLIGHT
BEGIN:STANDARD
TZOFFSETFROM:-0600
TZOFFSETTO:-0700
TZNAME:MST
DTSTART:20261101T080000
END:STANDARD
BEGIN:DAYLIGHT
TZOFFSETFROM:-0700
TZOFFSETTO:-0600
TZNAME:MDT
DTSTART:20270314T090000
END:DAYLIGHT
BEGIN:STANDARD
TZOFFSETFROM:-0600
TZOFFSETTO:-0700
TZNAME:MST
DTSTART:20271107T080000
END:STANDARD
END:VTIMEZONE
BEGIN:VEVENT
DTSTART;TZID=America/Denver:20261015T100000
DTEND;TZID=America/Denver:20261015T111500
DTSTAMP:20260421T111848
CREATED:20250513T054602Z
LAST-MODIFIED:20250530T165143Z
UID:10002152-1792058400-1792062900@recoverystlouis.org
SUMMARY:AA Group 179 Open-mixed In person/online
DESCRIPTION:Zoom 598 988 635\nPW 241200
URL:https://recoverystlouis.org/event/aa-group-179-open-mixed-in-person-online/2026-10-15/
END:VEVENT
BEGIN:VEVENT
DTSTART;TZID=America/Denver:20261015T190000
DTEND;TZID=America/Denver:20261015T200000
DTSTAMP:20260421T111848
CREATED:20250513T055622Z
LAST-MODIFIED:20250513T055622Z
UID:10004232-1792090800-1792094400@recoverystlouis.org
SUMMARY:Recovery Dharma Independent/in person only Open-mixed
DESCRIPTION:Contact\nMichelle T\n(314) 495-8026
URL:https://recoverystlouis.org/event/recovery-dharma-independent-in-person-only-open-mixed/2026-10-15/
END:VEVENT
BEGIN:VEVENT
DTSTART;TZID=America/Denver:20261016T070500
DTEND;TZID=America/Denver:20261016T074500
DTSTAMP:20260421T111848
CREATED:20250513T055108Z
LAST-MODIFIED:20250513T055108Z
UID:10002672-1792134300-1792136700@recoverystlouis.org
SUMMARY:AA Closed/ Men only Primary Purpose Mens
DESCRIPTION:
URL:https://recoverystlouis.org/event/aa-closed-men-only-primary-purpose-mens/2026-10-16/
END:VEVENT
BEGIN:VEVENT
DTSTART;TZID=America/Denver:20261016T174500
DTEND;TZID=America/Denver:20261016T184500
DTSTAMP:20260421T111848
CREATED:20250513T055756Z
LAST-MODIFIED:20250513T055756Z
UID:10004752-1792172700-1792176300@recoverystlouis.org
SUMMARY:AA Group 413- happier Hour Women’s-Open In person/online
DESCRIPTION:Zoom 263 787 324\nPW 279425 \nContact\nLeigh H\n(314) 276-6953
URL:https://recoverystlouis.org/event/aa-group-413-happier-hour-womens-open-in-person-online/2026-10-16/
END:VEVENT
BEGIN:VEVENT
DTSTART;TZID=America/Denver:20261018T090000
DTEND;TZID=America/Denver:20261018T101500
DTSTAMP:20260421T111848
CREATED:20250428T191821Z
LAST-MODIFIED:20250512T070411Z
UID:10000075-1792314000-1792318500@recoverystlouis.org
SUMMARY:AA Group 255-FIVE AND DIME Closed-Mixed In person/online
DESCRIPTION:Zoom:845 2025 1856\nPW: 173321 \nContact\nMichael Mac\n314-249-8149
URL:https://recoverystlouis.org/event/lorem-ipsum/2026-10-18/
END:VEVENT
BEGIN:VEVENT
DTSTART;TZID=America/Denver:20261018T110000
DTEND;TZID=America/Denver:20261018T120000
DTSTAMP:20260421T111848
CREATED:20250513T055407Z
LAST-MODIFIED:20250513T055407Z
UID:10003192-1792321200-1792324800@recoverystlouis.org
SUMMARY:OA Sunday Recovery Open-mixed In person/online
DESCRIPTION:Zoom:264 689 861\nPW:066708 \nContact\nCathy K (314) 538-1331
URL:https://recoverystlouis.org/event/oa-sunday-recovery-open-mixed-in-person-online/2026-10-18/
END:VEVENT
BEGIN:VEVENT
DTSTART;TZID=America/Denver:20261019T180000
DTEND;TZID=America/Denver:20261019T190000
DTSTAMP:20260421T111849
CREATED:20250512T071133Z
LAST-MODIFIED:20250512T071133Z
UID:10000595-1792432800-1792436400@recoverystlouis.org
SUMMARY:I AM RESPONSIBLE Women’s-closed In person-online
DESCRIPTION:Zoom:191 385 271\nPW: 085501 \nContact Clare P\n(314) 448-2101
URL:https://recoverystlouis.org/event/i-am-responsible-womens-closed-in-person-online/2026-10-19/
END:VEVENT
BEGIN:VEVENT
DTSTART;TZID=America/Denver:20261020T173000
DTEND;TZID=America/Denver:20261020T183000
DTSTAMP:20260421T111849
CREATED:20250513T054121Z
LAST-MODIFIED:20250513T054121Z
UID:10001113-1792517400-1792521000@recoverystlouis.org
SUMMARY:AA Secular Sobriety Open-mixed In person/online
DESCRIPTION:Zoom: 343 811 2984\nPW 770507
URL:https://recoverystlouis.org/event/aa-secular-sobriety-open-mixed-in-person-online/2026-10-20/
END:VEVENT
BEGIN:VEVENT
DTSTART;TZID=America/Denver:20261020T190000
DTEND;TZID=America/Denver:20261020T200000
DTSTAMP:20260421T111849
CREATED:20250513T055457Z
LAST-MODIFIED:20250513T055457Z
UID:10003713-1792522800-1792526400@recoverystlouis.org
SUMMARY:AA Burton’s Heroes Open -mixed In person/online
DESCRIPTION:
URL:https://recoverystlouis.org/event/aa-burtons-heroes-open-mixed-in-person-online/2026-10-20/
END:VEVENT
BEGIN:VEVENT
DTSTART;TZID=America/Denver:20261021T170000
DTEND;TZID=America/Denver:20261021T190000
DTSTAMP:20260421T111849
CREATED:20250513T054406Z
LAST-MODIFIED:20250513T054406Z
UID:10001633-1792602000-1792609200@recoverystlouis.org
SUMMARY:Private group
DESCRIPTION:
URL:https://recoverystlouis.org/event/private-group/2026-10-21/
END:VEVENT
BEGIN:VEVENT
DTSTART;TZID=America/Denver:20261022T100000
DTEND;TZID=America/Denver:20261022T111500
DTSTAMP:20260421T111849
CREATED:20250513T054602Z
LAST-MODIFIED:20250530T165143Z
UID:10002153-1792663200-1792667700@recoverystlouis.org
SUMMARY:AA Group 179 Open-mixed In person/online
DESCRIPTION:Zoom 598 988 635\nPW 241200
URL:https://recoverystlouis.org/event/aa-group-179-open-mixed-in-person-online/2026-10-22/
END:VEVENT
BEGIN:VEVENT
DTSTART;TZID=America/Denver:20261022T190000
DTEND;TZID=America/Denver:20261022T200000
DTSTAMP:20260421T111849
CREATED:20250513T055622Z
LAST-MODIFIED:20250513T055622Z
UID:10004233-1792695600-1792699200@recoverystlouis.org
SUMMARY:Recovery Dharma Independent/in person only Open-mixed
DESCRIPTION:Contact\nMichelle T\n(314) 495-8026
URL:https://recoverystlouis.org/event/recovery-dharma-independent-in-person-only-open-mixed/2026-10-22/
END:VEVENT
BEGIN:VEVENT
DTSTART;TZID=America/Denver:20261023T070500
DTEND;TZID=America/Denver:20261023T074500
DTSTAMP:20260421T111849
CREATED:20250513T055108Z
LAST-MODIFIED:20250513T055108Z
UID:10002673-1792739100-1792741500@recoverystlouis.org
SUMMARY:AA Closed/ Men only Primary Purpose Mens
DESCRIPTION:
URL:https://recoverystlouis.org/event/aa-closed-men-only-primary-purpose-mens/2026-10-23/
END:VEVENT
BEGIN:VEVENT
DTSTART;TZID=America/Denver:20261023T174500
DTEND;TZID=America/Denver:20261023T184500
DTSTAMP:20260421T111849
CREATED:20250513T055756Z
LAST-MODIFIED:20250513T055756Z
UID:10004753-1792777500-1792781100@recoverystlouis.org
SUMMARY:AA Group 413- happier Hour Women’s-Open In person/online
DESCRIPTION:Zoom 263 787 324\nPW 279425 \nContact\nLeigh H\n(314) 276-6953
URL:https://recoverystlouis.org/event/aa-group-413-happier-hour-womens-open-in-person-online/2026-10-23/
END:VEVENT
BEGIN:VEVENT
DTSTART;TZID=America/Denver:20261025T090000
DTEND;TZID=America/Denver:20261025T101500
DTSTAMP:20260421T111849
CREATED:20250428T191821Z
LAST-MODIFIED:20250512T070411Z
UID:10000076-1792918800-1792923300@recoverystlouis.org
SUMMARY:AA Group 255-FIVE AND DIME Closed-Mixed In person/online
DESCRIPTION:Zoom:845 2025 1856\nPW: 173321 \nContact\nMichael Mac\n314-249-8149
URL:https://recoverystlouis.org/event/lorem-ipsum/2026-10-25/
END:VEVENT
BEGIN:VEVENT
DTSTART;TZID=America/Denver:20261025T110000
DTEND;TZID=America/Denver:20261025T120000
DTSTAMP:20260421T111849
CREATED:20250513T055407Z
LAST-MODIFIED:20250513T055407Z
UID:10003193-1792926000-1792929600@recoverystlouis.org
SUMMARY:OA Sunday Recovery Open-mixed In person/online
DESCRIPTION:Zoom:264 689 861\nPW:066708 \nContact\nCathy K (314) 538-1331
URL:https://recoverystlouis.org/event/oa-sunday-recovery-open-mixed-in-person-online/2026-10-25/
END:VEVENT
BEGIN:VEVENT
DTSTART;TZID=America/Denver:20261026T180000
DTEND;TZID=America/Denver:20261026T190000
DTSTAMP:20260421T111849
CREATED:20250512T071133Z
LAST-MODIFIED:20250512T071133Z
UID:10000596-1793037600-1793041200@recoverystlouis.org
SUMMARY:I AM RESPONSIBLE Women’s-closed In person-online
DESCRIPTION:Zoom:191 385 271\nPW: 085501 \nContact Clare P\n(314) 448-2101
URL:https://recoverystlouis.org/event/i-am-responsible-womens-closed-in-person-online/2026-10-26/
END:VEVENT
BEGIN:VEVENT
DTSTART;TZID=America/Denver:20261027T173000
DTEND;TZID=America/Denver:20261027T183000
DTSTAMP:20260421T111849
CREATED:20250513T054121Z
LAST-MODIFIED:20250513T054121Z
UID:10001114-1793122200-1793125800@recoverystlouis.org
SUMMARY:AA Secular Sobriety Open-mixed In person/online
DESCRIPTION:Zoom: 343 811 2984\nPW 770507
URL:https://recoverystlouis.org/event/aa-secular-sobriety-open-mixed-in-person-online/2026-10-27/
END:VEVENT
BEGIN:VEVENT
DTSTART;TZID=America/Denver:20261027T190000
DTEND;TZID=America/Denver:20261027T200000
DTSTAMP:20260421T111849
CREATED:20250513T055457Z
LAST-MODIFIED:20250513T055457Z
UID:10003714-1793127600-1793131200@recoverystlouis.org
SUMMARY:AA Burton’s Heroes Open -mixed In person/online
DESCRIPTION:
URL:https://recoverystlouis.org/event/aa-burtons-heroes-open-mixed-in-person-online/2026-10-27/
END:VEVENT
BEGIN:VEVENT
DTSTART;TZID=America/Denver:20261028T170000
DTEND;TZID=America/Denver:20261028T190000
DTSTAMP:20260421T111849
CREATED:20250513T054406Z
LAST-MODIFIED:20250513T054406Z
UID:10001634-1793206800-1793214000@recoverystlouis.org
SUMMARY:Private group
DESCRIPTION:
URL:https://recoverystlouis.org/event/private-group/2026-10-28/
END:VEVENT
BEGIN:VEVENT
DTSTART;TZID=America/Denver:20261029T100000
DTEND;TZID=America/Denver:20261029T111500
DTSTAMP:20260421T111849
CREATED:20250513T054602Z
LAST-MODIFIED:20250530T165143Z
UID:10002154-1793268000-1793272500@recoverystlouis.org
SUMMARY:AA Group 179 Open-mixed In person/online
DESCRIPTION:Zoom 598 988 635\nPW 241200
URL:https://recoverystlouis.org/event/aa-group-179-open-mixed-in-person-online/2026-10-29/
END:VEVENT
BEGIN:VEVENT
DTSTART;TZID=America/Denver:20261029T190000
DTEND;TZID=America/Denver:20261029T200000
DTSTAMP:20260421T111849
CREATED:20250513T055622Z
LAST-MODIFIED:20250513T055622Z
UID:10004234-1793300400-1793304000@recoverystlouis.org
SUMMARY:Recovery Dharma Independent/in person only Open-mixed
DESCRIPTION:Contact\nMichelle T\n(314) 495-8026
URL:https://recoverystlouis.org/event/recovery-dharma-independent-in-person-only-open-mixed/2026-10-29/
END:VEVENT
BEGIN:VEVENT
DTSTART;TZID=America/Denver:20261030T070500
DTEND;TZID=America/Denver:20261030T074500
DTSTAMP:20260421T111849
CREATED:20250513T055108Z
LAST-MODIFIED:20250513T055108Z
UID:10002674-1793343900-1793346300@recoverystlouis.org
SUMMARY:AA Closed/ Men only Primary Purpose Mens
DESCRIPTION:
URL:https://recoverystlouis.org/event/aa-closed-men-only-primary-purpose-mens/2026-10-30/
END:VEVENT
BEGIN:VEVENT
DTSTART;TZID=America/Denver:20261030T174500
DTEND;TZID=America/Denver:20261030T184500
DTSTAMP:20260421T111849
CREATED:20250513T055756Z
LAST-MODIFIED:20250513T055756Z
UID:10004754-1793382300-1793385900@recoverystlouis.org
SUMMARY:AA Group 413- happier Hour Women’s-Open In person/online
DESCRIPTION:Zoom 263 787 324\nPW 279425 \nContact\nLeigh H\n(314) 276-6953
URL:https://recoverystlouis.org/event/aa-group-413-happier-hour-womens-open-in-person-online/2026-10-30/
END:VEVENT
BEGIN:VEVENT
DTSTART;TZID=America/Denver:20261101T090000
DTEND;TZID=America/Denver:20261101T101500
DTSTAMP:20260421T111849
CREATED:20250428T191821Z
LAST-MODIFIED:20250512T070411Z
UID:10000077-1793523600-1793528100@recoverystlouis.org
SUMMARY:AA Group 255-FIVE AND DIME Closed-Mixed In person/online
DESCRIPTION:Zoom:845 2025 1856\nPW: 173321 \nContact\nMichael Mac\n314-249-8149
URL:https://recoverystlouis.org/event/lorem-ipsum/2026-11-01/
END:VEVENT
BEGIN:VEVENT
DTSTART;TZID=America/Denver:20261101T110000
DTEND;TZID=America/Denver:20261101T120000
DTSTAMP:20260421T111849
CREATED:20250513T055407Z
LAST-MODIFIED:20250513T055407Z
UID:10003194-1793530800-1793534400@recoverystlouis.org
SUMMARY:OA Sunday Recovery Open-mixed In person/online
DESCRIPTION:Zoom:264 689 861\nPW:066708 \nContact\nCathy K (314) 538-1331
URL:https://recoverystlouis.org/event/oa-sunday-recovery-open-mixed-in-person-online/2026-11-01/
END:VEVENT
BEGIN:VEVENT
DTSTART;TZID=America/Denver:20261102T180000
DTEND;TZID=America/Denver:20261102T190000
DTSTAMP:20260421T111849
CREATED:20250512T071133Z
LAST-MODIFIED:20250512T071133Z
UID:10000597-1793642400-1793646000@recoverystlouis.org
SUMMARY:I AM RESPONSIBLE Women’s-closed In person-online
DESCRIPTION:Zoom:191 385 271\nPW: 085501 \nContact Clare P\n(314) 448-2101
URL:https://recoverystlouis.org/event/i-am-responsible-womens-closed-in-person-online/2026-11-02/
END:VEVENT
BEGIN:VEVENT
DTSTART;TZID=America/Denver:20261103T173000
DTEND;TZID=America/Denver:20261103T183000
DTSTAMP:20260421T111849
CREATED:20250513T054121Z
LAST-MODIFIED:20250513T054121Z
UID:10001115-1793727000-1793730600@recoverystlouis.org
SUMMARY:AA Secular Sobriety Open-mixed In person/online
DESCRIPTION:Zoom: 343 811 2984\nPW 770507
URL:https://recoverystlouis.org/event/aa-secular-sobriety-open-mixed-in-person-online/2026-11-03/
END:VEVENT
BEGIN:VEVENT
DTSTART;TZID=America/Denver:20261103T190000
DTEND;TZID=America/Denver:20261103T200000
DTSTAMP:20260421T111849
CREATED:20250513T055457Z
LAST-MODIFIED:20250513T055457Z
UID:10003715-1793732400-1793736000@recoverystlouis.org
SUMMARY:AA Burton’s Heroes Open -mixed In person/online
DESCRIPTION:
URL:https://recoverystlouis.org/event/aa-burtons-heroes-open-mixed-in-person-online/2026-11-03/
END:VEVENT
BEGIN:VEVENT
DTSTART;TZID=America/Denver:20261104T170000
DTEND;TZID=America/Denver:20261104T190000
DTSTAMP:20260421T111849
CREATED:20250513T054406Z
LAST-MODIFIED:20250513T054406Z
UID:10001635-1793811600-1793818800@recoverystlouis.org
SUMMARY:Private group
DESCRIPTION:
URL:https://recoverystlouis.org/event/private-group/2026-11-04/
END:VEVENT
END:VCALENDAR