BEGIN:VCALENDAR
VERSION:2.0
PRODID:-//Recovery St. Louis - ECPv6.15.17.1//NONSGML v1.0//EN
CALSCALE:GREGORIAN
METHOD:PUBLISH
X-WR-CALNAME:Recovery St. Louis
X-ORIGINAL-URL:https://recoverystlouis.org
X-WR-CALDESC:Events for Recovery St. Louis
REFRESH-INTERVAL;VALUE=DURATION:PT1H
X-Robots-Tag:noindex
X-PUBLISHED-TTL:PT1H
BEGIN:VTIMEZONE
TZID:America/Denver
BEGIN:DAYLIGHT
TZOFFSETFROM:-0700
TZOFFSETTO:-0600
TZNAME:MDT
DTSTART:20250309T090000
END:DAYLIGHT
BEGIN:STANDARD
TZOFFSETFROM:-0600
TZOFFSETTO:-0700
TZNAME:MST
DTSTART:20251102T080000
END:STANDARD
BEGIN:DAYLIGHT
TZOFFSETFROM:-0700
TZOFFSETTO:-0600
TZNAME:MDT
DTSTART:20260308T090000
END:DAYLIGHT
BEGIN:STANDARD
TZOFFSETFROM:-0600
TZOFFSETTO:-0700
TZNAME:MST
DTSTART:20261101T080000
END:STANDARD
BEGIN:DAYLIGHT
TZOFFSETFROM:-0700
TZOFFSETTO:-0600
TZNAME:MDT
DTSTART:20270314T090000
END:DAYLIGHT
BEGIN:STANDARD
TZOFFSETFROM:-0600
TZOFFSETTO:-0700
TZNAME:MST
DTSTART:20271107T080000
END:STANDARD
END:VTIMEZONE
BEGIN:VEVENT
DTSTART;TZID=America/Denver:20260518T180000
DTEND;TZID=America/Denver:20260518T190000
DTSTAMP:20260420T184951
CREATED:20250512T071133Z
LAST-MODIFIED:20250512T071133Z
UID:10000573-1779127200-1779130800@recoverystlouis.org
SUMMARY:I AM RESPONSIBLE Women’s-closed In person-online
DESCRIPTION:Zoom:191 385 271\nPW: 085501 \nContact Clare P\n(314) 448-2101
URL:https://recoverystlouis.org/event/i-am-responsible-womens-closed-in-person-online/2026-05-18/
END:VEVENT
BEGIN:VEVENT
DTSTART;TZID=America/Denver:20260519T173000
DTEND;TZID=America/Denver:20260519T183000
DTSTAMP:20260420T184951
CREATED:20250513T054121Z
LAST-MODIFIED:20250513T054121Z
UID:10001091-1779211800-1779215400@recoverystlouis.org
SUMMARY:AA Secular Sobriety Open-mixed In person/online
DESCRIPTION:Zoom: 343 811 2984\nPW 770507
URL:https://recoverystlouis.org/event/aa-secular-sobriety-open-mixed-in-person-online/2026-05-19/
END:VEVENT
BEGIN:VEVENT
DTSTART;TZID=America/Denver:20260519T190000
DTEND;TZID=America/Denver:20260519T200000
DTSTAMP:20260420T184951
CREATED:20250513T055457Z
LAST-MODIFIED:20250513T055457Z
UID:10003691-1779217200-1779220800@recoverystlouis.org
SUMMARY:AA Burton’s Heroes Open -mixed In person/online
DESCRIPTION:
URL:https://recoverystlouis.org/event/aa-burtons-heroes-open-mixed-in-person-online/2026-05-19/
END:VEVENT
BEGIN:VEVENT
DTSTART;TZID=America/Denver:20260520T170000
DTEND;TZID=America/Denver:20260520T190000
DTSTAMP:20260420T184951
CREATED:20250513T054406Z
LAST-MODIFIED:20250513T054406Z
UID:10001611-1779296400-1779303600@recoverystlouis.org
SUMMARY:Private group
DESCRIPTION:
URL:https://recoverystlouis.org/event/private-group/2026-05-20/
END:VEVENT
BEGIN:VEVENT
DTSTART;TZID=America/Denver:20260521T100000
DTEND;TZID=America/Denver:20260521T111500
DTSTAMP:20260420T184951
CREATED:20250513T054602Z
LAST-MODIFIED:20250530T165143Z
UID:10002131-1779357600-1779362100@recoverystlouis.org
SUMMARY:AA Group 179 Open-mixed In person/online
DESCRIPTION:Zoom 598 988 635\nPW 241200
URL:https://recoverystlouis.org/event/aa-group-179-open-mixed-in-person-online/2026-05-21/
END:VEVENT
BEGIN:VEVENT
DTSTART;TZID=America/Denver:20260521T190000
DTEND;TZID=America/Denver:20260521T200000
DTSTAMP:20260420T184951
CREATED:20250513T055622Z
LAST-MODIFIED:20250513T055622Z
UID:10004211-1779390000-1779393600@recoverystlouis.org
SUMMARY:Recovery Dharma Independent/in person only Open-mixed
DESCRIPTION:Contact\nMichelle T\n(314) 495-8026
URL:https://recoverystlouis.org/event/recovery-dharma-independent-in-person-only-open-mixed/2026-05-21/
END:VEVENT
BEGIN:VEVENT
DTSTART;TZID=America/Denver:20260522T070500
DTEND;TZID=America/Denver:20260522T074500
DTSTAMP:20260420T184951
CREATED:20250513T055108Z
LAST-MODIFIED:20250513T055108Z
UID:10002651-1779433500-1779435900@recoverystlouis.org
SUMMARY:AA Closed/ Men only Primary Purpose Mens
DESCRIPTION:
URL:https://recoverystlouis.org/event/aa-closed-men-only-primary-purpose-mens/2026-05-22/
END:VEVENT
BEGIN:VEVENT
DTSTART;TZID=America/Denver:20260522T174500
DTEND;TZID=America/Denver:20260522T184500
DTSTAMP:20260420T184951
CREATED:20250513T055756Z
LAST-MODIFIED:20250513T055756Z
UID:10004731-1779471900-1779475500@recoverystlouis.org
SUMMARY:AA Group 413- happier Hour Women’s-Open In person/online
DESCRIPTION:Zoom 263 787 324\nPW 279425 \nContact\nLeigh H\n(314) 276-6953
URL:https://recoverystlouis.org/event/aa-group-413-happier-hour-womens-open-in-person-online/2026-05-22/
END:VEVENT
BEGIN:VEVENT
DTSTART;TZID=America/Denver:20260524T090000
DTEND;TZID=America/Denver:20260524T101500
DTSTAMP:20260420T184951
CREATED:20250428T191821Z
LAST-MODIFIED:20250512T070411Z
UID:10000054-1779613200-1779617700@recoverystlouis.org
SUMMARY:AA Group 255-FIVE AND DIME Closed-Mixed In person/online
DESCRIPTION:Zoom:845 2025 1856\nPW: 173321 \nContact\nMichael Mac\n314-249-8149
URL:https://recoverystlouis.org/event/lorem-ipsum/2026-05-24/
END:VEVENT
BEGIN:VEVENT
DTSTART;TZID=America/Denver:20260524T110000
DTEND;TZID=America/Denver:20260524T120000
DTSTAMP:20260420T184951
CREATED:20250513T055407Z
LAST-MODIFIED:20250513T055407Z
UID:10003171-1779620400-1779624000@recoverystlouis.org
SUMMARY:OA Sunday Recovery Open-mixed In person/online
DESCRIPTION:Zoom:264 689 861\nPW:066708 \nContact\nCathy K (314) 538-1331
URL:https://recoverystlouis.org/event/oa-sunday-recovery-open-mixed-in-person-online/2026-05-24/
END:VEVENT
BEGIN:VEVENT
DTSTART;TZID=America/Denver:20260525T180000
DTEND;TZID=America/Denver:20260525T190000
DTSTAMP:20260420T184951
CREATED:20250512T071133Z
LAST-MODIFIED:20250512T071133Z
UID:10000574-1779732000-1779735600@recoverystlouis.org
SUMMARY:I AM RESPONSIBLE Women’s-closed In person-online
DESCRIPTION:Zoom:191 385 271\nPW: 085501 \nContact Clare P\n(314) 448-2101
URL:https://recoverystlouis.org/event/i-am-responsible-womens-closed-in-person-online/2026-05-25/
END:VEVENT
BEGIN:VEVENT
DTSTART;TZID=America/Denver:20260526T173000
DTEND;TZID=America/Denver:20260526T183000
DTSTAMP:20260420T184951
CREATED:20250513T054121Z
LAST-MODIFIED:20250513T054121Z
UID:10001092-1779816600-1779820200@recoverystlouis.org
SUMMARY:AA Secular Sobriety Open-mixed In person/online
DESCRIPTION:Zoom: 343 811 2984\nPW 770507
URL:https://recoverystlouis.org/event/aa-secular-sobriety-open-mixed-in-person-online/2026-05-26/
END:VEVENT
BEGIN:VEVENT
DTSTART;TZID=America/Denver:20260526T190000
DTEND;TZID=America/Denver:20260526T200000
DTSTAMP:20260420T184951
CREATED:20250513T055457Z
LAST-MODIFIED:20250513T055457Z
UID:10003692-1779822000-1779825600@recoverystlouis.org
SUMMARY:AA Burton’s Heroes Open -mixed In person/online
DESCRIPTION:
URL:https://recoverystlouis.org/event/aa-burtons-heroes-open-mixed-in-person-online/2026-05-26/
END:VEVENT
BEGIN:VEVENT
DTSTART;TZID=America/Denver:20260527T170000
DTEND;TZID=America/Denver:20260527T190000
DTSTAMP:20260420T184951
CREATED:20250513T054406Z
LAST-MODIFIED:20250513T054406Z
UID:10001612-1779901200-1779908400@recoverystlouis.org
SUMMARY:Private group
DESCRIPTION:
URL:https://recoverystlouis.org/event/private-group/2026-05-27/
END:VEVENT
BEGIN:VEVENT
DTSTART;TZID=America/Denver:20260528T100000
DTEND;TZID=America/Denver:20260528T111500
DTSTAMP:20260420T184951
CREATED:20250513T054602Z
LAST-MODIFIED:20250530T165143Z
UID:10002132-1779962400-1779966900@recoverystlouis.org
SUMMARY:AA Group 179 Open-mixed In person/online
DESCRIPTION:Zoom 598 988 635\nPW 241200
URL:https://recoverystlouis.org/event/aa-group-179-open-mixed-in-person-online/2026-05-28/
END:VEVENT
BEGIN:VEVENT
DTSTART;TZID=America/Denver:20260528T190000
DTEND;TZID=America/Denver:20260528T200000
DTSTAMP:20260420T184951
CREATED:20250513T055622Z
LAST-MODIFIED:20250513T055622Z
UID:10004212-1779994800-1779998400@recoverystlouis.org
SUMMARY:Recovery Dharma Independent/in person only Open-mixed
DESCRIPTION:Contact\nMichelle T\n(314) 495-8026
URL:https://recoverystlouis.org/event/recovery-dharma-independent-in-person-only-open-mixed/2026-05-28/
END:VEVENT
BEGIN:VEVENT
DTSTART;TZID=America/Denver:20260529T070500
DTEND;TZID=America/Denver:20260529T074500
DTSTAMP:20260420T184951
CREATED:20250513T055108Z
LAST-MODIFIED:20250513T055108Z
UID:10002652-1780038300-1780040700@recoverystlouis.org
SUMMARY:AA Closed/ Men only Primary Purpose Mens
DESCRIPTION:
URL:https://recoverystlouis.org/event/aa-closed-men-only-primary-purpose-mens/2026-05-29/
END:VEVENT
BEGIN:VEVENT
DTSTART;TZID=America/Denver:20260529T174500
DTEND;TZID=America/Denver:20260529T184500
DTSTAMP:20260420T184951
CREATED:20250513T055756Z
LAST-MODIFIED:20250513T055756Z
UID:10004732-1780076700-1780080300@recoverystlouis.org
SUMMARY:AA Group 413- happier Hour Women’s-Open In person/online
DESCRIPTION:Zoom 263 787 324\nPW 279425 \nContact\nLeigh H\n(314) 276-6953
URL:https://recoverystlouis.org/event/aa-group-413-happier-hour-womens-open-in-person-online/2026-05-29/
END:VEVENT
BEGIN:VEVENT
DTSTART;TZID=America/Denver:20260531T090000
DTEND;TZID=America/Denver:20260531T101500
DTSTAMP:20260420T184951
CREATED:20250428T191821Z
LAST-MODIFIED:20250512T070411Z
UID:10000055-1780218000-1780222500@recoverystlouis.org
SUMMARY:AA Group 255-FIVE AND DIME Closed-Mixed In person/online
DESCRIPTION:Zoom:845 2025 1856\nPW: 173321 \nContact\nMichael Mac\n314-249-8149
URL:https://recoverystlouis.org/event/lorem-ipsum/2026-05-31/
END:VEVENT
BEGIN:VEVENT
DTSTART;TZID=America/Denver:20260531T110000
DTEND;TZID=America/Denver:20260531T120000
DTSTAMP:20260420T184951
CREATED:20250513T055407Z
LAST-MODIFIED:20250513T055407Z
UID:10003172-1780225200-1780228800@recoverystlouis.org
SUMMARY:OA Sunday Recovery Open-mixed In person/online
DESCRIPTION:Zoom:264 689 861\nPW:066708 \nContact\nCathy K (314) 538-1331
URL:https://recoverystlouis.org/event/oa-sunday-recovery-open-mixed-in-person-online/2026-05-31/
END:VEVENT
BEGIN:VEVENT
DTSTART;TZID=America/Denver:20260601T180000
DTEND;TZID=America/Denver:20260601T190000
DTSTAMP:20260420T184951
CREATED:20250512T071133Z
LAST-MODIFIED:20250512T071133Z
UID:10000575-1780336800-1780340400@recoverystlouis.org
SUMMARY:I AM RESPONSIBLE Women’s-closed In person-online
DESCRIPTION:Zoom:191 385 271\nPW: 085501 \nContact Clare P\n(314) 448-2101
URL:https://recoverystlouis.org/event/i-am-responsible-womens-closed-in-person-online/2026-06-01/
END:VEVENT
BEGIN:VEVENT
DTSTART;TZID=America/Denver:20260602T173000
DTEND;TZID=America/Denver:20260602T183000
DTSTAMP:20260420T184951
CREATED:20250513T054121Z
LAST-MODIFIED:20250513T054121Z
UID:10001093-1780421400-1780425000@recoverystlouis.org
SUMMARY:AA Secular Sobriety Open-mixed In person/online
DESCRIPTION:Zoom: 343 811 2984\nPW 770507
URL:https://recoverystlouis.org/event/aa-secular-sobriety-open-mixed-in-person-online/2026-06-02/
END:VEVENT
BEGIN:VEVENT
DTSTART;TZID=America/Denver:20260602T190000
DTEND;TZID=America/Denver:20260602T200000
DTSTAMP:20260420T184951
CREATED:20250513T055457Z
LAST-MODIFIED:20250513T055457Z
UID:10003693-1780426800-1780430400@recoverystlouis.org
SUMMARY:AA Burton’s Heroes Open -mixed In person/online
DESCRIPTION:
URL:https://recoverystlouis.org/event/aa-burtons-heroes-open-mixed-in-person-online/2026-06-02/
END:VEVENT
BEGIN:VEVENT
DTSTART;TZID=America/Denver:20260603T170000
DTEND;TZID=America/Denver:20260603T190000
DTSTAMP:20260420T184951
CREATED:20250513T054406Z
LAST-MODIFIED:20250513T054406Z
UID:10001613-1780506000-1780513200@recoverystlouis.org
SUMMARY:Private group
DESCRIPTION:
URL:https://recoverystlouis.org/event/private-group/2026-06-03/
END:VEVENT
BEGIN:VEVENT
DTSTART;TZID=America/Denver:20260604T100000
DTEND;TZID=America/Denver:20260604T111500
DTSTAMP:20260420T184951
CREATED:20250513T054602Z
LAST-MODIFIED:20250530T165143Z
UID:10002133-1780567200-1780571700@recoverystlouis.org
SUMMARY:AA Group 179 Open-mixed In person/online
DESCRIPTION:Zoom 598 988 635\nPW 241200
URL:https://recoverystlouis.org/event/aa-group-179-open-mixed-in-person-online/2026-06-04/
END:VEVENT
BEGIN:VEVENT
DTSTART;TZID=America/Denver:20260604T190000
DTEND;TZID=America/Denver:20260604T200000
DTSTAMP:20260420T184951
CREATED:20250513T055622Z
LAST-MODIFIED:20250513T055622Z
UID:10004213-1780599600-1780603200@recoverystlouis.org
SUMMARY:Recovery Dharma Independent/in person only Open-mixed
DESCRIPTION:Contact\nMichelle T\n(314) 495-8026
URL:https://recoverystlouis.org/event/recovery-dharma-independent-in-person-only-open-mixed/2026-06-04/
END:VEVENT
BEGIN:VEVENT
DTSTART;TZID=America/Denver:20260605T070500
DTEND;TZID=America/Denver:20260605T074500
DTSTAMP:20260420T184951
CREATED:20250513T055108Z
LAST-MODIFIED:20250513T055108Z
UID:10002653-1780643100-1780645500@recoverystlouis.org
SUMMARY:AA Closed/ Men only Primary Purpose Mens
DESCRIPTION:
URL:https://recoverystlouis.org/event/aa-closed-men-only-primary-purpose-mens/2026-06-05/
END:VEVENT
BEGIN:VEVENT
DTSTART;TZID=America/Denver:20260605T174500
DTEND;TZID=America/Denver:20260605T184500
DTSTAMP:20260420T184951
CREATED:20250513T055756Z
LAST-MODIFIED:20250513T055756Z
UID:10004733-1780681500-1780685100@recoverystlouis.org
SUMMARY:AA Group 413- happier Hour Women’s-Open In person/online
DESCRIPTION:Zoom 263 787 324\nPW 279425 \nContact\nLeigh H\n(314) 276-6953
URL:https://recoverystlouis.org/event/aa-group-413-happier-hour-womens-open-in-person-online/2026-06-05/
END:VEVENT
BEGIN:VEVENT
DTSTART;TZID=America/Denver:20260607T090000
DTEND;TZID=America/Denver:20260607T101500
DTSTAMP:20260420T184951
CREATED:20250428T191821Z
LAST-MODIFIED:20250512T070411Z
UID:10000056-1780822800-1780827300@recoverystlouis.org
SUMMARY:AA Group 255-FIVE AND DIME Closed-Mixed In person/online
DESCRIPTION:Zoom:845 2025 1856\nPW: 173321 \nContact\nMichael Mac\n314-249-8149
URL:https://recoverystlouis.org/event/lorem-ipsum/2026-06-07/
END:VEVENT
BEGIN:VEVENT
DTSTART;TZID=America/Denver:20260607T110000
DTEND;TZID=America/Denver:20260607T120000
DTSTAMP:20260420T184951
CREATED:20250513T055407Z
LAST-MODIFIED:20250513T055407Z
UID:10003173-1780830000-1780833600@recoverystlouis.org
SUMMARY:OA Sunday Recovery Open-mixed In person/online
DESCRIPTION:Zoom:264 689 861\nPW:066708 \nContact\nCathy K (314) 538-1331
URL:https://recoverystlouis.org/event/oa-sunday-recovery-open-mixed-in-person-online/2026-06-07/
END:VEVENT
END:VCALENDAR