BEGIN:VCALENDAR
VERSION:2.0
PRODID:-//Recovery St. Louis - ECPv6.15.17.1//NONSGML v1.0//EN
CALSCALE:GREGORIAN
METHOD:PUBLISH
X-WR-CALNAME:Recovery St. Louis
X-ORIGINAL-URL:https://recoverystlouis.org
X-WR-CALDESC:Events for Recovery St. Louis
REFRESH-INTERVAL;VALUE=DURATION:PT1H
X-Robots-Tag:noindex
X-PUBLISHED-TTL:PT1H
BEGIN:VTIMEZONE
TZID:America/Denver
BEGIN:DAYLIGHT
TZOFFSETFROM:-0700
TZOFFSETTO:-0600
TZNAME:MDT
DTSTART:20250309T090000
END:DAYLIGHT
BEGIN:STANDARD
TZOFFSETFROM:-0600
TZOFFSETTO:-0700
TZNAME:MST
DTSTART:20251102T080000
END:STANDARD
BEGIN:DAYLIGHT
TZOFFSETFROM:-0700
TZOFFSETTO:-0600
TZNAME:MDT
DTSTART:20260308T090000
END:DAYLIGHT
BEGIN:STANDARD
TZOFFSETFROM:-0600
TZOFFSETTO:-0700
TZNAME:MST
DTSTART:20261101T080000
END:STANDARD
BEGIN:DAYLIGHT
TZOFFSETFROM:-0700
TZOFFSETTO:-0600
TZNAME:MDT
DTSTART:20270314T090000
END:DAYLIGHT
BEGIN:STANDARD
TZOFFSETFROM:-0600
TZOFFSETTO:-0700
TZNAME:MST
DTSTART:20271107T080000
END:STANDARD
END:VTIMEZONE
BEGIN:VEVENT
DTSTART;TZID=America/Denver:20260409T100000
DTEND;TZID=America/Denver:20260409T111500
DTSTAMP:20260420T185439
CREATED:20250513T054602Z
LAST-MODIFIED:20250530T165143Z
UID:10002125-1775728800-1775733300@recoverystlouis.org
SUMMARY:AA Group 179 Open-mixed In person/online
DESCRIPTION:Zoom 598 988 635\nPW 241200
URL:https://recoverystlouis.org/event/aa-group-179-open-mixed-in-person-online/2026-04-09/
END:VEVENT
BEGIN:VEVENT
DTSTART;TZID=America/Denver:20260409T190000
DTEND;TZID=America/Denver:20260409T200000
DTSTAMP:20260420T185439
CREATED:20250513T055622Z
LAST-MODIFIED:20250513T055622Z
UID:10004205-1775761200-1775764800@recoverystlouis.org
SUMMARY:Recovery Dharma Independent/in person only Open-mixed
DESCRIPTION:Contact\nMichelle T\n(314) 495-8026
URL:https://recoverystlouis.org/event/recovery-dharma-independent-in-person-only-open-mixed/2026-04-09/
END:VEVENT
BEGIN:VEVENT
DTSTART;TZID=America/Denver:20260410T070500
DTEND;TZID=America/Denver:20260410T074500
DTSTAMP:20260420T185439
CREATED:20250513T055108Z
LAST-MODIFIED:20250513T055108Z
UID:10002645-1775804700-1775807100@recoverystlouis.org
SUMMARY:AA Closed/ Men only Primary Purpose Mens
DESCRIPTION:
URL:https://recoverystlouis.org/event/aa-closed-men-only-primary-purpose-mens/2026-04-10/
END:VEVENT
BEGIN:VEVENT
DTSTART;TZID=America/Denver:20260410T174500
DTEND;TZID=America/Denver:20260410T184500
DTSTAMP:20260420T185439
CREATED:20250513T055756Z
LAST-MODIFIED:20250513T055756Z
UID:10004725-1775843100-1775846700@recoverystlouis.org
SUMMARY:AA Group 413- happier Hour Women’s-Open In person/online
DESCRIPTION:Zoom 263 787 324\nPW 279425 \nContact\nLeigh H\n(314) 276-6953
URL:https://recoverystlouis.org/event/aa-group-413-happier-hour-womens-open-in-person-online/2026-04-10/
END:VEVENT
BEGIN:VEVENT
DTSTART;TZID=America/Denver:20260412T090000
DTEND;TZID=America/Denver:20260412T101500
DTSTAMP:20260420T185439
CREATED:20250428T191821Z
LAST-MODIFIED:20250512T070411Z
UID:10000048-1775984400-1775988900@recoverystlouis.org
SUMMARY:AA Group 255-FIVE AND DIME Closed-Mixed In person/online
DESCRIPTION:Zoom:845 2025 1856\nPW: 173321 \nContact\nMichael Mac\n314-249-8149
URL:https://recoverystlouis.org/event/lorem-ipsum/2026-04-12/
END:VEVENT
BEGIN:VEVENT
DTSTART;TZID=America/Denver:20260412T110000
DTEND;TZID=America/Denver:20260412T120000
DTSTAMP:20260420T185439
CREATED:20250513T055407Z
LAST-MODIFIED:20250513T055407Z
UID:10003165-1775991600-1775995200@recoverystlouis.org
SUMMARY:OA Sunday Recovery Open-mixed In person/online
DESCRIPTION:Zoom:264 689 861\nPW:066708 \nContact\nCathy K (314) 538-1331
URL:https://recoverystlouis.org/event/oa-sunday-recovery-open-mixed-in-person-online/2026-04-12/
END:VEVENT
BEGIN:VEVENT
DTSTART;TZID=America/Denver:20260413T180000
DTEND;TZID=America/Denver:20260413T190000
DTSTAMP:20260420T185439
CREATED:20250512T071133Z
LAST-MODIFIED:20250512T071133Z
UID:10000568-1776103200-1776106800@recoverystlouis.org
SUMMARY:I AM RESPONSIBLE Women’s-closed In person-online
DESCRIPTION:Zoom:191 385 271\nPW: 085501 \nContact Clare P\n(314) 448-2101
URL:https://recoverystlouis.org/event/i-am-responsible-womens-closed-in-person-online/2026-04-13/
END:VEVENT
BEGIN:VEVENT
DTSTART;TZID=America/Denver:20260414T173000
DTEND;TZID=America/Denver:20260414T183000
DTSTAMP:20260420T185439
CREATED:20250513T054121Z
LAST-MODIFIED:20250513T054121Z
UID:10001086-1776187800-1776191400@recoverystlouis.org
SUMMARY:AA Secular Sobriety Open-mixed In person/online
DESCRIPTION:Zoom: 343 811 2984\nPW 770507
URL:https://recoverystlouis.org/event/aa-secular-sobriety-open-mixed-in-person-online/2026-04-14/
END:VEVENT
BEGIN:VEVENT
DTSTART;TZID=America/Denver:20260414T190000
DTEND;TZID=America/Denver:20260414T200000
DTSTAMP:20260420T185439
CREATED:20250513T055457Z
LAST-MODIFIED:20250513T055457Z
UID:10003686-1776193200-1776196800@recoverystlouis.org
SUMMARY:AA Burton’s Heroes Open -mixed In person/online
DESCRIPTION:
URL:https://recoverystlouis.org/event/aa-burtons-heroes-open-mixed-in-person-online/2026-04-14/
END:VEVENT
BEGIN:VEVENT
DTSTART;TZID=America/Denver:20260415T170000
DTEND;TZID=America/Denver:20260415T190000
DTSTAMP:20260420T185439
CREATED:20250513T054406Z
LAST-MODIFIED:20250513T054406Z
UID:10001606-1776272400-1776279600@recoverystlouis.org
SUMMARY:Private group
DESCRIPTION:
URL:https://recoverystlouis.org/event/private-group/2026-04-15/
END:VEVENT
BEGIN:VEVENT
DTSTART;TZID=America/Denver:20260416T100000
DTEND;TZID=America/Denver:20260416T111500
DTSTAMP:20260420T185439
CREATED:20250513T054602Z
LAST-MODIFIED:20250530T165143Z
UID:10002126-1776333600-1776338100@recoverystlouis.org
SUMMARY:AA Group 179 Open-mixed In person/online
DESCRIPTION:Zoom 598 988 635\nPW 241200
URL:https://recoverystlouis.org/event/aa-group-179-open-mixed-in-person-online/2026-04-16/
END:VEVENT
BEGIN:VEVENT
DTSTART;TZID=America/Denver:20260416T190000
DTEND;TZID=America/Denver:20260416T200000
DTSTAMP:20260420T185439
CREATED:20250513T055622Z
LAST-MODIFIED:20250513T055622Z
UID:10004206-1776366000-1776369600@recoverystlouis.org
SUMMARY:Recovery Dharma Independent/in person only Open-mixed
DESCRIPTION:Contact\nMichelle T\n(314) 495-8026
URL:https://recoverystlouis.org/event/recovery-dharma-independent-in-person-only-open-mixed/2026-04-16/
END:VEVENT
BEGIN:VEVENT
DTSTART;TZID=America/Denver:20260417T070500
DTEND;TZID=America/Denver:20260417T074500
DTSTAMP:20260420T185439
CREATED:20250513T055108Z
LAST-MODIFIED:20250513T055108Z
UID:10002646-1776409500-1776411900@recoverystlouis.org
SUMMARY:AA Closed/ Men only Primary Purpose Mens
DESCRIPTION:
URL:https://recoverystlouis.org/event/aa-closed-men-only-primary-purpose-mens/2026-04-17/
END:VEVENT
BEGIN:VEVENT
DTSTART;TZID=America/Denver:20260417T174500
DTEND;TZID=America/Denver:20260417T184500
DTSTAMP:20260420T185439
CREATED:20250513T055756Z
LAST-MODIFIED:20250513T055756Z
UID:10004726-1776447900-1776451500@recoverystlouis.org
SUMMARY:AA Group 413- happier Hour Women’s-Open In person/online
DESCRIPTION:Zoom 263 787 324\nPW 279425 \nContact\nLeigh H\n(314) 276-6953
URL:https://recoverystlouis.org/event/aa-group-413-happier-hour-womens-open-in-person-online/2026-04-17/
END:VEVENT
BEGIN:VEVENT
DTSTART;TZID=America/Denver:20260419T090000
DTEND;TZID=America/Denver:20260419T101500
DTSTAMP:20260420T185439
CREATED:20250428T191821Z
LAST-MODIFIED:20250512T070411Z
UID:10000049-1776589200-1776593700@recoverystlouis.org
SUMMARY:AA Group 255-FIVE AND DIME Closed-Mixed In person/online
DESCRIPTION:Zoom:845 2025 1856\nPW: 173321 \nContact\nMichael Mac\n314-249-8149
URL:https://recoverystlouis.org/event/lorem-ipsum/2026-04-19/
END:VEVENT
BEGIN:VEVENT
DTSTART;TZID=America/Denver:20260419T110000
DTEND;TZID=America/Denver:20260419T120000
DTSTAMP:20260420T185439
CREATED:20250513T055407Z
LAST-MODIFIED:20250513T055407Z
UID:10003166-1776596400-1776600000@recoverystlouis.org
SUMMARY:OA Sunday Recovery Open-mixed In person/online
DESCRIPTION:Zoom:264 689 861\nPW:066708 \nContact\nCathy K (314) 538-1331
URL:https://recoverystlouis.org/event/oa-sunday-recovery-open-mixed-in-person-online/2026-04-19/
END:VEVENT
BEGIN:VEVENT
DTSTART;TZID=America/Denver:20260420T180000
DTEND;TZID=America/Denver:20260420T190000
DTSTAMP:20260420T185439
CREATED:20250512T071133Z
LAST-MODIFIED:20250512T071133Z
UID:10000569-1776708000-1776711600@recoverystlouis.org
SUMMARY:I AM RESPONSIBLE Women’s-closed In person-online
DESCRIPTION:Zoom:191 385 271\nPW: 085501 \nContact Clare P\n(314) 448-2101
URL:https://recoverystlouis.org/event/i-am-responsible-womens-closed-in-person-online/2026-04-20/
END:VEVENT
BEGIN:VEVENT
DTSTART;TZID=America/Denver:20260421T173000
DTEND;TZID=America/Denver:20260421T183000
DTSTAMP:20260420T185439
CREATED:20250513T054121Z
LAST-MODIFIED:20250513T054121Z
UID:10001087-1776792600-1776796200@recoverystlouis.org
SUMMARY:AA Secular Sobriety Open-mixed In person/online
DESCRIPTION:Zoom: 343 811 2984\nPW 770507
URL:https://recoverystlouis.org/event/aa-secular-sobriety-open-mixed-in-person-online/2026-04-21/
END:VEVENT
BEGIN:VEVENT
DTSTART;TZID=America/Denver:20260421T190000
DTEND;TZID=America/Denver:20260421T200000
DTSTAMP:20260420T185439
CREATED:20250513T055457Z
LAST-MODIFIED:20250513T055457Z
UID:10003687-1776798000-1776801600@recoverystlouis.org
SUMMARY:AA Burton’s Heroes Open -mixed In person/online
DESCRIPTION:
URL:https://recoverystlouis.org/event/aa-burtons-heroes-open-mixed-in-person-online/2026-04-21/
END:VEVENT
BEGIN:VEVENT
DTSTART;TZID=America/Denver:20260422T170000
DTEND;TZID=America/Denver:20260422T190000
DTSTAMP:20260420T185439
CREATED:20250513T054406Z
LAST-MODIFIED:20250513T054406Z
UID:10001607-1776877200-1776884400@recoverystlouis.org
SUMMARY:Private group
DESCRIPTION:
URL:https://recoverystlouis.org/event/private-group/2026-04-22/
END:VEVENT
BEGIN:VEVENT
DTSTART;TZID=America/Denver:20260423T100000
DTEND;TZID=America/Denver:20260423T111500
DTSTAMP:20260420T185439
CREATED:20250513T054602Z
LAST-MODIFIED:20250530T165143Z
UID:10002127-1776938400-1776942900@recoverystlouis.org
SUMMARY:AA Group 179 Open-mixed In person/online
DESCRIPTION:Zoom 598 988 635\nPW 241200
URL:https://recoverystlouis.org/event/aa-group-179-open-mixed-in-person-online/2026-04-23/
END:VEVENT
BEGIN:VEVENT
DTSTART;TZID=America/Denver:20260423T190000
DTEND;TZID=America/Denver:20260423T200000
DTSTAMP:20260420T185439
CREATED:20250513T055622Z
LAST-MODIFIED:20250513T055622Z
UID:10004207-1776970800-1776974400@recoverystlouis.org
SUMMARY:Recovery Dharma Independent/in person only Open-mixed
DESCRIPTION:Contact\nMichelle T\n(314) 495-8026
URL:https://recoverystlouis.org/event/recovery-dharma-independent-in-person-only-open-mixed/2026-04-23/
END:VEVENT
BEGIN:VEVENT
DTSTART;TZID=America/Denver:20260424T070500
DTEND;TZID=America/Denver:20260424T074500
DTSTAMP:20260420T185439
CREATED:20250513T055108Z
LAST-MODIFIED:20250513T055108Z
UID:10002647-1777014300-1777016700@recoverystlouis.org
SUMMARY:AA Closed/ Men only Primary Purpose Mens
DESCRIPTION:
URL:https://recoverystlouis.org/event/aa-closed-men-only-primary-purpose-mens/2026-04-24/
END:VEVENT
BEGIN:VEVENT
DTSTART;TZID=America/Denver:20260424T174500
DTEND;TZID=America/Denver:20260424T184500
DTSTAMP:20260420T185439
CREATED:20250513T055756Z
LAST-MODIFIED:20250513T055756Z
UID:10004727-1777052700-1777056300@recoverystlouis.org
SUMMARY:AA Group 413- happier Hour Women’s-Open In person/online
DESCRIPTION:Zoom 263 787 324\nPW 279425 \nContact\nLeigh H\n(314) 276-6953
URL:https://recoverystlouis.org/event/aa-group-413-happier-hour-womens-open-in-person-online/2026-04-24/
END:VEVENT
BEGIN:VEVENT
DTSTART;TZID=America/Denver:20260426T090000
DTEND;TZID=America/Denver:20260426T101500
DTSTAMP:20260420T185439
CREATED:20250428T191821Z
LAST-MODIFIED:20250512T070411Z
UID:10000050-1777194000-1777198500@recoverystlouis.org
SUMMARY:AA Group 255-FIVE AND DIME Closed-Mixed In person/online
DESCRIPTION:Zoom:845 2025 1856\nPW: 173321 \nContact\nMichael Mac\n314-249-8149
URL:https://recoverystlouis.org/event/lorem-ipsum/2026-04-26/
END:VEVENT
BEGIN:VEVENT
DTSTART;TZID=America/Denver:20260426T110000
DTEND;TZID=America/Denver:20260426T120000
DTSTAMP:20260420T185439
CREATED:20250513T055407Z
LAST-MODIFIED:20250513T055407Z
UID:10003167-1777201200-1777204800@recoverystlouis.org
SUMMARY:OA Sunday Recovery Open-mixed In person/online
DESCRIPTION:Zoom:264 689 861\nPW:066708 \nContact\nCathy K (314) 538-1331
URL:https://recoverystlouis.org/event/oa-sunday-recovery-open-mixed-in-person-online/2026-04-26/
END:VEVENT
BEGIN:VEVENT
DTSTART;TZID=America/Denver:20260427T180000
DTEND;TZID=America/Denver:20260427T190000
DTSTAMP:20260420T185439
CREATED:20250512T071133Z
LAST-MODIFIED:20250512T071133Z
UID:10000570-1777312800-1777316400@recoverystlouis.org
SUMMARY:I AM RESPONSIBLE Women’s-closed In person-online
DESCRIPTION:Zoom:191 385 271\nPW: 085501 \nContact Clare P\n(314) 448-2101
URL:https://recoverystlouis.org/event/i-am-responsible-womens-closed-in-person-online/2026-04-27/
END:VEVENT
BEGIN:VEVENT
DTSTART;TZID=America/Denver:20260428T173000
DTEND;TZID=America/Denver:20260428T183000
DTSTAMP:20260420T185439
CREATED:20250513T054121Z
LAST-MODIFIED:20250513T054121Z
UID:10001088-1777397400-1777401000@recoverystlouis.org
SUMMARY:AA Secular Sobriety Open-mixed In person/online
DESCRIPTION:Zoom: 343 811 2984\nPW 770507
URL:https://recoverystlouis.org/event/aa-secular-sobriety-open-mixed-in-person-online/2026-04-28/
END:VEVENT
BEGIN:VEVENT
DTSTART;TZID=America/Denver:20260428T190000
DTEND;TZID=America/Denver:20260428T200000
DTSTAMP:20260420T185439
CREATED:20250513T055457Z
LAST-MODIFIED:20250513T055457Z
UID:10003688-1777402800-1777406400@recoverystlouis.org
SUMMARY:AA Burton’s Heroes Open -mixed In person/online
DESCRIPTION:
URL:https://recoverystlouis.org/event/aa-burtons-heroes-open-mixed-in-person-online/2026-04-28/
END:VEVENT
BEGIN:VEVENT
DTSTART;TZID=America/Denver:20260429T170000
DTEND;TZID=America/Denver:20260429T190000
DTSTAMP:20260420T185439
CREATED:20250513T054406Z
LAST-MODIFIED:20250513T054406Z
UID:10001608-1777482000-1777489200@recoverystlouis.org
SUMMARY:Private group
DESCRIPTION:
URL:https://recoverystlouis.org/event/private-group/2026-04-29/
END:VEVENT
END:VCALENDAR