BEGIN:VCALENDAR
VERSION:2.0
PRODID:-//Recovery St. Louis - ECPv6.15.17.1//NONSGML v1.0//EN
CALSCALE:GREGORIAN
METHOD:PUBLISH
X-WR-CALNAME:Recovery St. Louis
X-ORIGINAL-URL:https://recoverystlouis.org
X-WR-CALDESC:Events for Recovery St. Louis
REFRESH-INTERVAL;VALUE=DURATION:PT1H
X-Robots-Tag:noindex
X-PUBLISHED-TTL:PT1H
BEGIN:VTIMEZONE
TZID:America/Denver
BEGIN:DAYLIGHT
TZOFFSETFROM:-0700
TZOFFSETTO:-0600
TZNAME:MDT
DTSTART:20260308T090000
END:DAYLIGHT
BEGIN:STANDARD
TZOFFSETFROM:-0600
TZOFFSETTO:-0700
TZNAME:MST
DTSTART:20261101T080000
END:STANDARD
BEGIN:DAYLIGHT
TZOFFSETFROM:-0700
TZOFFSETTO:-0600
TZNAME:MDT
DTSTART:20270314T090000
END:DAYLIGHT
BEGIN:STANDARD
TZOFFSETFROM:-0600
TZOFFSETTO:-0700
TZNAME:MST
DTSTART:20271107T080000
END:STANDARD
BEGIN:DAYLIGHT
TZOFFSETFROM:-0700
TZOFFSETTO:-0600
TZNAME:MDT
DTSTART:20280312T090000
END:DAYLIGHT
BEGIN:STANDARD
TZOFFSETFROM:-0600
TZOFFSETTO:-0700
TZNAME:MST
DTSTART:20281105T080000
END:STANDARD
END:VTIMEZONE
BEGIN:VEVENT
DTSTART;TZID=America/Denver:20270820T174500
DTEND;TZID=America/Denver:20270820T184500
DTSTAMP:20260422T160404
CREATED:20250513T055756Z
LAST-MODIFIED:20250513T055756Z
UID:10004796-1818783900-1818787500@recoverystlouis.org
SUMMARY:AA Group 413- happier Hour Women’s-Open In person/online
DESCRIPTION:Zoom 263 787 324\nPW 279425 \nContact\nLeigh H\n(314) 276-6953
URL:https://recoverystlouis.org/event/aa-group-413-happier-hour-womens-open-in-person-online/2027-08-20/
END:VEVENT
BEGIN:VEVENT
DTSTART;TZID=America/Denver:20270820T070500
DTEND;TZID=America/Denver:20270820T074500
DTSTAMP:20260422T160404
CREATED:20250513T055108Z
LAST-MODIFIED:20250513T055108Z
UID:10002716-1818745500-1818747900@recoverystlouis.org
SUMMARY:AA Closed/ Men only Primary Purpose Mens
DESCRIPTION:
URL:https://recoverystlouis.org/event/aa-closed-men-only-primary-purpose-mens/2027-08-20/
END:VEVENT
BEGIN:VEVENT
DTSTART;TZID=America/Denver:20270819T190000
DTEND;TZID=America/Denver:20270819T200000
DTSTAMP:20260422T160404
CREATED:20250513T055622Z
LAST-MODIFIED:20250513T055622Z
UID:10004276-1818702000-1818705600@recoverystlouis.org
SUMMARY:Recovery Dharma Independent/in person only Open-mixed
DESCRIPTION:Contact\nMichelle T\n(314) 495-8026
URL:https://recoverystlouis.org/event/recovery-dharma-independent-in-person-only-open-mixed/2027-08-19/
END:VEVENT
BEGIN:VEVENT
DTSTART;TZID=America/Denver:20270819T100000
DTEND;TZID=America/Denver:20270819T111500
DTSTAMP:20260422T160404
CREATED:20250513T054602Z
LAST-MODIFIED:20250530T165143Z
UID:10002196-1818669600-1818674100@recoverystlouis.org
SUMMARY:AA Group 179 Open-mixed In person/online
DESCRIPTION:Zoom 598 988 635\nPW 241200
URL:https://recoverystlouis.org/event/aa-group-179-open-mixed-in-person-online/2027-08-19/
END:VEVENT
BEGIN:VEVENT
DTSTART;TZID=America/Denver:20270818T170000
DTEND;TZID=America/Denver:20270818T190000
DTSTAMP:20260422T160404
CREATED:20250513T054406Z
LAST-MODIFIED:20250513T054406Z
UID:10001676-1818608400-1818615600@recoverystlouis.org
SUMMARY:Private group
DESCRIPTION:
URL:https://recoverystlouis.org/event/private-group/2027-08-18/
END:VEVENT
BEGIN:VEVENT
DTSTART;TZID=America/Denver:20270817T190000
DTEND;TZID=America/Denver:20270817T200000
DTSTAMP:20260422T160404
CREATED:20250513T055457Z
LAST-MODIFIED:20250513T055457Z
UID:10003756-1818529200-1818532800@recoverystlouis.org
SUMMARY:AA Burton’s Heroes Open -mixed In person/online
DESCRIPTION:
URL:https://recoverystlouis.org/event/aa-burtons-heroes-open-mixed-in-person-online/2027-08-17/
END:VEVENT
BEGIN:VEVENT
DTSTART;TZID=America/Denver:20270817T173000
DTEND;TZID=America/Denver:20270817T183000
DTSTAMP:20260422T160404
CREATED:20250513T054121Z
LAST-MODIFIED:20250513T054121Z
UID:10001156-1818523800-1818527400@recoverystlouis.org
SUMMARY:AA Secular Sobriety Open-mixed In person/online
DESCRIPTION:Zoom: 343 811 2984\nPW 770507
URL:https://recoverystlouis.org/event/aa-secular-sobriety-open-mixed-in-person-online/2027-08-17/
END:VEVENT
BEGIN:VEVENT
DTSTART;TZID=America/Denver:20270816T180000
DTEND;TZID=America/Denver:20270816T190000
DTSTAMP:20260422T160404
CREATED:20250512T071133Z
LAST-MODIFIED:20250512T071133Z
UID:10000638-1818439200-1818442800@recoverystlouis.org
SUMMARY:I AM RESPONSIBLE Women’s-closed In person-online
DESCRIPTION:Zoom:191 385 271\nPW: 085501 \nContact Clare P\n(314) 448-2101
URL:https://recoverystlouis.org/event/i-am-responsible-womens-closed-in-person-online/2027-08-16/
END:VEVENT
BEGIN:VEVENT
DTSTART;TZID=America/Denver:20270815T110000
DTEND;TZID=America/Denver:20270815T120000
DTSTAMP:20260422T160404
CREATED:20250513T055407Z
LAST-MODIFIED:20250513T055407Z
UID:10003235-1818327600-1818331200@recoverystlouis.org
SUMMARY:OA Sunday Recovery Open-mixed In person/online
DESCRIPTION:Zoom:264 689 861\nPW:066708 \nContact\nCathy K (314) 538-1331
URL:https://recoverystlouis.org/event/oa-sunday-recovery-open-mixed-in-person-online/2027-08-15/
END:VEVENT
BEGIN:VEVENT
DTSTART;TZID=America/Denver:20270815T090000
DTEND;TZID=America/Denver:20270815T101500
DTSTAMP:20260422T160404
CREATED:20250428T191821Z
LAST-MODIFIED:20250512T070411Z
UID:10000118-1818320400-1818324900@recoverystlouis.org
SUMMARY:AA Group 255-FIVE AND DIME Closed-Mixed In person/online
DESCRIPTION:Zoom:845 2025 1856\nPW: 173321 \nContact\nMichael Mac\n314-249-8149
URL:https://recoverystlouis.org/event/lorem-ipsum/2027-08-15/
END:VEVENT
BEGIN:VEVENT
DTSTART;TZID=America/Denver:20270813T174500
DTEND;TZID=America/Denver:20270813T184500
DTSTAMP:20260422T160404
CREATED:20250513T055756Z
LAST-MODIFIED:20250513T055756Z
UID:10004795-1818179100-1818182700@recoverystlouis.org
SUMMARY:AA Group 413- happier Hour Women’s-Open In person/online
DESCRIPTION:Zoom 263 787 324\nPW 279425 \nContact\nLeigh H\n(314) 276-6953
URL:https://recoverystlouis.org/event/aa-group-413-happier-hour-womens-open-in-person-online/2027-08-13/
END:VEVENT
BEGIN:VEVENT
DTSTART;TZID=America/Denver:20270813T070500
DTEND;TZID=America/Denver:20270813T074500
DTSTAMP:20260422T160404
CREATED:20250513T055108Z
LAST-MODIFIED:20250513T055108Z
UID:10002715-1818140700-1818143100@recoverystlouis.org
SUMMARY:AA Closed/ Men only Primary Purpose Mens
DESCRIPTION:
URL:https://recoverystlouis.org/event/aa-closed-men-only-primary-purpose-mens/2027-08-13/
END:VEVENT
BEGIN:VEVENT
DTSTART;TZID=America/Denver:20270812T190000
DTEND;TZID=America/Denver:20270812T200000
DTSTAMP:20260422T160404
CREATED:20250513T055622Z
LAST-MODIFIED:20250513T055622Z
UID:10004275-1818097200-1818100800@recoverystlouis.org
SUMMARY:Recovery Dharma Independent/in person only Open-mixed
DESCRIPTION:Contact\nMichelle T\n(314) 495-8026
URL:https://recoverystlouis.org/event/recovery-dharma-independent-in-person-only-open-mixed/2027-08-12/
END:VEVENT
BEGIN:VEVENT
DTSTART;TZID=America/Denver:20270812T100000
DTEND;TZID=America/Denver:20270812T111500
DTSTAMP:20260422T160404
CREATED:20250513T054602Z
LAST-MODIFIED:20250530T165143Z
UID:10002195-1818064800-1818069300@recoverystlouis.org
SUMMARY:AA Group 179 Open-mixed In person/online
DESCRIPTION:Zoom 598 988 635\nPW 241200
URL:https://recoverystlouis.org/event/aa-group-179-open-mixed-in-person-online/2027-08-12/
END:VEVENT
BEGIN:VEVENT
DTSTART;TZID=America/Denver:20270811T170000
DTEND;TZID=America/Denver:20270811T190000
DTSTAMP:20260422T160404
CREATED:20250513T054406Z
LAST-MODIFIED:20250513T054406Z
UID:10001675-1818003600-1818010800@recoverystlouis.org
SUMMARY:Private group
DESCRIPTION:
URL:https://recoverystlouis.org/event/private-group/2027-08-11/
END:VEVENT
BEGIN:VEVENT
DTSTART;TZID=America/Denver:20270810T190000
DTEND;TZID=America/Denver:20270810T200000
DTSTAMP:20260422T160404
CREATED:20250513T055457Z
LAST-MODIFIED:20250513T055457Z
UID:10003755-1817924400-1817928000@recoverystlouis.org
SUMMARY:AA Burton’s Heroes Open -mixed In person/online
DESCRIPTION:
URL:https://recoverystlouis.org/event/aa-burtons-heroes-open-mixed-in-person-online/2027-08-10/
END:VEVENT
BEGIN:VEVENT
DTSTART;TZID=America/Denver:20270810T173000
DTEND;TZID=America/Denver:20270810T183000
DTSTAMP:20260422T160404
CREATED:20250513T054121Z
LAST-MODIFIED:20250513T054121Z
UID:10001155-1817919000-1817922600@recoverystlouis.org
SUMMARY:AA Secular Sobriety Open-mixed In person/online
DESCRIPTION:Zoom: 343 811 2984\nPW 770507
URL:https://recoverystlouis.org/event/aa-secular-sobriety-open-mixed-in-person-online/2027-08-10/
END:VEVENT
BEGIN:VEVENT
DTSTART;TZID=America/Denver:20270809T180000
DTEND;TZID=America/Denver:20270809T190000
DTSTAMP:20260422T160404
CREATED:20250512T071133Z
LAST-MODIFIED:20250512T071133Z
UID:10000637-1817834400-1817838000@recoverystlouis.org
SUMMARY:I AM RESPONSIBLE Women’s-closed In person-online
DESCRIPTION:Zoom:191 385 271\nPW: 085501 \nContact Clare P\n(314) 448-2101
URL:https://recoverystlouis.org/event/i-am-responsible-womens-closed-in-person-online/2027-08-09/
END:VEVENT
BEGIN:VEVENT
DTSTART;TZID=America/Denver:20270808T110000
DTEND;TZID=America/Denver:20270808T120000
DTSTAMP:20260422T160404
CREATED:20250513T055407Z
LAST-MODIFIED:20250513T055407Z
UID:10003234-1817722800-1817726400@recoverystlouis.org
SUMMARY:OA Sunday Recovery Open-mixed In person/online
DESCRIPTION:Zoom:264 689 861\nPW:066708 \nContact\nCathy K (314) 538-1331
URL:https://recoverystlouis.org/event/oa-sunday-recovery-open-mixed-in-person-online/2027-08-08/
END:VEVENT
BEGIN:VEVENT
DTSTART;TZID=America/Denver:20270808T090000
DTEND;TZID=America/Denver:20270808T101500
DTSTAMP:20260422T160404
CREATED:20250428T191821Z
LAST-MODIFIED:20250512T070411Z
UID:10000117-1817715600-1817720100@recoverystlouis.org
SUMMARY:AA Group 255-FIVE AND DIME Closed-Mixed In person/online
DESCRIPTION:Zoom:845 2025 1856\nPW: 173321 \nContact\nMichael Mac\n314-249-8149
URL:https://recoverystlouis.org/event/lorem-ipsum/2027-08-08/
END:VEVENT
BEGIN:VEVENT
DTSTART;TZID=America/Denver:20270806T174500
DTEND;TZID=America/Denver:20270806T184500
DTSTAMP:20260422T160404
CREATED:20250513T055756Z
LAST-MODIFIED:20250513T055756Z
UID:10004794-1817574300-1817577900@recoverystlouis.org
SUMMARY:AA Group 413- happier Hour Women’s-Open In person/online
DESCRIPTION:Zoom 263 787 324\nPW 279425 \nContact\nLeigh H\n(314) 276-6953
URL:https://recoverystlouis.org/event/aa-group-413-happier-hour-womens-open-in-person-online/2027-08-06/
END:VEVENT
BEGIN:VEVENT
DTSTART;TZID=America/Denver:20270806T070500
DTEND;TZID=America/Denver:20270806T074500
DTSTAMP:20260422T160404
CREATED:20250513T055108Z
LAST-MODIFIED:20250513T055108Z
UID:10002714-1817535900-1817538300@recoverystlouis.org
SUMMARY:AA Closed/ Men only Primary Purpose Mens
DESCRIPTION:
URL:https://recoverystlouis.org/event/aa-closed-men-only-primary-purpose-mens/2027-08-06/
END:VEVENT
BEGIN:VEVENT
DTSTART;TZID=America/Denver:20270805T190000
DTEND;TZID=America/Denver:20270805T200000
DTSTAMP:20260422T160404
CREATED:20250513T055622Z
LAST-MODIFIED:20250513T055622Z
UID:10004274-1817492400-1817496000@recoverystlouis.org
SUMMARY:Recovery Dharma Independent/in person only Open-mixed
DESCRIPTION:Contact\nMichelle T\n(314) 495-8026
URL:https://recoverystlouis.org/event/recovery-dharma-independent-in-person-only-open-mixed/2027-08-05/
END:VEVENT
BEGIN:VEVENT
DTSTART;TZID=America/Denver:20270805T100000
DTEND;TZID=America/Denver:20270805T111500
DTSTAMP:20260422T160404
CREATED:20250513T054602Z
LAST-MODIFIED:20250530T165143Z
UID:10002194-1817460000-1817464500@recoverystlouis.org
SUMMARY:AA Group 179 Open-mixed In person/online
DESCRIPTION:Zoom 598 988 635\nPW 241200
URL:https://recoverystlouis.org/event/aa-group-179-open-mixed-in-person-online/2027-08-05/
END:VEVENT
BEGIN:VEVENT
DTSTART;TZID=America/Denver:20270804T170000
DTEND;TZID=America/Denver:20270804T190000
DTSTAMP:20260422T160404
CREATED:20250513T054406Z
LAST-MODIFIED:20250513T054406Z
UID:10001674-1817398800-1817406000@recoverystlouis.org
SUMMARY:Private group
DESCRIPTION:
URL:https://recoverystlouis.org/event/private-group/2027-08-04/
END:VEVENT
BEGIN:VEVENT
DTSTART;TZID=America/Denver:20270803T190000
DTEND;TZID=America/Denver:20270803T200000
DTSTAMP:20260422T160404
CREATED:20250513T055457Z
LAST-MODIFIED:20250513T055457Z
UID:10003754-1817319600-1817323200@recoverystlouis.org
SUMMARY:AA Burton’s Heroes Open -mixed In person/online
DESCRIPTION:
URL:https://recoverystlouis.org/event/aa-burtons-heroes-open-mixed-in-person-online/2027-08-03/
END:VEVENT
BEGIN:VEVENT
DTSTART;TZID=America/Denver:20270803T173000
DTEND;TZID=America/Denver:20270803T183000
DTSTAMP:20260422T160404
CREATED:20250513T054121Z
LAST-MODIFIED:20250513T054121Z
UID:10001154-1817314200-1817317800@recoverystlouis.org
SUMMARY:AA Secular Sobriety Open-mixed In person/online
DESCRIPTION:Zoom: 343 811 2984\nPW 770507
URL:https://recoverystlouis.org/event/aa-secular-sobriety-open-mixed-in-person-online/2027-08-03/
END:VEVENT
BEGIN:VEVENT
DTSTART;TZID=America/Denver:20270802T180000
DTEND;TZID=America/Denver:20270802T190000
DTSTAMP:20260422T160404
CREATED:20250512T071133Z
LAST-MODIFIED:20250512T071133Z
UID:10000636-1817229600-1817233200@recoverystlouis.org
SUMMARY:I AM RESPONSIBLE Women’s-closed In person-online
DESCRIPTION:Zoom:191 385 271\nPW: 085501 \nContact Clare P\n(314) 448-2101
URL:https://recoverystlouis.org/event/i-am-responsible-womens-closed-in-person-online/2027-08-02/
END:VEVENT
BEGIN:VEVENT
DTSTART;TZID=America/Denver:20270801T110000
DTEND;TZID=America/Denver:20270801T120000
DTSTAMP:20260422T160404
CREATED:20250513T055407Z
LAST-MODIFIED:20250513T055407Z
UID:10003233-1817118000-1817121600@recoverystlouis.org
SUMMARY:OA Sunday Recovery Open-mixed In person/online
DESCRIPTION:Zoom:264 689 861\nPW:066708 \nContact\nCathy K (314) 538-1331
URL:https://recoverystlouis.org/event/oa-sunday-recovery-open-mixed-in-person-online/2027-08-01/
END:VEVENT
BEGIN:VEVENT
DTSTART;TZID=America/Denver:20270801T090000
DTEND;TZID=America/Denver:20270801T101500
DTSTAMP:20260422T160404
CREATED:20250428T191821Z
LAST-MODIFIED:20250512T070411Z
UID:10000116-1817110800-1817115300@recoverystlouis.org
SUMMARY:AA Group 255-FIVE AND DIME Closed-Mixed In person/online
DESCRIPTION:Zoom:845 2025 1856\nPW: 173321 \nContact\nMichael Mac\n314-249-8149
URL:https://recoverystlouis.org/event/lorem-ipsum/2027-08-01/
END:VEVENT
END:VCALENDAR