BEGIN:VCALENDAR
VERSION:2.0
PRODID:-//Recovery St. Louis - ECPv6.15.17.1//NONSGML v1.0//EN
CALSCALE:GREGORIAN
METHOD:PUBLISH
X-ORIGINAL-URL:https://recoverystlouis.org
X-WR-CALDESC:Events for Recovery St. Louis
REFRESH-INTERVAL;VALUE=DURATION:PT1H
X-Robots-Tag:noindex
X-PUBLISHED-TTL:PT1H
BEGIN:VTIMEZONE
TZID:America/Denver
BEGIN:DAYLIGHT
TZOFFSETFROM:-0700
TZOFFSETTO:-0600
TZNAME:MDT
DTSTART:20260308T090000
END:DAYLIGHT
BEGIN:STANDARD
TZOFFSETFROM:-0600
TZOFFSETTO:-0700
TZNAME:MST
DTSTART:20261101T080000
END:STANDARD
BEGIN:DAYLIGHT
TZOFFSETFROM:-0700
TZOFFSETTO:-0600
TZNAME:MDT
DTSTART:20270314T090000
END:DAYLIGHT
BEGIN:STANDARD
TZOFFSETFROM:-0600
TZOFFSETTO:-0700
TZNAME:MST
DTSTART:20271107T080000
END:STANDARD
BEGIN:DAYLIGHT
TZOFFSETFROM:-0700
TZOFFSETTO:-0600
TZNAME:MDT
DTSTART:20280312T090000
END:DAYLIGHT
BEGIN:STANDARD
TZOFFSETFROM:-0600
TZOFFSETTO:-0700
TZNAME:MST
DTSTART:20281105T080000
END:STANDARD
END:VTIMEZONE
BEGIN:VEVENT
DTSTART;TZID=America/Denver:20271121T090000
DTEND;TZID=America/Denver:20271121T101500
DTSTAMP:20260422T163931
CREATED:20250428T191821Z
LAST-MODIFIED:20250512T070411Z
UID:10000132-1826787600-1826792100@recoverystlouis.org
SUMMARY:AA Group 255-FIVE AND DIME Closed-Mixed In person/online
DESCRIPTION:Zoom:845 2025 1856\nPW: 173321 \nContact\nMichael Mac\n314-249-8149
URL:https://recoverystlouis.org/event/lorem-ipsum/2027-11-21/
END:VEVENT
BEGIN:VEVENT
DTSTART;TZID=America/Denver:20271121T110000
DTEND;TZID=America/Denver:20271121T120000
DTSTAMP:20260422T163931
CREATED:20250513T055407Z
LAST-MODIFIED:20250513T055407Z
UID:10003249-1826794800-1826798400@recoverystlouis.org
SUMMARY:OA Sunday Recovery Open-mixed In person/online
DESCRIPTION:Zoom:264 689 861\nPW:066708 \nContact\nCathy K (314) 538-1331
URL:https://recoverystlouis.org/event/oa-sunday-recovery-open-mixed-in-person-online/2027-11-21/
END:VEVENT
BEGIN:VEVENT
DTSTART;TZID=America/Denver:20271122T180000
DTEND;TZID=America/Denver:20271122T190000
DTSTAMP:20260422T163931
CREATED:20250512T071133Z
LAST-MODIFIED:20250512T071133Z
UID:10000652-1826906400-1826910000@recoverystlouis.org
SUMMARY:I AM RESPONSIBLE Women’s-closed In person-online
DESCRIPTION:Zoom:191 385 271\nPW: 085501 \nContact Clare P\n(314) 448-2101
URL:https://recoverystlouis.org/event/i-am-responsible-womens-closed-in-person-online/2027-11-22/
END:VEVENT
BEGIN:VEVENT
DTSTART;TZID=America/Denver:20271123T173000
DTEND;TZID=America/Denver:20271123T183000
DTSTAMP:20260422T163931
CREATED:20250513T054121Z
LAST-MODIFIED:20250513T054121Z
UID:10001170-1826991000-1826994600@recoverystlouis.org
SUMMARY:AA Secular Sobriety Open-mixed In person/online
DESCRIPTION:Zoom: 343 811 2984\nPW 770507
URL:https://recoverystlouis.org/event/aa-secular-sobriety-open-mixed-in-person-online/2027-11-23/
END:VEVENT
BEGIN:VEVENT
DTSTART;TZID=America/Denver:20271123T190000
DTEND;TZID=America/Denver:20271123T200000
DTSTAMP:20260422T163931
CREATED:20250513T055457Z
LAST-MODIFIED:20250513T055457Z
UID:10003770-1826996400-1827000000@recoverystlouis.org
SUMMARY:AA Burton’s Heroes Open -mixed In person/online
DESCRIPTION:
URL:https://recoverystlouis.org/event/aa-burtons-heroes-open-mixed-in-person-online/2027-11-23/
END:VEVENT
BEGIN:VEVENT
DTSTART;TZID=America/Denver:20271124T170000
DTEND;TZID=America/Denver:20271124T190000
DTSTAMP:20260422T163931
CREATED:20250513T054406Z
LAST-MODIFIED:20250513T054406Z
UID:10001690-1827075600-1827082800@recoverystlouis.org
SUMMARY:Private group
DESCRIPTION:
URL:https://recoverystlouis.org/event/private-group/2027-11-24/
END:VEVENT
BEGIN:VEVENT
DTSTART;TZID=America/Denver:20271125T100000
DTEND;TZID=America/Denver:20271125T111500
DTSTAMP:20260422T163931
CREATED:20250513T054602Z
LAST-MODIFIED:20250530T165143Z
UID:10002210-1827136800-1827141300@recoverystlouis.org
SUMMARY:AA Group 179 Open-mixed In person/online
DESCRIPTION:Zoom 598 988 635\nPW 241200
URL:https://recoverystlouis.org/event/aa-group-179-open-mixed-in-person-online/2027-11-25/
END:VEVENT
BEGIN:VEVENT
DTSTART;TZID=America/Denver:20271125T190000
DTEND;TZID=America/Denver:20271125T200000
DTSTAMP:20260422T163931
CREATED:20250513T055622Z
LAST-MODIFIED:20250513T055622Z
UID:10004290-1827169200-1827172800@recoverystlouis.org
SUMMARY:Recovery Dharma Independent/in person only Open-mixed
DESCRIPTION:Contact\nMichelle T\n(314) 495-8026
URL:https://recoverystlouis.org/event/recovery-dharma-independent-in-person-only-open-mixed/2027-11-25/
END:VEVENT
BEGIN:VEVENT
DTSTART;TZID=America/Denver:20271126T070500
DTEND;TZID=America/Denver:20271126T074500
DTSTAMP:20260422T163931
CREATED:20250513T055108Z
LAST-MODIFIED:20250513T055108Z
UID:10002730-1827212700-1827215100@recoverystlouis.org
SUMMARY:AA Closed/ Men only Primary Purpose Mens
DESCRIPTION:
URL:https://recoverystlouis.org/event/aa-closed-men-only-primary-purpose-mens/2027-11-26/
END:VEVENT
BEGIN:VEVENT
DTSTART;TZID=America/Denver:20271126T174500
DTEND;TZID=America/Denver:20271126T184500
DTSTAMP:20260422T163931
CREATED:20250513T055756Z
LAST-MODIFIED:20250513T055756Z
UID:10004810-1827251100-1827254700@recoverystlouis.org
SUMMARY:AA Group 413- happier Hour Women’s-Open In person/online
DESCRIPTION:Zoom 263 787 324\nPW 279425 \nContact\nLeigh H\n(314) 276-6953
URL:https://recoverystlouis.org/event/aa-group-413-happier-hour-womens-open-in-person-online/2027-11-26/
END:VEVENT
BEGIN:VEVENT
DTSTART;TZID=America/Denver:20271128T090000
DTEND;TZID=America/Denver:20271128T101500
DTSTAMP:20260422T163931
CREATED:20250428T191821Z
LAST-MODIFIED:20250512T070411Z
UID:10000133-1827392400-1827396900@recoverystlouis.org
SUMMARY:AA Group 255-FIVE AND DIME Closed-Mixed In person/online
DESCRIPTION:Zoom:845 2025 1856\nPW: 173321 \nContact\nMichael Mac\n314-249-8149
URL:https://recoverystlouis.org/event/lorem-ipsum/2027-11-28/
END:VEVENT
BEGIN:VEVENT
DTSTART;TZID=America/Denver:20271128T110000
DTEND;TZID=America/Denver:20271128T120000
DTSTAMP:20260422T163931
CREATED:20250513T055407Z
LAST-MODIFIED:20250513T055407Z
UID:10003250-1827399600-1827403200@recoverystlouis.org
SUMMARY:OA Sunday Recovery Open-mixed In person/online
DESCRIPTION:Zoom:264 689 861\nPW:066708 \nContact\nCathy K (314) 538-1331
URL:https://recoverystlouis.org/event/oa-sunday-recovery-open-mixed-in-person-online/2027-11-28/
END:VEVENT
BEGIN:VEVENT
DTSTART;TZID=America/Denver:20271129T180000
DTEND;TZID=America/Denver:20271129T190000
DTSTAMP:20260422T163931
CREATED:20250512T071133Z
LAST-MODIFIED:20250512T071133Z
UID:10000653-1827511200-1827514800@recoverystlouis.org
SUMMARY:I AM RESPONSIBLE Women’s-closed In person-online
DESCRIPTION:Zoom:191 385 271\nPW: 085501 \nContact Clare P\n(314) 448-2101
URL:https://recoverystlouis.org/event/i-am-responsible-womens-closed-in-person-online/2027-11-29/
END:VEVENT
BEGIN:VEVENT
DTSTART;TZID=America/Denver:20271130T173000
DTEND;TZID=America/Denver:20271130T183000
DTSTAMP:20260422T163931
CREATED:20250513T054121Z
LAST-MODIFIED:20250513T054121Z
UID:10001171-1827595800-1827599400@recoverystlouis.org
SUMMARY:AA Secular Sobriety Open-mixed In person/online
DESCRIPTION:Zoom: 343 811 2984\nPW 770507
URL:https://recoverystlouis.org/event/aa-secular-sobriety-open-mixed-in-person-online/2027-11-30/
END:VEVENT
BEGIN:VEVENT
DTSTART;TZID=America/Denver:20271130T190000
DTEND;TZID=America/Denver:20271130T200000
DTSTAMP:20260422T163931
CREATED:20250513T055457Z
LAST-MODIFIED:20250513T055457Z
UID:10003771-1827601200-1827604800@recoverystlouis.org
SUMMARY:AA Burton’s Heroes Open -mixed In person/online
DESCRIPTION:
URL:https://recoverystlouis.org/event/aa-burtons-heroes-open-mixed-in-person-online/2027-11-30/
END:VEVENT
BEGIN:VEVENT
DTSTART;TZID=America/Denver:20271201T170000
DTEND;TZID=America/Denver:20271201T190000
DTSTAMP:20260422T163931
CREATED:20250513T054406Z
LAST-MODIFIED:20250513T054406Z
UID:10001691-1827680400-1827687600@recoverystlouis.org
SUMMARY:Private group
DESCRIPTION:
URL:https://recoverystlouis.org/event/private-group/2027-12-01/
END:VEVENT
BEGIN:VEVENT
DTSTART;TZID=America/Denver:20271202T100000
DTEND;TZID=America/Denver:20271202T111500
DTSTAMP:20260422T163931
CREATED:20250513T054602Z
LAST-MODIFIED:20250530T165143Z
UID:10002211-1827741600-1827746100@recoverystlouis.org
SUMMARY:AA Group 179 Open-mixed In person/online
DESCRIPTION:Zoom 598 988 635\nPW 241200
URL:https://recoverystlouis.org/event/aa-group-179-open-mixed-in-person-online/2027-12-02/
END:VEVENT
BEGIN:VEVENT
DTSTART;TZID=America/Denver:20271202T190000
DTEND;TZID=America/Denver:20271202T200000
DTSTAMP:20260422T163931
CREATED:20250513T055622Z
LAST-MODIFIED:20250513T055622Z
UID:10004291-1827774000-1827777600@recoverystlouis.org
SUMMARY:Recovery Dharma Independent/in person only Open-mixed
DESCRIPTION:Contact\nMichelle T\n(314) 495-8026
URL:https://recoverystlouis.org/event/recovery-dharma-independent-in-person-only-open-mixed/2027-12-02/
END:VEVENT
BEGIN:VEVENT
DTSTART;TZID=America/Denver:20271203T070500
DTEND;TZID=America/Denver:20271203T074500
DTSTAMP:20260422T163931
CREATED:20250513T055108Z
LAST-MODIFIED:20250513T055108Z
UID:10002731-1827817500-1827819900@recoverystlouis.org
SUMMARY:AA Closed/ Men only Primary Purpose Mens
DESCRIPTION:
URL:https://recoverystlouis.org/event/aa-closed-men-only-primary-purpose-mens/2027-12-03/
END:VEVENT
BEGIN:VEVENT
DTSTART;TZID=America/Denver:20271203T174500
DTEND;TZID=America/Denver:20271203T184500
DTSTAMP:20260422T163931
CREATED:20250513T055756Z
LAST-MODIFIED:20250513T055756Z
UID:10004811-1827855900-1827859500@recoverystlouis.org
SUMMARY:AA Group 413- happier Hour Women’s-Open In person/online
DESCRIPTION:Zoom 263 787 324\nPW 279425 \nContact\nLeigh H\n(314) 276-6953
URL:https://recoverystlouis.org/event/aa-group-413-happier-hour-womens-open-in-person-online/2027-12-03/
END:VEVENT
BEGIN:VEVENT
DTSTART;TZID=America/Denver:20271205T090000
DTEND;TZID=America/Denver:20271205T101500
DTSTAMP:20260422T163931
CREATED:20250428T191821Z
LAST-MODIFIED:20250512T070411Z
UID:10000134-1827997200-1828001700@recoverystlouis.org
SUMMARY:AA Group 255-FIVE AND DIME Closed-Mixed In person/online
DESCRIPTION:Zoom:845 2025 1856\nPW: 173321 \nContact\nMichael Mac\n314-249-8149
URL:https://recoverystlouis.org/event/lorem-ipsum/2027-12-05/
END:VEVENT
BEGIN:VEVENT
DTSTART;TZID=America/Denver:20271205T110000
DTEND;TZID=America/Denver:20271205T120000
DTSTAMP:20260422T163931
CREATED:20250513T055407Z
LAST-MODIFIED:20250513T055407Z
UID:10003251-1828004400-1828008000@recoverystlouis.org
SUMMARY:OA Sunday Recovery Open-mixed In person/online
DESCRIPTION:Zoom:264 689 861\nPW:066708 \nContact\nCathy K (314) 538-1331
URL:https://recoverystlouis.org/event/oa-sunday-recovery-open-mixed-in-person-online/2027-12-05/
END:VEVENT
BEGIN:VEVENT
DTSTART;TZID=America/Denver:20271206T180000
DTEND;TZID=America/Denver:20271206T190000
DTSTAMP:20260422T163931
CREATED:20250512T071133Z
LAST-MODIFIED:20250512T071133Z
UID:10000654-1828116000-1828119600@recoverystlouis.org
SUMMARY:I AM RESPONSIBLE Women’s-closed In person-online
DESCRIPTION:Zoom:191 385 271\nPW: 085501 \nContact Clare P\n(314) 448-2101
URL:https://recoverystlouis.org/event/i-am-responsible-womens-closed-in-person-online/2027-12-06/
END:VEVENT
BEGIN:VEVENT
DTSTART;TZID=America/Denver:20271207T173000
DTEND;TZID=America/Denver:20271207T183000
DTSTAMP:20260422T163931
CREATED:20250513T054121Z
LAST-MODIFIED:20250513T054121Z
UID:10001172-1828200600-1828204200@recoverystlouis.org
SUMMARY:AA Secular Sobriety Open-mixed In person/online
DESCRIPTION:Zoom: 343 811 2984\nPW 770507
URL:https://recoverystlouis.org/event/aa-secular-sobriety-open-mixed-in-person-online/2027-12-07/
END:VEVENT
BEGIN:VEVENT
DTSTART;TZID=America/Denver:20271207T190000
DTEND;TZID=America/Denver:20271207T200000
DTSTAMP:20260422T163931
CREATED:20250513T055457Z
LAST-MODIFIED:20250513T055457Z
UID:10003772-1828206000-1828209600@recoverystlouis.org
SUMMARY:AA Burton’s Heroes Open -mixed In person/online
DESCRIPTION:
URL:https://recoverystlouis.org/event/aa-burtons-heroes-open-mixed-in-person-online/2027-12-07/
END:VEVENT
BEGIN:VEVENT
DTSTART;TZID=America/Denver:20271208T170000
DTEND;TZID=America/Denver:20271208T190000
DTSTAMP:20260422T163931
CREATED:20250513T054406Z
LAST-MODIFIED:20250513T054406Z
UID:10001692-1828285200-1828292400@recoverystlouis.org
SUMMARY:Private group
DESCRIPTION:
URL:https://recoverystlouis.org/event/private-group/2027-12-08/
END:VEVENT
BEGIN:VEVENT
DTSTART;TZID=America/Denver:20271209T100000
DTEND;TZID=America/Denver:20271209T111500
DTSTAMP:20260422T163931
CREATED:20250513T054602Z
LAST-MODIFIED:20250530T165143Z
UID:10002212-1828346400-1828350900@recoverystlouis.org
SUMMARY:AA Group 179 Open-mixed In person/online
DESCRIPTION:Zoom 598 988 635\nPW 241200
URL:https://recoverystlouis.org/event/aa-group-179-open-mixed-in-person-online/2027-12-09/
END:VEVENT
BEGIN:VEVENT
DTSTART;TZID=America/Denver:20271209T190000
DTEND;TZID=America/Denver:20271209T200000
DTSTAMP:20260422T163931
CREATED:20250513T055622Z
LAST-MODIFIED:20250513T055622Z
UID:10004292-1828378800-1828382400@recoverystlouis.org
SUMMARY:Recovery Dharma Independent/in person only Open-mixed
DESCRIPTION:Contact\nMichelle T\n(314) 495-8026
URL:https://recoverystlouis.org/event/recovery-dharma-independent-in-person-only-open-mixed/2027-12-09/
END:VEVENT
BEGIN:VEVENT
DTSTART;TZID=America/Denver:20271210T070500
DTEND;TZID=America/Denver:20271210T074500
DTSTAMP:20260422T163931
CREATED:20250513T055108Z
LAST-MODIFIED:20250513T055108Z
UID:10002732-1828422300-1828424700@recoverystlouis.org
SUMMARY:AA Closed/ Men only Primary Purpose Mens
DESCRIPTION:
URL:https://recoverystlouis.org/event/aa-closed-men-only-primary-purpose-mens/2027-12-10/
END:VEVENT
BEGIN:VEVENT
DTSTART;TZID=America/Denver:20271210T174500
DTEND;TZID=America/Denver:20271210T184500
DTSTAMP:20260422T163932
CREATED:20250513T055756Z
LAST-MODIFIED:20250513T055756Z
UID:10004812-1828460700-1828464300@recoverystlouis.org
SUMMARY:AA Group 413- happier Hour Women’s-Open In person/online
DESCRIPTION:Zoom 263 787 324\nPW 279425 \nContact\nLeigh H\n(314) 276-6953
URL:https://recoverystlouis.org/event/aa-group-413-happier-hour-womens-open-in-person-online/2027-12-10/
END:VEVENT
END:VCALENDAR