BEGIN:VCALENDAR
VERSION:2.0
PRODID:-//Recovery St. Louis - ECPv6.15.17.1//NONSGML v1.0//EN
CALSCALE:GREGORIAN
METHOD:PUBLISH
X-WR-CALNAME:Recovery St. Louis
X-ORIGINAL-URL:https://recoverystlouis.org
X-WR-CALDESC:Events for Recovery St. Louis
REFRESH-INTERVAL;VALUE=DURATION:PT1H
X-Robots-Tag:noindex
X-PUBLISHED-TTL:PT1H
BEGIN:VTIMEZONE
TZID:America/Denver
BEGIN:DAYLIGHT
TZOFFSETFROM:-0700
TZOFFSETTO:-0600
TZNAME:MDT
DTSTART:20270314T090000
END:DAYLIGHT
BEGIN:STANDARD
TZOFFSETFROM:-0600
TZOFFSETTO:-0700
TZNAME:MST
DTSTART:20271107T080000
END:STANDARD
BEGIN:DAYLIGHT
TZOFFSETFROM:-0700
TZOFFSETTO:-0600
TZNAME:MDT
DTSTART:20280312T090000
END:DAYLIGHT
BEGIN:STANDARD
TZOFFSETFROM:-0600
TZOFFSETTO:-0700
TZNAME:MST
DTSTART:20281105T080000
END:STANDARD
BEGIN:DAYLIGHT
TZOFFSETFROM:-0700
TZOFFSETTO:-0600
TZNAME:MDT
DTSTART:20290311T090000
END:DAYLIGHT
BEGIN:STANDARD
TZOFFSETFROM:-0600
TZOFFSETTO:-0700
TZNAME:MST
DTSTART:20291104T080000
END:STANDARD
END:VTIMEZONE
BEGIN:VEVENT
DTSTART;TZID=America/Denver:20280118T190000
DTEND;TZID=America/Denver:20280118T200000
DTSTAMP:20260422T163507
CREATED:20250513T055457Z
LAST-MODIFIED:20250513T055457Z
UID:10003778-1831834800-1831838400@recoverystlouis.org
SUMMARY:AA Burton’s Heroes Open -mixed In person/online
DESCRIPTION:
URL:https://recoverystlouis.org/event/aa-burtons-heroes-open-mixed-in-person-online/2028-01-18/
END:VEVENT
BEGIN:VEVENT
DTSTART;TZID=America/Denver:20280119T170000
DTEND;TZID=America/Denver:20280119T190000
DTSTAMP:20260422T163507
CREATED:20250513T054406Z
LAST-MODIFIED:20250513T054406Z
UID:10001698-1831914000-1831921200@recoverystlouis.org
SUMMARY:Private group
DESCRIPTION:
URL:https://recoverystlouis.org/event/private-group/2028-01-19/
END:VEVENT
BEGIN:VEVENT
DTSTART;TZID=America/Denver:20280120T100000
DTEND;TZID=America/Denver:20280120T111500
DTSTAMP:20260422T163507
CREATED:20250513T054602Z
LAST-MODIFIED:20250530T165143Z
UID:10002218-1831975200-1831979700@recoverystlouis.org
SUMMARY:AA Group 179 Open-mixed In person/online
DESCRIPTION:Zoom 598 988 635\nPW 241200
URL:https://recoverystlouis.org/event/aa-group-179-open-mixed-in-person-online/2028-01-20/
END:VEVENT
BEGIN:VEVENT
DTSTART;TZID=America/Denver:20280120T190000
DTEND;TZID=America/Denver:20280120T200000
DTSTAMP:20260422T163507
CREATED:20250513T055622Z
LAST-MODIFIED:20250513T055622Z
UID:10004298-1832007600-1832011200@recoverystlouis.org
SUMMARY:Recovery Dharma Independent/in person only Open-mixed
DESCRIPTION:Contact\nMichelle T\n(314) 495-8026
URL:https://recoverystlouis.org/event/recovery-dharma-independent-in-person-only-open-mixed/2028-01-20/
END:VEVENT
BEGIN:VEVENT
DTSTART;TZID=America/Denver:20280121T070500
DTEND;TZID=America/Denver:20280121T074500
DTSTAMP:20260422T163507
CREATED:20250513T055108Z
LAST-MODIFIED:20250513T055108Z
UID:10002738-1832051100-1832053500@recoverystlouis.org
SUMMARY:AA Closed/ Men only Primary Purpose Mens
DESCRIPTION:
URL:https://recoverystlouis.org/event/aa-closed-men-only-primary-purpose-mens/2028-01-21/
END:VEVENT
BEGIN:VEVENT
DTSTART;TZID=America/Denver:20280121T174500
DTEND;TZID=America/Denver:20280121T184500
DTSTAMP:20260422T163507
CREATED:20250513T055756Z
LAST-MODIFIED:20250513T055756Z
UID:10004818-1832089500-1832093100@recoverystlouis.org
SUMMARY:AA Group 413- happier Hour Women’s-Open In person/online
DESCRIPTION:Zoom 263 787 324\nPW 279425 \nContact\nLeigh H\n(314) 276-6953
URL:https://recoverystlouis.org/event/aa-group-413-happier-hour-womens-open-in-person-online/2028-01-21/
END:VEVENT
BEGIN:VEVENT
DTSTART;TZID=America/Denver:20280123T090000
DTEND;TZID=America/Denver:20280123T101500
DTSTAMP:20260422T163507
CREATED:20250428T191821Z
LAST-MODIFIED:20250512T070411Z
UID:10000141-1832230800-1832235300@recoverystlouis.org
SUMMARY:AA Group 255-FIVE AND DIME Closed-Mixed In person/online
DESCRIPTION:Zoom:845 2025 1856\nPW: 173321 \nContact\nMichael Mac\n314-249-8149
URL:https://recoverystlouis.org/event/lorem-ipsum/2028-01-23/
END:VEVENT
BEGIN:VEVENT
DTSTART;TZID=America/Denver:20280123T110000
DTEND;TZID=America/Denver:20280123T120000
DTSTAMP:20260422T163507
CREATED:20250513T055407Z
LAST-MODIFIED:20250513T055407Z
UID:10003258-1832238000-1832241600@recoverystlouis.org
SUMMARY:OA Sunday Recovery Open-mixed In person/online
DESCRIPTION:Zoom:264 689 861\nPW:066708 \nContact\nCathy K (314) 538-1331
URL:https://recoverystlouis.org/event/oa-sunday-recovery-open-mixed-in-person-online/2028-01-23/
END:VEVENT
BEGIN:VEVENT
DTSTART;TZID=America/Denver:20280124T180000
DTEND;TZID=America/Denver:20280124T190000
DTSTAMP:20260422T163507
CREATED:20250512T071133Z
LAST-MODIFIED:20250512T071133Z
UID:10000661-1832349600-1832353200@recoverystlouis.org
SUMMARY:I AM RESPONSIBLE Women’s-closed In person-online
DESCRIPTION:Zoom:191 385 271\nPW: 085501 \nContact Clare P\n(314) 448-2101
URL:https://recoverystlouis.org/event/i-am-responsible-womens-closed-in-person-online/2028-01-24/
END:VEVENT
BEGIN:VEVENT
DTSTART;TZID=America/Denver:20280125T173000
DTEND;TZID=America/Denver:20280125T183000
DTSTAMP:20260422T163507
CREATED:20250513T054121Z
LAST-MODIFIED:20250513T054121Z
UID:10001179-1832434200-1832437800@recoverystlouis.org
SUMMARY:AA Secular Sobriety Open-mixed In person/online
DESCRIPTION:Zoom: 343 811 2984\nPW 770507
URL:https://recoverystlouis.org/event/aa-secular-sobriety-open-mixed-in-person-online/2028-01-25/
END:VEVENT
BEGIN:VEVENT
DTSTART;TZID=America/Denver:20280125T190000
DTEND;TZID=America/Denver:20280125T200000
DTSTAMP:20260422T163507
CREATED:20250513T055457Z
LAST-MODIFIED:20250513T055457Z
UID:10003779-1832439600-1832443200@recoverystlouis.org
SUMMARY:AA Burton’s Heroes Open -mixed In person/online
DESCRIPTION:
URL:https://recoverystlouis.org/event/aa-burtons-heroes-open-mixed-in-person-online/2028-01-25/
END:VEVENT
BEGIN:VEVENT
DTSTART;TZID=America/Denver:20280126T170000
DTEND;TZID=America/Denver:20280126T190000
DTSTAMP:20260422T163507
CREATED:20250513T054406Z
LAST-MODIFIED:20250513T054406Z
UID:10001699-1832518800-1832526000@recoverystlouis.org
SUMMARY:Private group
DESCRIPTION:
URL:https://recoverystlouis.org/event/private-group/2028-01-26/
END:VEVENT
BEGIN:VEVENT
DTSTART;TZID=America/Denver:20280127T100000
DTEND;TZID=America/Denver:20280127T111500
DTSTAMP:20260422T163507
CREATED:20250513T054602Z
LAST-MODIFIED:20250530T165143Z
UID:10002219-1832580000-1832584500@recoverystlouis.org
SUMMARY:AA Group 179 Open-mixed In person/online
DESCRIPTION:Zoom 598 988 635\nPW 241200
URL:https://recoverystlouis.org/event/aa-group-179-open-mixed-in-person-online/2028-01-27/
END:VEVENT
BEGIN:VEVENT
DTSTART;TZID=America/Denver:20280127T190000
DTEND;TZID=America/Denver:20280127T200000
DTSTAMP:20260422T163507
CREATED:20250513T055622Z
LAST-MODIFIED:20250513T055622Z
UID:10004299-1832612400-1832616000@recoverystlouis.org
SUMMARY:Recovery Dharma Independent/in person only Open-mixed
DESCRIPTION:Contact\nMichelle T\n(314) 495-8026
URL:https://recoverystlouis.org/event/recovery-dharma-independent-in-person-only-open-mixed/2028-01-27/
END:VEVENT
BEGIN:VEVENT
DTSTART;TZID=America/Denver:20280128T070500
DTEND;TZID=America/Denver:20280128T074500
DTSTAMP:20260422T163507
CREATED:20250513T055108Z
LAST-MODIFIED:20250513T055108Z
UID:10002739-1832655900-1832658300@recoverystlouis.org
SUMMARY:AA Closed/ Men only Primary Purpose Mens
DESCRIPTION:
URL:https://recoverystlouis.org/event/aa-closed-men-only-primary-purpose-mens/2028-01-28/
END:VEVENT
BEGIN:VEVENT
DTSTART;TZID=America/Denver:20280128T174500
DTEND;TZID=America/Denver:20280128T184500
DTSTAMP:20260422T163507
CREATED:20250513T055756Z
LAST-MODIFIED:20250513T055756Z
UID:10004819-1832694300-1832697900@recoverystlouis.org
SUMMARY:AA Group 413- happier Hour Women’s-Open In person/online
DESCRIPTION:Zoom 263 787 324\nPW 279425 \nContact\nLeigh H\n(314) 276-6953
URL:https://recoverystlouis.org/event/aa-group-413-happier-hour-womens-open-in-person-online/2028-01-28/
END:VEVENT
BEGIN:VEVENT
DTSTART;TZID=America/Denver:20280130T090000
DTEND;TZID=America/Denver:20280130T101500
DTSTAMP:20260422T163507
CREATED:20250428T191821Z
LAST-MODIFIED:20250512T070411Z
UID:10000142-1832835600-1832840100@recoverystlouis.org
SUMMARY:AA Group 255-FIVE AND DIME Closed-Mixed In person/online
DESCRIPTION:Zoom:845 2025 1856\nPW: 173321 \nContact\nMichael Mac\n314-249-8149
URL:https://recoverystlouis.org/event/lorem-ipsum/2028-01-30/
END:VEVENT
BEGIN:VEVENT
DTSTART;TZID=America/Denver:20280130T110000
DTEND;TZID=America/Denver:20280130T120000
DTSTAMP:20260422T163507
CREATED:20250513T055407Z
LAST-MODIFIED:20250513T055407Z
UID:10003259-1832842800-1832846400@recoverystlouis.org
SUMMARY:OA Sunday Recovery Open-mixed In person/online
DESCRIPTION:Zoom:264 689 861\nPW:066708 \nContact\nCathy K (314) 538-1331
URL:https://recoverystlouis.org/event/oa-sunday-recovery-open-mixed-in-person-online/2028-01-30/
END:VEVENT
BEGIN:VEVENT
DTSTART;TZID=America/Denver:20280131T180000
DTEND;TZID=America/Denver:20280131T190000
DTSTAMP:20260422T163507
CREATED:20250512T071133Z
LAST-MODIFIED:20250512T071133Z
UID:10000662-1832954400-1832958000@recoverystlouis.org
SUMMARY:I AM RESPONSIBLE Women’s-closed In person-online
DESCRIPTION:Zoom:191 385 271\nPW: 085501 \nContact Clare P\n(314) 448-2101
URL:https://recoverystlouis.org/event/i-am-responsible-womens-closed-in-person-online/2028-01-31/
END:VEVENT
BEGIN:VEVENT
DTSTART;TZID=America/Denver:20280201T173000
DTEND;TZID=America/Denver:20280201T183000
DTSTAMP:20260422T163507
CREATED:20250513T054121Z
LAST-MODIFIED:20250513T054121Z
UID:10001180-1833039000-1833042600@recoverystlouis.org
SUMMARY:AA Secular Sobriety Open-mixed In person/online
DESCRIPTION:Zoom: 343 811 2984\nPW 770507
URL:https://recoverystlouis.org/event/aa-secular-sobriety-open-mixed-in-person-online/2028-02-01/
END:VEVENT
BEGIN:VEVENT
DTSTART;TZID=America/Denver:20280201T190000
DTEND;TZID=America/Denver:20280201T200000
DTSTAMP:20260422T163507
CREATED:20250513T055457Z
LAST-MODIFIED:20250513T055457Z
UID:10003780-1833044400-1833048000@recoverystlouis.org
SUMMARY:AA Burton’s Heroes Open -mixed In person/online
DESCRIPTION:
URL:https://recoverystlouis.org/event/aa-burtons-heroes-open-mixed-in-person-online/2028-02-01/
END:VEVENT
BEGIN:VEVENT
DTSTART;TZID=America/Denver:20280202T170000
DTEND;TZID=America/Denver:20280202T190000
DTSTAMP:20260422T163507
CREATED:20250513T054406Z
LAST-MODIFIED:20250513T054406Z
UID:10001700-1833123600-1833130800@recoverystlouis.org
SUMMARY:Private group
DESCRIPTION:
URL:https://recoverystlouis.org/event/private-group/2028-02-02/
END:VEVENT
BEGIN:VEVENT
DTSTART;TZID=America/Denver:20280203T100000
DTEND;TZID=America/Denver:20280203T111500
DTSTAMP:20260422T163507
CREATED:20250513T054602Z
LAST-MODIFIED:20250530T165143Z
UID:10002220-1833184800-1833189300@recoverystlouis.org
SUMMARY:AA Group 179 Open-mixed In person/online
DESCRIPTION:Zoom 598 988 635\nPW 241200
URL:https://recoverystlouis.org/event/aa-group-179-open-mixed-in-person-online/2028-02-03/
END:VEVENT
BEGIN:VEVENT
DTSTART;TZID=America/Denver:20280203T190000
DTEND;TZID=America/Denver:20280203T200000
DTSTAMP:20260422T163507
CREATED:20250513T055622Z
LAST-MODIFIED:20250513T055622Z
UID:10004300-1833217200-1833220800@recoverystlouis.org
SUMMARY:Recovery Dharma Independent/in person only Open-mixed
DESCRIPTION:Contact\nMichelle T\n(314) 495-8026
URL:https://recoverystlouis.org/event/recovery-dharma-independent-in-person-only-open-mixed/2028-02-03/
END:VEVENT
BEGIN:VEVENT
DTSTART;TZID=America/Denver:20280204T070500
DTEND;TZID=America/Denver:20280204T074500
DTSTAMP:20260422T163507
CREATED:20250513T055108Z
LAST-MODIFIED:20250513T055108Z
UID:10002740-1833260700-1833263100@recoverystlouis.org
SUMMARY:AA Closed/ Men only Primary Purpose Mens
DESCRIPTION:
URL:https://recoverystlouis.org/event/aa-closed-men-only-primary-purpose-mens/2028-02-04/
END:VEVENT
BEGIN:VEVENT
DTSTART;TZID=America/Denver:20280204T174500
DTEND;TZID=America/Denver:20280204T184500
DTSTAMP:20260422T163507
CREATED:20250513T055756Z
LAST-MODIFIED:20250513T055756Z
UID:10004820-1833299100-1833302700@recoverystlouis.org
SUMMARY:AA Group 413- happier Hour Women’s-Open In person/online
DESCRIPTION:Zoom 263 787 324\nPW 279425 \nContact\nLeigh H\n(314) 276-6953
URL:https://recoverystlouis.org/event/aa-group-413-happier-hour-womens-open-in-person-online/2028-02-04/
END:VEVENT
BEGIN:VEVENT
DTSTART;TZID=America/Denver:20280206T090000
DTEND;TZID=America/Denver:20280206T101500
DTSTAMP:20260422T163507
CREATED:20250428T191821Z
LAST-MODIFIED:20250512T070411Z
UID:10000143-1833440400-1833444900@recoverystlouis.org
SUMMARY:AA Group 255-FIVE AND DIME Closed-Mixed In person/online
DESCRIPTION:Zoom:845 2025 1856\nPW: 173321 \nContact\nMichael Mac\n314-249-8149
URL:https://recoverystlouis.org/event/lorem-ipsum/2028-02-06/
END:VEVENT
BEGIN:VEVENT
DTSTART;TZID=America/Denver:20280206T110000
DTEND;TZID=America/Denver:20280206T120000
DTSTAMP:20260422T163507
CREATED:20250513T055407Z
LAST-MODIFIED:20250513T055407Z
UID:10003260-1833447600-1833451200@recoverystlouis.org
SUMMARY:OA Sunday Recovery Open-mixed In person/online
DESCRIPTION:Zoom:264 689 861\nPW:066708 \nContact\nCathy K (314) 538-1331
URL:https://recoverystlouis.org/event/oa-sunday-recovery-open-mixed-in-person-online/2028-02-06/
END:VEVENT
BEGIN:VEVENT
DTSTART;TZID=America/Denver:20280207T180000
DTEND;TZID=America/Denver:20280207T190000
DTSTAMP:20260422T163507
CREATED:20250512T071133Z
LAST-MODIFIED:20250512T071133Z
UID:10000663-1833559200-1833562800@recoverystlouis.org
SUMMARY:I AM RESPONSIBLE Women’s-closed In person-online
DESCRIPTION:Zoom:191 385 271\nPW: 085501 \nContact Clare P\n(314) 448-2101
URL:https://recoverystlouis.org/event/i-am-responsible-womens-closed-in-person-online/2028-02-07/
END:VEVENT
BEGIN:VEVENT
DTSTART;TZID=America/Denver:20280208T173000
DTEND;TZID=America/Denver:20280208T183000
DTSTAMP:20260422T163507
CREATED:20250513T054121Z
LAST-MODIFIED:20250513T054121Z
UID:10001181-1833643800-1833647400@recoverystlouis.org
SUMMARY:AA Secular Sobriety Open-mixed In person/online
DESCRIPTION:Zoom: 343 811 2984\nPW 770507
URL:https://recoverystlouis.org/event/aa-secular-sobriety-open-mixed-in-person-online/2028-02-08/
END:VEVENT
END:VCALENDAR