BEGIN:VCALENDAR
VERSION:2.0
PRODID:-//Recovery St. Louis - ECPv6.15.17.1//NONSGML v1.0//EN
CALSCALE:GREGORIAN
METHOD:PUBLISH
X-WR-CALNAME:Recovery St. Louis
X-ORIGINAL-URL:https://recoverystlouis.org
X-WR-CALDESC:Events for Recovery St. Louis
REFRESH-INTERVAL;VALUE=DURATION:PT1H
X-Robots-Tag:noindex
X-PUBLISHED-TTL:PT1H
BEGIN:VTIMEZONE
TZID:America/Denver
BEGIN:DAYLIGHT
TZOFFSETFROM:-0700
TZOFFSETTO:-0600
TZNAME:MDT
DTSTART:20250309T090000
END:DAYLIGHT
BEGIN:STANDARD
TZOFFSETFROM:-0600
TZOFFSETTO:-0700
TZNAME:MST
DTSTART:20251102T080000
END:STANDARD
BEGIN:DAYLIGHT
TZOFFSETFROM:-0700
TZOFFSETTO:-0600
TZNAME:MDT
DTSTART:20260308T090000
END:DAYLIGHT
BEGIN:STANDARD
TZOFFSETFROM:-0600
TZOFFSETTO:-0700
TZNAME:MST
DTSTART:20261101T080000
END:STANDARD
BEGIN:DAYLIGHT
TZOFFSETFROM:-0700
TZOFFSETTO:-0600
TZNAME:MDT
DTSTART:20270314T090000
END:DAYLIGHT
BEGIN:STANDARD
TZOFFSETFROM:-0600
TZOFFSETTO:-0700
TZNAME:MST
DTSTART:20271107T080000
END:STANDARD
END:VTIMEZONE
BEGIN:VEVENT
DTSTART;TZID=America/Denver:20260122T190000
DTEND;TZID=America/Denver:20260122T200000
DTSTAMP:20260420T223427
CREATED:20250513T055622Z
LAST-MODIFIED:20250513T055622Z
UID:10004194-1769108400-1769112000@recoverystlouis.org
SUMMARY:Recovery Dharma Independent/in person only Open-mixed
DESCRIPTION:Contact\nMichelle T\n(314) 495-8026
URL:https://recoverystlouis.org/event/recovery-dharma-independent-in-person-only-open-mixed/2026-01-22/
END:VEVENT
BEGIN:VEVENT
DTSTART;TZID=America/Denver:20260122T100000
DTEND;TZID=America/Denver:20260122T111500
DTSTAMP:20260420T223427
CREATED:20250513T054602Z
LAST-MODIFIED:20250530T165143Z
UID:10002114-1769076000-1769080500@recoverystlouis.org
SUMMARY:AA Group 179 Open-mixed In person/online
DESCRIPTION:Zoom 598 988 635\nPW 241200
URL:https://recoverystlouis.org/event/aa-group-179-open-mixed-in-person-online/2026-01-22/
END:VEVENT
BEGIN:VEVENT
DTSTART;TZID=America/Denver:20260121T170000
DTEND;TZID=America/Denver:20260121T190000
DTSTAMP:20260420T223427
CREATED:20250513T054406Z
LAST-MODIFIED:20250513T054406Z
UID:10001594-1769014800-1769022000@recoverystlouis.org
SUMMARY:Private group
DESCRIPTION:
URL:https://recoverystlouis.org/event/private-group/2026-01-21/
END:VEVENT
BEGIN:VEVENT
DTSTART;TZID=America/Denver:20260120T190000
DTEND;TZID=America/Denver:20260120T200000
DTSTAMP:20260420T223427
CREATED:20250513T055457Z
LAST-MODIFIED:20250513T055457Z
UID:10003674-1768935600-1768939200@recoverystlouis.org
SUMMARY:AA Burton’s Heroes Open -mixed In person/online
DESCRIPTION:
URL:https://recoverystlouis.org/event/aa-burtons-heroes-open-mixed-in-person-online/2026-01-20/
END:VEVENT
BEGIN:VEVENT
DTSTART;TZID=America/Denver:20260120T173000
DTEND;TZID=America/Denver:20260120T183000
DTSTAMP:20260420T223427
CREATED:20250513T054121Z
LAST-MODIFIED:20250513T054121Z
UID:10001074-1768930200-1768933800@recoverystlouis.org
SUMMARY:AA Secular Sobriety Open-mixed In person/online
DESCRIPTION:Zoom: 343 811 2984\nPW 770507
URL:https://recoverystlouis.org/event/aa-secular-sobriety-open-mixed-in-person-online/2026-01-20/
END:VEVENT
BEGIN:VEVENT
DTSTART;TZID=America/Denver:20260119T180000
DTEND;TZID=America/Denver:20260119T190000
DTSTAMP:20260420T223427
CREATED:20250512T071133Z
LAST-MODIFIED:20250512T071133Z
UID:10000556-1768845600-1768849200@recoverystlouis.org
SUMMARY:I AM RESPONSIBLE Women’s-closed In person-online
DESCRIPTION:Zoom:191 385 271\nPW: 085501 \nContact Clare P\n(314) 448-2101
URL:https://recoverystlouis.org/event/i-am-responsible-womens-closed-in-person-online/2026-01-19/
END:VEVENT
BEGIN:VEVENT
DTSTART;TZID=America/Denver:20260118T110000
DTEND;TZID=America/Denver:20260118T120000
DTSTAMP:20260420T223427
CREATED:20250513T055407Z
LAST-MODIFIED:20250513T055407Z
UID:10003153-1768734000-1768737600@recoverystlouis.org
SUMMARY:OA Sunday Recovery Open-mixed In person/online
DESCRIPTION:Zoom:264 689 861\nPW:066708 \nContact\nCathy K (314) 538-1331
URL:https://recoverystlouis.org/event/oa-sunday-recovery-open-mixed-in-person-online/2026-01-18/
END:VEVENT
BEGIN:VEVENT
DTSTART;TZID=America/Denver:20260118T090000
DTEND;TZID=America/Denver:20260118T101500
DTSTAMP:20260420T223427
CREATED:20250428T191821Z
LAST-MODIFIED:20250512T070411Z
UID:10000036-1768726800-1768731300@recoverystlouis.org
SUMMARY:AA Group 255-FIVE AND DIME Closed-Mixed In person/online
DESCRIPTION:Zoom:845 2025 1856\nPW: 173321 \nContact\nMichael Mac\n314-249-8149
URL:https://recoverystlouis.org/event/lorem-ipsum/2026-01-18/
END:VEVENT
BEGIN:VEVENT
DTSTART;TZID=America/Denver:20260116T174500
DTEND;TZID=America/Denver:20260116T184500
DTSTAMP:20260420T223427
CREATED:20250513T055756Z
LAST-MODIFIED:20250513T055756Z
UID:10004713-1768585500-1768589100@recoverystlouis.org
SUMMARY:AA Group 413- happier Hour Women’s-Open In person/online
DESCRIPTION:Zoom 263 787 324\nPW 279425 \nContact\nLeigh H\n(314) 276-6953
URL:https://recoverystlouis.org/event/aa-group-413-happier-hour-womens-open-in-person-online/2026-01-16/
END:VEVENT
BEGIN:VEVENT
DTSTART;TZID=America/Denver:20260116T070500
DTEND;TZID=America/Denver:20260116T074500
DTSTAMP:20260420T223427
CREATED:20250513T055108Z
LAST-MODIFIED:20250513T055108Z
UID:10002633-1768547100-1768549500@recoverystlouis.org
SUMMARY:AA Closed/ Men only Primary Purpose Mens
DESCRIPTION:
URL:https://recoverystlouis.org/event/aa-closed-men-only-primary-purpose-mens/2026-01-16/
END:VEVENT
BEGIN:VEVENT
DTSTART;TZID=America/Denver:20260115T190000
DTEND;TZID=America/Denver:20260115T200000
DTSTAMP:20260420T223427
CREATED:20250513T055622Z
LAST-MODIFIED:20250513T055622Z
UID:10004193-1768503600-1768507200@recoverystlouis.org
SUMMARY:Recovery Dharma Independent/in person only Open-mixed
DESCRIPTION:Contact\nMichelle T\n(314) 495-8026
URL:https://recoverystlouis.org/event/recovery-dharma-independent-in-person-only-open-mixed/2026-01-15/
END:VEVENT
BEGIN:VEVENT
DTSTART;TZID=America/Denver:20260115T100000
DTEND;TZID=America/Denver:20260115T111500
DTSTAMP:20260420T223427
CREATED:20250513T054602Z
LAST-MODIFIED:20250530T165143Z
UID:10002113-1768471200-1768475700@recoverystlouis.org
SUMMARY:AA Group 179 Open-mixed In person/online
DESCRIPTION:Zoom 598 988 635\nPW 241200
URL:https://recoverystlouis.org/event/aa-group-179-open-mixed-in-person-online/2026-01-15/
END:VEVENT
BEGIN:VEVENT
DTSTART;TZID=America/Denver:20260114T170000
DTEND;TZID=America/Denver:20260114T190000
DTSTAMP:20260420T223427
CREATED:20250513T054406Z
LAST-MODIFIED:20250513T054406Z
UID:10001593-1768410000-1768417200@recoverystlouis.org
SUMMARY:Private group
DESCRIPTION:
URL:https://recoverystlouis.org/event/private-group/2026-01-14/
END:VEVENT
BEGIN:VEVENT
DTSTART;TZID=America/Denver:20260113T190000
DTEND;TZID=America/Denver:20260113T200000
DTSTAMP:20260420T223427
CREATED:20250513T055457Z
LAST-MODIFIED:20250513T055457Z
UID:10003673-1768330800-1768334400@recoverystlouis.org
SUMMARY:AA Burton’s Heroes Open -mixed In person/online
DESCRIPTION:
URL:https://recoverystlouis.org/event/aa-burtons-heroes-open-mixed-in-person-online/2026-01-13/
END:VEVENT
BEGIN:VEVENT
DTSTART;TZID=America/Denver:20260113T173000
DTEND;TZID=America/Denver:20260113T183000
DTSTAMP:20260420T223427
CREATED:20250513T054121Z
LAST-MODIFIED:20250513T054121Z
UID:10001073-1768325400-1768329000@recoverystlouis.org
SUMMARY:AA Secular Sobriety Open-mixed In person/online
DESCRIPTION:Zoom: 343 811 2984\nPW 770507
URL:https://recoverystlouis.org/event/aa-secular-sobriety-open-mixed-in-person-online/2026-01-13/
END:VEVENT
BEGIN:VEVENT
DTSTART;TZID=America/Denver:20260112T180000
DTEND;TZID=America/Denver:20260112T190000
DTSTAMP:20260420T223427
CREATED:20250512T071133Z
LAST-MODIFIED:20250512T071133Z
UID:10000555-1768240800-1768244400@recoverystlouis.org
SUMMARY:I AM RESPONSIBLE Women’s-closed In person-online
DESCRIPTION:Zoom:191 385 271\nPW: 085501 \nContact Clare P\n(314) 448-2101
URL:https://recoverystlouis.org/event/i-am-responsible-womens-closed-in-person-online/2026-01-12/
END:VEVENT
BEGIN:VEVENT
DTSTART;TZID=America/Denver:20260111T110000
DTEND;TZID=America/Denver:20260111T120000
DTSTAMP:20260420T223427
CREATED:20250513T055407Z
LAST-MODIFIED:20250513T055407Z
UID:10003152-1768129200-1768132800@recoverystlouis.org
SUMMARY:OA Sunday Recovery Open-mixed In person/online
DESCRIPTION:Zoom:264 689 861\nPW:066708 \nContact\nCathy K (314) 538-1331
URL:https://recoverystlouis.org/event/oa-sunday-recovery-open-mixed-in-person-online/2026-01-11/
END:VEVENT
BEGIN:VEVENT
DTSTART;TZID=America/Denver:20260111T090000
DTEND;TZID=America/Denver:20260111T101500
DTSTAMP:20260420T223427
CREATED:20250428T191821Z
LAST-MODIFIED:20250512T070411Z
UID:10000035-1768122000-1768126500@recoverystlouis.org
SUMMARY:AA Group 255-FIVE AND DIME Closed-Mixed In person/online
DESCRIPTION:Zoom:845 2025 1856\nPW: 173321 \nContact\nMichael Mac\n314-249-8149
URL:https://recoverystlouis.org/event/lorem-ipsum/2026-01-11/
END:VEVENT
BEGIN:VEVENT
DTSTART;TZID=America/Denver:20260109T174500
DTEND;TZID=America/Denver:20260109T184500
DTSTAMP:20260420T223427
CREATED:20250513T055756Z
LAST-MODIFIED:20250513T055756Z
UID:10004712-1767980700-1767984300@recoverystlouis.org
SUMMARY:AA Group 413- happier Hour Women’s-Open In person/online
DESCRIPTION:Zoom 263 787 324\nPW 279425 \nContact\nLeigh H\n(314) 276-6953
URL:https://recoverystlouis.org/event/aa-group-413-happier-hour-womens-open-in-person-online/2026-01-09/
END:VEVENT
BEGIN:VEVENT
DTSTART;TZID=America/Denver:20260109T070500
DTEND;TZID=America/Denver:20260109T074500
DTSTAMP:20260420T223427
CREATED:20250513T055108Z
LAST-MODIFIED:20250513T055108Z
UID:10002632-1767942300-1767944700@recoverystlouis.org
SUMMARY:AA Closed/ Men only Primary Purpose Mens
DESCRIPTION:
URL:https://recoverystlouis.org/event/aa-closed-men-only-primary-purpose-mens/2026-01-09/
END:VEVENT
BEGIN:VEVENT
DTSTART;TZID=America/Denver:20260108T190000
DTEND;TZID=America/Denver:20260108T200000
DTSTAMP:20260420T223427
CREATED:20250513T055622Z
LAST-MODIFIED:20250513T055622Z
UID:10004192-1767898800-1767902400@recoverystlouis.org
SUMMARY:Recovery Dharma Independent/in person only Open-mixed
DESCRIPTION:Contact\nMichelle T\n(314) 495-8026
URL:https://recoverystlouis.org/event/recovery-dharma-independent-in-person-only-open-mixed/2026-01-08/
END:VEVENT
BEGIN:VEVENT
DTSTART;TZID=America/Denver:20260108T100000
DTEND;TZID=America/Denver:20260108T111500
DTSTAMP:20260420T223427
CREATED:20250513T054602Z
LAST-MODIFIED:20250530T165143Z
UID:10002112-1767866400-1767870900@recoverystlouis.org
SUMMARY:AA Group 179 Open-mixed In person/online
DESCRIPTION:Zoom 598 988 635\nPW 241200
URL:https://recoverystlouis.org/event/aa-group-179-open-mixed-in-person-online/2026-01-08/
END:VEVENT
BEGIN:VEVENT
DTSTART;TZID=America/Denver:20260107T170000
DTEND;TZID=America/Denver:20260107T190000
DTSTAMP:20260420T223427
CREATED:20250513T054406Z
LAST-MODIFIED:20250513T054406Z
UID:10001592-1767805200-1767812400@recoverystlouis.org
SUMMARY:Private group
DESCRIPTION:
URL:https://recoverystlouis.org/event/private-group/2026-01-07/
END:VEVENT
BEGIN:VEVENT
DTSTART;TZID=America/Denver:20260106T190000
DTEND;TZID=America/Denver:20260106T200000
DTSTAMP:20260420T223427
CREATED:20250513T055457Z
LAST-MODIFIED:20250513T055457Z
UID:10003672-1767726000-1767729600@recoverystlouis.org
SUMMARY:AA Burton’s Heroes Open -mixed In person/online
DESCRIPTION:
URL:https://recoverystlouis.org/event/aa-burtons-heroes-open-mixed-in-person-online/2026-01-06/
END:VEVENT
BEGIN:VEVENT
DTSTART;TZID=America/Denver:20260106T173000
DTEND;TZID=America/Denver:20260106T183000
DTSTAMP:20260420T223427
CREATED:20250513T054121Z
LAST-MODIFIED:20250513T054121Z
UID:10001072-1767720600-1767724200@recoverystlouis.org
SUMMARY:AA Secular Sobriety Open-mixed In person/online
DESCRIPTION:Zoom: 343 811 2984\nPW 770507
URL:https://recoverystlouis.org/event/aa-secular-sobriety-open-mixed-in-person-online/2026-01-06/
END:VEVENT
BEGIN:VEVENT
DTSTART;TZID=America/Denver:20260105T180000
DTEND;TZID=America/Denver:20260105T190000
DTSTAMP:20260420T223427
CREATED:20250512T071133Z
LAST-MODIFIED:20250512T071133Z
UID:10000554-1767636000-1767639600@recoverystlouis.org
SUMMARY:I AM RESPONSIBLE Women’s-closed In person-online
DESCRIPTION:Zoom:191 385 271\nPW: 085501 \nContact Clare P\n(314) 448-2101
URL:https://recoverystlouis.org/event/i-am-responsible-womens-closed-in-person-online/2026-01-05/
END:VEVENT
BEGIN:VEVENT
DTSTART;TZID=America/Denver:20260104T110000
DTEND;TZID=America/Denver:20260104T120000
DTSTAMP:20260420T223427
CREATED:20250513T055407Z
LAST-MODIFIED:20250513T055407Z
UID:10003151-1767524400-1767528000@recoverystlouis.org
SUMMARY:OA Sunday Recovery Open-mixed In person/online
DESCRIPTION:Zoom:264 689 861\nPW:066708 \nContact\nCathy K (314) 538-1331
URL:https://recoverystlouis.org/event/oa-sunday-recovery-open-mixed-in-person-online/2026-01-04/
END:VEVENT
BEGIN:VEVENT
DTSTART;TZID=America/Denver:20260104T090000
DTEND;TZID=America/Denver:20260104T101500
DTSTAMP:20260420T223427
CREATED:20250428T191821Z
LAST-MODIFIED:20250512T070411Z
UID:10000034-1767517200-1767521700@recoverystlouis.org
SUMMARY:AA Group 255-FIVE AND DIME Closed-Mixed In person/online
DESCRIPTION:Zoom:845 2025 1856\nPW: 173321 \nContact\nMichael Mac\n314-249-8149
URL:https://recoverystlouis.org/event/lorem-ipsum/2026-01-04/
END:VEVENT
BEGIN:VEVENT
DTSTART;TZID=America/Denver:20260102T174500
DTEND;TZID=America/Denver:20260102T184500
DTSTAMP:20260420T223427
CREATED:20250513T055756Z
LAST-MODIFIED:20250513T055756Z
UID:10004711-1767375900-1767379500@recoverystlouis.org
SUMMARY:AA Group 413- happier Hour Women’s-Open In person/online
DESCRIPTION:Zoom 263 787 324\nPW 279425 \nContact\nLeigh H\n(314) 276-6953
URL:https://recoverystlouis.org/event/aa-group-413-happier-hour-womens-open-in-person-online/2026-01-02/
END:VEVENT
BEGIN:VEVENT
DTSTART;TZID=America/Denver:20260102T070500
DTEND;TZID=America/Denver:20260102T074500
DTSTAMP:20260420T223427
CREATED:20250513T055108Z
LAST-MODIFIED:20250513T055108Z
UID:10002631-1767337500-1767339900@recoverystlouis.org
SUMMARY:AA Closed/ Men only Primary Purpose Mens
DESCRIPTION:
URL:https://recoverystlouis.org/event/aa-closed-men-only-primary-purpose-mens/2026-01-02/
END:VEVENT
END:VCALENDAR