BEGIN:VCALENDAR
VERSION:2.0
PRODID:-//Recovery St. Louis - ECPv6.15.17.1//NONSGML v1.0//EN
CALSCALE:GREGORIAN
METHOD:PUBLISH
X-WR-CALNAME:Recovery St. Louis
X-ORIGINAL-URL:https://recoverystlouis.org
X-WR-CALDESC:Events for Recovery St. Louis
REFRESH-INTERVAL;VALUE=DURATION:PT1H
X-Robots-Tag:noindex
X-PUBLISHED-TTL:PT1H
BEGIN:VTIMEZONE
TZID:America/Denver
BEGIN:DAYLIGHT
TZOFFSETFROM:-0700
TZOFFSETTO:-0600
TZNAME:MDT
DTSTART:20240310T090000
END:DAYLIGHT
BEGIN:STANDARD
TZOFFSETFROM:-0600
TZOFFSETTO:-0700
TZNAME:MST
DTSTART:20241103T080000
END:STANDARD
BEGIN:DAYLIGHT
TZOFFSETFROM:-0700
TZOFFSETTO:-0600
TZNAME:MDT
DTSTART:20250309T090000
END:DAYLIGHT
BEGIN:STANDARD
TZOFFSETFROM:-0600
TZOFFSETTO:-0700
TZNAME:MST
DTSTART:20251102T080000
END:STANDARD
BEGIN:DAYLIGHT
TZOFFSETFROM:-0700
TZOFFSETTO:-0600
TZNAME:MDT
DTSTART:20260308T090000
END:DAYLIGHT
BEGIN:STANDARD
TZOFFSETFROM:-0600
TZOFFSETTO:-0700
TZNAME:MST
DTSTART:20261101T080000
END:STANDARD
END:VTIMEZONE
BEGIN:VEVENT
DTSTART;TZID=America/Denver:20251116T110000
DTEND;TZID=America/Denver:20251116T120000
DTSTAMP:20260421T022446
CREATED:20250513T055407Z
LAST-MODIFIED:20250513T055407Z
UID:10003144-1763290800-1763294400@recoverystlouis.org
SUMMARY:OA Sunday Recovery Open-mixed In person/online
DESCRIPTION:Zoom:264 689 861\nPW:066708 \nContact\nCathy K (314) 538-1331
URL:https://recoverystlouis.org/event/oa-sunday-recovery-open-mixed-in-person-online/2025-11-16/
END:VEVENT
BEGIN:VEVENT
DTSTART;TZID=America/Denver:20251116T090000
DTEND;TZID=America/Denver:20251116T101500
DTSTAMP:20260421T022446
CREATED:20250428T191821Z
LAST-MODIFIED:20250512T070411Z
UID:10000027-1763283600-1763288100@recoverystlouis.org
SUMMARY:AA Group 255-FIVE AND DIME Closed-Mixed In person/online
DESCRIPTION:Zoom:845 2025 1856\nPW: 173321 \nContact\nMichael Mac\n314-249-8149
URL:https://recoverystlouis.org/event/lorem-ipsum/2025-11-16/
END:VEVENT
BEGIN:VEVENT
DTSTART;TZID=America/Denver:20251114T174500
DTEND;TZID=America/Denver:20251114T184500
DTSTAMP:20260421T022446
CREATED:20250513T055756Z
LAST-MODIFIED:20250513T055756Z
UID:10004704-1763142300-1763145900@recoverystlouis.org
SUMMARY:AA Group 413- happier Hour Women’s-Open In person/online
DESCRIPTION:Zoom 263 787 324\nPW 279425 \nContact\nLeigh H\n(314) 276-6953
URL:https://recoverystlouis.org/event/aa-group-413-happier-hour-womens-open-in-person-online/2025-11-14/
END:VEVENT
BEGIN:VEVENT
DTSTART;TZID=America/Denver:20251114T070500
DTEND;TZID=America/Denver:20251114T074500
DTSTAMP:20260421T022446
CREATED:20250513T055108Z
LAST-MODIFIED:20250513T055108Z
UID:10002624-1763103900-1763106300@recoverystlouis.org
SUMMARY:AA Closed/ Men only Primary Purpose Mens
DESCRIPTION:
URL:https://recoverystlouis.org/event/aa-closed-men-only-primary-purpose-mens/2025-11-14/
END:VEVENT
BEGIN:VEVENT
DTSTART;TZID=America/Denver:20251113T190000
DTEND;TZID=America/Denver:20251113T200000
DTSTAMP:20260421T022446
CREATED:20250513T055622Z
LAST-MODIFIED:20250513T055622Z
UID:10004184-1763060400-1763064000@recoverystlouis.org
SUMMARY:Recovery Dharma Independent/in person only Open-mixed
DESCRIPTION:Contact\nMichelle T\n(314) 495-8026
URL:https://recoverystlouis.org/event/recovery-dharma-independent-in-person-only-open-mixed/2025-11-13/
END:VEVENT
BEGIN:VEVENT
DTSTART;TZID=America/Denver:20251113T100000
DTEND;TZID=America/Denver:20251113T111500
DTSTAMP:20260421T022446
CREATED:20250513T054602Z
LAST-MODIFIED:20250530T165143Z
UID:10002104-1763028000-1763032500@recoverystlouis.org
SUMMARY:AA Group 179 Open-mixed In person/online
DESCRIPTION:Zoom 598 988 635\nPW 241200
URL:https://recoverystlouis.org/event/aa-group-179-open-mixed-in-person-online/2025-11-13/
END:VEVENT
BEGIN:VEVENT
DTSTART;TZID=America/Denver:20251112T170000
DTEND;TZID=America/Denver:20251112T190000
DTSTAMP:20260421T022446
CREATED:20250513T054406Z
LAST-MODIFIED:20250513T054406Z
UID:10001584-1762966800-1762974000@recoverystlouis.org
SUMMARY:Private group
DESCRIPTION:
URL:https://recoverystlouis.org/event/private-group/2025-11-12/
END:VEVENT
BEGIN:VEVENT
DTSTART;TZID=America/Denver:20251111T190000
DTEND;TZID=America/Denver:20251111T200000
DTSTAMP:20260421T022446
CREATED:20250513T055457Z
LAST-MODIFIED:20250513T055457Z
UID:10003664-1762887600-1762891200@recoverystlouis.org
SUMMARY:AA Burton’s Heroes Open -mixed In person/online
DESCRIPTION:
URL:https://recoverystlouis.org/event/aa-burtons-heroes-open-mixed-in-person-online/2025-11-11/
END:VEVENT
BEGIN:VEVENT
DTSTART;TZID=America/Denver:20251111T173000
DTEND;TZID=America/Denver:20251111T183000
DTSTAMP:20260421T022446
CREATED:20250513T054121Z
LAST-MODIFIED:20250513T054121Z
UID:10001064-1762882200-1762885800@recoverystlouis.org
SUMMARY:AA Secular Sobriety Open-mixed In person/online
DESCRIPTION:Zoom: 343 811 2984\nPW 770507
URL:https://recoverystlouis.org/event/aa-secular-sobriety-open-mixed-in-person-online/2025-11-11/
END:VEVENT
BEGIN:VEVENT
DTSTART;TZID=America/Denver:20251110T180000
DTEND;TZID=America/Denver:20251110T190000
DTSTAMP:20260421T022446
CREATED:20250512T071133Z
LAST-MODIFIED:20250512T071133Z
UID:10000546-1762797600-1762801200@recoverystlouis.org
SUMMARY:I AM RESPONSIBLE Women’s-closed In person-online
DESCRIPTION:Zoom:191 385 271\nPW: 085501 \nContact Clare P\n(314) 448-2101
URL:https://recoverystlouis.org/event/i-am-responsible-womens-closed-in-person-online/2025-11-10/
END:VEVENT
BEGIN:VEVENT
DTSTART;TZID=America/Denver:20251109T110000
DTEND;TZID=America/Denver:20251109T120000
DTSTAMP:20260421T022446
CREATED:20250513T055407Z
LAST-MODIFIED:20250513T055407Z
UID:10003143-1762686000-1762689600@recoverystlouis.org
SUMMARY:OA Sunday Recovery Open-mixed In person/online
DESCRIPTION:Zoom:264 689 861\nPW:066708 \nContact\nCathy K (314) 538-1331
URL:https://recoverystlouis.org/event/oa-sunday-recovery-open-mixed-in-person-online/2025-11-09/
END:VEVENT
BEGIN:VEVENT
DTSTART;TZID=America/Denver:20251109T090000
DTEND;TZID=America/Denver:20251109T101500
DTSTAMP:20260421T022446
CREATED:20250428T191821Z
LAST-MODIFIED:20250512T070411Z
UID:10000026-1762678800-1762683300@recoverystlouis.org
SUMMARY:AA Group 255-FIVE AND DIME Closed-Mixed In person/online
DESCRIPTION:Zoom:845 2025 1856\nPW: 173321 \nContact\nMichael Mac\n314-249-8149
URL:https://recoverystlouis.org/event/lorem-ipsum/2025-11-09/
END:VEVENT
BEGIN:VEVENT
DTSTART;TZID=America/Denver:20251107T174500
DTEND;TZID=America/Denver:20251107T184500
DTSTAMP:20260421T022446
CREATED:20250513T055756Z
LAST-MODIFIED:20250513T055756Z
UID:10004703-1762537500-1762541100@recoverystlouis.org
SUMMARY:AA Group 413- happier Hour Women’s-Open In person/online
DESCRIPTION:Zoom 263 787 324\nPW 279425 \nContact\nLeigh H\n(314) 276-6953
URL:https://recoverystlouis.org/event/aa-group-413-happier-hour-womens-open-in-person-online/2025-11-07/
END:VEVENT
BEGIN:VEVENT
DTSTART;TZID=America/Denver:20251107T070500
DTEND;TZID=America/Denver:20251107T074500
DTSTAMP:20260421T022446
CREATED:20250513T055108Z
LAST-MODIFIED:20250513T055108Z
UID:10002623-1762499100-1762501500@recoverystlouis.org
SUMMARY:AA Closed/ Men only Primary Purpose Mens
DESCRIPTION:
URL:https://recoverystlouis.org/event/aa-closed-men-only-primary-purpose-mens/2025-11-07/
END:VEVENT
BEGIN:VEVENT
DTSTART;TZID=America/Denver:20251106T190000
DTEND;TZID=America/Denver:20251106T200000
DTSTAMP:20260421T022446
CREATED:20250513T055622Z
LAST-MODIFIED:20250513T055622Z
UID:10004183-1762455600-1762459200@recoverystlouis.org
SUMMARY:Recovery Dharma Independent/in person only Open-mixed
DESCRIPTION:Contact\nMichelle T\n(314) 495-8026
URL:https://recoverystlouis.org/event/recovery-dharma-independent-in-person-only-open-mixed/2025-11-06/
END:VEVENT
BEGIN:VEVENT
DTSTART;TZID=America/Denver:20251106T100000
DTEND;TZID=America/Denver:20251106T111500
DTSTAMP:20260421T022446
CREATED:20250513T054602Z
LAST-MODIFIED:20250530T165143Z
UID:10002103-1762423200-1762427700@recoverystlouis.org
SUMMARY:AA Group 179 Open-mixed In person/online
DESCRIPTION:Zoom 598 988 635\nPW 241200
URL:https://recoverystlouis.org/event/aa-group-179-open-mixed-in-person-online/2025-11-06/
END:VEVENT
BEGIN:VEVENT
DTSTART;TZID=America/Denver:20251105T170000
DTEND;TZID=America/Denver:20251105T190000
DTSTAMP:20260421T022446
CREATED:20250513T054406Z
LAST-MODIFIED:20250513T054406Z
UID:10001583-1762362000-1762369200@recoverystlouis.org
SUMMARY:Private group
DESCRIPTION:
URL:https://recoverystlouis.org/event/private-group/2025-11-05/
END:VEVENT
BEGIN:VEVENT
DTSTART;TZID=America/Denver:20251104T190000
DTEND;TZID=America/Denver:20251104T200000
DTSTAMP:20260421T022446
CREATED:20250513T055457Z
LAST-MODIFIED:20250513T055457Z
UID:10003663-1762282800-1762286400@recoverystlouis.org
SUMMARY:AA Burton’s Heroes Open -mixed In person/online
DESCRIPTION:
URL:https://recoverystlouis.org/event/aa-burtons-heroes-open-mixed-in-person-online/2025-11-04/
END:VEVENT
BEGIN:VEVENT
DTSTART;TZID=America/Denver:20251104T173000
DTEND;TZID=America/Denver:20251104T183000
DTSTAMP:20260421T022446
CREATED:20250513T054121Z
LAST-MODIFIED:20250513T054121Z
UID:10001063-1762277400-1762281000@recoverystlouis.org
SUMMARY:AA Secular Sobriety Open-mixed In person/online
DESCRIPTION:Zoom: 343 811 2984\nPW 770507
URL:https://recoverystlouis.org/event/aa-secular-sobriety-open-mixed-in-person-online/2025-11-04/
END:VEVENT
BEGIN:VEVENT
DTSTART;TZID=America/Denver:20251103T180000
DTEND;TZID=America/Denver:20251103T190000
DTSTAMP:20260421T022446
CREATED:20250512T071133Z
LAST-MODIFIED:20250512T071133Z
UID:10000545-1762192800-1762196400@recoverystlouis.org
SUMMARY:I AM RESPONSIBLE Women’s-closed In person-online
DESCRIPTION:Zoom:191 385 271\nPW: 085501 \nContact Clare P\n(314) 448-2101
URL:https://recoverystlouis.org/event/i-am-responsible-womens-closed-in-person-online/2025-11-03/
END:VEVENT
BEGIN:VEVENT
DTSTART;TZID=America/Denver:20251102T110000
DTEND;TZID=America/Denver:20251102T120000
DTSTAMP:20260421T022446
CREATED:20250513T055407Z
LAST-MODIFIED:20250513T055407Z
UID:10003142-1762081200-1762084800@recoverystlouis.org
SUMMARY:OA Sunday Recovery Open-mixed In person/online
DESCRIPTION:Zoom:264 689 861\nPW:066708 \nContact\nCathy K (314) 538-1331
URL:https://recoverystlouis.org/event/oa-sunday-recovery-open-mixed-in-person-online/2025-11-02/
END:VEVENT
BEGIN:VEVENT
DTSTART;TZID=America/Denver:20251102T090000
DTEND;TZID=America/Denver:20251102T101500
DTSTAMP:20260421T022446
CREATED:20250428T191821Z
LAST-MODIFIED:20250512T070411Z
UID:10000025-1762074000-1762078500@recoverystlouis.org
SUMMARY:AA Group 255-FIVE AND DIME Closed-Mixed In person/online
DESCRIPTION:Zoom:845 2025 1856\nPW: 173321 \nContact\nMichael Mac\n314-249-8149
URL:https://recoverystlouis.org/event/lorem-ipsum/2025-11-02/
END:VEVENT
BEGIN:VEVENT
DTSTART;TZID=America/Denver:20251031T174500
DTEND;TZID=America/Denver:20251031T184500
DTSTAMP:20260421T022446
CREATED:20250513T055756Z
LAST-MODIFIED:20250513T055756Z
UID:10004702-1761932700-1761936300@recoverystlouis.org
SUMMARY:AA Group 413- happier Hour Women’s-Open In person/online
DESCRIPTION:Zoom 263 787 324\nPW 279425 \nContact\nLeigh H\n(314) 276-6953
URL:https://recoverystlouis.org/event/aa-group-413-happier-hour-womens-open-in-person-online/2025-10-31/
END:VEVENT
BEGIN:VEVENT
DTSTART;TZID=America/Denver:20251031T070500
DTEND;TZID=America/Denver:20251031T074500
DTSTAMP:20260421T022446
CREATED:20250513T055108Z
LAST-MODIFIED:20250513T055108Z
UID:10002622-1761894300-1761896700@recoverystlouis.org
SUMMARY:AA Closed/ Men only Primary Purpose Mens
DESCRIPTION:
URL:https://recoverystlouis.org/event/aa-closed-men-only-primary-purpose-mens/2025-10-31/
END:VEVENT
BEGIN:VEVENT
DTSTART;TZID=America/Denver:20251030T190000
DTEND;TZID=America/Denver:20251030T200000
DTSTAMP:20260421T022446
CREATED:20250513T055622Z
LAST-MODIFIED:20250513T055622Z
UID:10004182-1761850800-1761854400@recoverystlouis.org
SUMMARY:Recovery Dharma Independent/in person only Open-mixed
DESCRIPTION:Contact\nMichelle T\n(314) 495-8026
URL:https://recoverystlouis.org/event/recovery-dharma-independent-in-person-only-open-mixed/2025-10-30/
END:VEVENT
BEGIN:VEVENT
DTSTART;TZID=America/Denver:20251030T100000
DTEND;TZID=America/Denver:20251030T111500
DTSTAMP:20260421T022446
CREATED:20250513T054602Z
LAST-MODIFIED:20250530T165143Z
UID:10002102-1761818400-1761822900@recoverystlouis.org
SUMMARY:AA Group 179 Open-mixed In person/online
DESCRIPTION:Zoom 598 988 635\nPW 241200
URL:https://recoverystlouis.org/event/aa-group-179-open-mixed-in-person-online/2025-10-30/
END:VEVENT
BEGIN:VEVENT
DTSTART;TZID=America/Denver:20251029T170000
DTEND;TZID=America/Denver:20251029T190000
DTSTAMP:20260421T022446
CREATED:20250513T054406Z
LAST-MODIFIED:20250513T054406Z
UID:10001582-1761757200-1761764400@recoverystlouis.org
SUMMARY:Private group
DESCRIPTION:
URL:https://recoverystlouis.org/event/private-group/2025-10-29/
END:VEVENT
BEGIN:VEVENT
DTSTART;TZID=America/Denver:20251028T190000
DTEND;TZID=America/Denver:20251028T200000
DTSTAMP:20260421T022446
CREATED:20250513T055457Z
LAST-MODIFIED:20250513T055457Z
UID:10003662-1761678000-1761681600@recoverystlouis.org
SUMMARY:AA Burton’s Heroes Open -mixed In person/online
DESCRIPTION:
URL:https://recoverystlouis.org/event/aa-burtons-heroes-open-mixed-in-person-online/2025-10-28/
END:VEVENT
BEGIN:VEVENT
DTSTART;TZID=America/Denver:20251028T173000
DTEND;TZID=America/Denver:20251028T183000
DTSTAMP:20260421T022446
CREATED:20250513T054121Z
LAST-MODIFIED:20250513T054121Z
UID:10001062-1761672600-1761676200@recoverystlouis.org
SUMMARY:AA Secular Sobriety Open-mixed In person/online
DESCRIPTION:Zoom: 343 811 2984\nPW 770507
URL:https://recoverystlouis.org/event/aa-secular-sobriety-open-mixed-in-person-online/2025-10-28/
END:VEVENT
BEGIN:VEVENT
DTSTART;TZID=America/Denver:20251027T180000
DTEND;TZID=America/Denver:20251027T190000
DTSTAMP:20260421T022446
CREATED:20250512T071133Z
LAST-MODIFIED:20250512T071133Z
UID:10000544-1761588000-1761591600@recoverystlouis.org
SUMMARY:I AM RESPONSIBLE Women’s-closed In person-online
DESCRIPTION:Zoom:191 385 271\nPW: 085501 \nContact Clare P\n(314) 448-2101
URL:https://recoverystlouis.org/event/i-am-responsible-womens-closed-in-person-online/2025-10-27/
END:VEVENT
END:VCALENDAR