BEGIN:VCALENDAR
VERSION:2.0
PRODID:-//Recovery St. Louis - ECPv6.15.17.1//NONSGML v1.0//EN
CALSCALE:GREGORIAN
METHOD:PUBLISH
X-WR-CALNAME:Recovery St. Louis
X-ORIGINAL-URL:https://recoverystlouis.org
X-WR-CALDESC:Events for Recovery St. Louis
REFRESH-INTERVAL;VALUE=DURATION:PT1H
X-Robots-Tag:noindex
X-PUBLISHED-TTL:PT1H
BEGIN:VTIMEZONE
TZID:America/Denver
BEGIN:DAYLIGHT
TZOFFSETFROM:-0700
TZOFFSETTO:-0600
TZNAME:MDT
DTSTART:20240310T090000
END:DAYLIGHT
BEGIN:STANDARD
TZOFFSETFROM:-0600
TZOFFSETTO:-0700
TZNAME:MST
DTSTART:20241103T080000
END:STANDARD
BEGIN:DAYLIGHT
TZOFFSETFROM:-0700
TZOFFSETTO:-0600
TZNAME:MDT
DTSTART:20250309T090000
END:DAYLIGHT
BEGIN:STANDARD
TZOFFSETFROM:-0600
TZOFFSETTO:-0700
TZNAME:MST
DTSTART:20251102T080000
END:STANDARD
BEGIN:DAYLIGHT
TZOFFSETFROM:-0700
TZOFFSETTO:-0600
TZNAME:MDT
DTSTART:20260308T090000
END:DAYLIGHT
BEGIN:STANDARD
TZOFFSETFROM:-0600
TZOFFSETTO:-0700
TZNAME:MST
DTSTART:20261101T080000
END:STANDARD
END:VTIMEZONE
BEGIN:VEVENT
DTSTART;TZID=America/Denver:20250609T180000
DTEND;TZID=America/Denver:20250609T190000
DTSTAMP:20260423T041643
CREATED:20250512T071133Z
LAST-MODIFIED:20250512T071133Z
UID:10000524-1749492000-1749495600@recoverystlouis.org
SUMMARY:I AM RESPONSIBLE Women’s-closed In person-online
DESCRIPTION:Zoom:191 385 271\nPW: 085501 \nContact Clare P\n(314) 448-2101
URL:https://recoverystlouis.org/event/i-am-responsible-womens-closed-in-person-online/2025-06-09/
END:VEVENT
BEGIN:VEVENT
DTSTART;TZID=America/Denver:20250608T110000
DTEND;TZID=America/Denver:20250608T120000
DTSTAMP:20260423T041643
CREATED:20250513T055407Z
LAST-MODIFIED:20250513T055407Z
UID:10003121-1749380400-1749384000@recoverystlouis.org
SUMMARY:OA Sunday Recovery Open-mixed In person/online
DESCRIPTION:Zoom:264 689 861\nPW:066708 \nContact\nCathy K (314) 538-1331
URL:https://recoverystlouis.org/event/oa-sunday-recovery-open-mixed-in-person-online/2025-06-08/
END:VEVENT
BEGIN:VEVENT
DTSTART;TZID=America/Denver:20250608T090000
DTEND;TZID=America/Denver:20250608T101500
DTSTAMP:20260423T041643
CREATED:20250428T191821Z
LAST-MODIFIED:20250512T070411Z
UID:10000004-1749373200-1749377700@recoverystlouis.org
SUMMARY:AA Group 255-FIVE AND DIME Closed-Mixed In person/online
DESCRIPTION:Zoom:845 2025 1856\nPW: 173321 \nContact\nMichael Mac\n314-249-8149
URL:https://recoverystlouis.org/event/lorem-ipsum/2025-06-08/
END:VEVENT
BEGIN:VEVENT
DTSTART;TZID=America/Denver:20250606T174500
DTEND;TZID=America/Denver:20250606T184500
DTSTAMP:20260423T041643
CREATED:20250513T055756Z
LAST-MODIFIED:20250513T055756Z
UID:10004681-1749231900-1749235500@recoverystlouis.org
SUMMARY:AA Group 413- happier Hour Women’s-Open In person/online
DESCRIPTION:Zoom 263 787 324\nPW 279425 \nContact\nLeigh H\n(314) 276-6953
URL:https://recoverystlouis.org/event/aa-group-413-happier-hour-womens-open-in-person-online/2025-06-06/
END:VEVENT
BEGIN:VEVENT
DTSTART;TZID=America/Denver:20250606T070500
DTEND;TZID=America/Denver:20250606T074500
DTSTAMP:20260423T041643
CREATED:20250513T055108Z
LAST-MODIFIED:20250513T055108Z
UID:10002601-1749193500-1749195900@recoverystlouis.org
SUMMARY:AA Closed/ Men only Primary Purpose Mens
DESCRIPTION:
URL:https://recoverystlouis.org/event/aa-closed-men-only-primary-purpose-mens/2025-06-06/
END:VEVENT
BEGIN:VEVENT
DTSTART;TZID=America/Denver:20250605T190000
DTEND;TZID=America/Denver:20250605T200000
DTSTAMP:20260423T041643
CREATED:20250513T055622Z
LAST-MODIFIED:20250513T055622Z
UID:10004161-1749150000-1749153600@recoverystlouis.org
SUMMARY:Recovery Dharma Independent/in person only Open-mixed
DESCRIPTION:Contact\nMichelle T\n(314) 495-8026
URL:https://recoverystlouis.org/event/recovery-dharma-independent-in-person-only-open-mixed/2025-06-05/
END:VEVENT
BEGIN:VEVENT
DTSTART;TZID=America/Denver:20250605T100000
DTEND;TZID=America/Denver:20250605T111500
DTSTAMP:20260423T041643
CREATED:20250513T054602Z
LAST-MODIFIED:20250530T165143Z
UID:10002081-1749117600-1749122100@recoverystlouis.org
SUMMARY:AA Group 179 Open-mixed In person/online
DESCRIPTION:Zoom 598 988 635\nPW 241200
URL:https://recoverystlouis.org/event/aa-group-179-open-mixed-in-person-online/2025-06-05/
END:VEVENT
BEGIN:VEVENT
DTSTART;TZID=America/Denver:20250604T170000
DTEND;TZID=America/Denver:20250604T190000
DTSTAMP:20260423T041643
CREATED:20250513T054406Z
LAST-MODIFIED:20250513T054406Z
UID:10001561-1749056400-1749063600@recoverystlouis.org
SUMMARY:Private group
DESCRIPTION:
URL:https://recoverystlouis.org/event/private-group/2025-06-04/
END:VEVENT
BEGIN:VEVENT
DTSTART;TZID=America/Denver:20250603T190000
DTEND;TZID=America/Denver:20250603T200000
DTSTAMP:20260423T041643
CREATED:20250513T055457Z
LAST-MODIFIED:20250513T055457Z
UID:10003641-1748977200-1748980800@recoverystlouis.org
SUMMARY:AA Burton’s Heroes Open -mixed In person/online
DESCRIPTION:
URL:https://recoverystlouis.org/event/aa-burtons-heroes-open-mixed-in-person-online/2025-06-03/
END:VEVENT
BEGIN:VEVENT
DTSTART;TZID=America/Denver:20250603T173000
DTEND;TZID=America/Denver:20250603T183000
DTSTAMP:20260423T041643
CREATED:20250513T054121Z
LAST-MODIFIED:20250513T054121Z
UID:10001041-1748971800-1748975400@recoverystlouis.org
SUMMARY:AA Secular Sobriety Open-mixed In person/online
DESCRIPTION:Zoom: 343 811 2984\nPW 770507
URL:https://recoverystlouis.org/event/aa-secular-sobriety-open-mixed-in-person-online/2025-06-03/
END:VEVENT
BEGIN:VEVENT
DTSTART;TZID=America/Denver:20250602T180000
DTEND;TZID=America/Denver:20250602T190000
DTSTAMP:20260423T041644
CREATED:20250512T071133Z
LAST-MODIFIED:20250512T071133Z
UID:10000523-1748887200-1748890800@recoverystlouis.org
SUMMARY:I AM RESPONSIBLE Women’s-closed In person-online
DESCRIPTION:Zoom:191 385 271\nPW: 085501 \nContact Clare P\n(314) 448-2101
URL:https://recoverystlouis.org/event/i-am-responsible-womens-closed-in-person-online/2025-06-02/
END:VEVENT
BEGIN:VEVENT
DTSTART;TZID=America/Denver:20250601T110000
DTEND;TZID=America/Denver:20250601T120000
DTSTAMP:20260423T041644
CREATED:20250513T055407Z
LAST-MODIFIED:20250513T055407Z
UID:10003120-1748775600-1748779200@recoverystlouis.org
SUMMARY:OA Sunday Recovery Open-mixed In person/online
DESCRIPTION:Zoom:264 689 861\nPW:066708 \nContact\nCathy K (314) 538-1331
URL:https://recoverystlouis.org/event/oa-sunday-recovery-open-mixed-in-person-online/2025-06-01/
END:VEVENT
BEGIN:VEVENT
DTSTART;TZID=America/Denver:20250601T090000
DTEND;TZID=America/Denver:20250601T101500
DTSTAMP:20260423T041644
CREATED:20250428T191821Z
LAST-MODIFIED:20250512T070411Z
UID:10000003-1748768400-1748772900@recoverystlouis.org
SUMMARY:AA Group 255-FIVE AND DIME Closed-Mixed In person/online
DESCRIPTION:Zoom:845 2025 1856\nPW: 173321 \nContact\nMichael Mac\n314-249-8149
URL:https://recoverystlouis.org/event/lorem-ipsum/2025-06-01/
END:VEVENT
BEGIN:VEVENT
DTSTART;TZID=America/Denver:20250530T174500
DTEND;TZID=America/Denver:20250530T184500
DTSTAMP:20260423T041644
CREATED:20250513T055756Z
LAST-MODIFIED:20250513T055756Z
UID:10004680-1748627100-1748630700@recoverystlouis.org
SUMMARY:AA Group 413- happier Hour Women’s-Open In person/online
DESCRIPTION:Zoom 263 787 324\nPW 279425 \nContact\nLeigh H\n(314) 276-6953
URL:https://recoverystlouis.org/event/aa-group-413-happier-hour-womens-open-in-person-online/2025-05-30/
END:VEVENT
BEGIN:VEVENT
DTSTART;TZID=America/Denver:20250530T070500
DTEND;TZID=America/Denver:20250530T074500
DTSTAMP:20260423T041644
CREATED:20250513T055108Z
LAST-MODIFIED:20250513T055108Z
UID:10002600-1748588700-1748591100@recoverystlouis.org
SUMMARY:AA Closed/ Men only Primary Purpose Mens
DESCRIPTION:
URL:https://recoverystlouis.org/event/aa-closed-men-only-primary-purpose-mens/2025-05-30/
END:VEVENT
BEGIN:VEVENT
DTSTART;TZID=America/Denver:20250529T190000
DTEND;TZID=America/Denver:20250529T200000
DTSTAMP:20260423T041644
CREATED:20250513T055622Z
LAST-MODIFIED:20250513T055622Z
UID:10004160-1748545200-1748548800@recoverystlouis.org
SUMMARY:Recovery Dharma Independent/in person only Open-mixed
DESCRIPTION:Contact\nMichelle T\n(314) 495-8026
URL:https://recoverystlouis.org/event/recovery-dharma-independent-in-person-only-open-mixed/2025-05-29/
END:VEVENT
BEGIN:VEVENT
DTSTART;TZID=America/Denver:20250529T100000
DTEND;TZID=America/Denver:20250529T111500
DTSTAMP:20260423T041644
CREATED:20250513T054602Z
LAST-MODIFIED:20250530T165143Z
UID:10002080-1748512800-1748517300@recoverystlouis.org
SUMMARY:AA Group 179 Open-mixed In person/online
DESCRIPTION:Zoom 598 988 635\nPW 241200
URL:https://recoverystlouis.org/event/aa-group-179-open-mixed-in-person-online/2025-05-29/
END:VEVENT
BEGIN:VEVENT
DTSTART;TZID=America/Denver:20250528T170000
DTEND;TZID=America/Denver:20250528T190000
DTSTAMP:20260423T041644
CREATED:20250513T054406Z
LAST-MODIFIED:20250513T054406Z
UID:10001560-1748451600-1748458800@recoverystlouis.org
SUMMARY:Private group
DESCRIPTION:
URL:https://recoverystlouis.org/event/private-group/2025-05-28/
END:VEVENT
BEGIN:VEVENT
DTSTART;TZID=America/Denver:20250527T190000
DTEND;TZID=America/Denver:20250527T200000
DTSTAMP:20260423T041644
CREATED:20250513T055457Z
LAST-MODIFIED:20250513T055457Z
UID:10003640-1748372400-1748376000@recoverystlouis.org
SUMMARY:AA Burton’s Heroes Open -mixed In person/online
DESCRIPTION:
URL:https://recoverystlouis.org/event/aa-burtons-heroes-open-mixed-in-person-online/2025-05-27/
END:VEVENT
BEGIN:VEVENT
DTSTART;TZID=America/Denver:20250527T173000
DTEND;TZID=America/Denver:20250527T183000
DTSTAMP:20260423T041644
CREATED:20250513T054121Z
LAST-MODIFIED:20250513T054121Z
UID:10001040-1748367000-1748370600@recoverystlouis.org
SUMMARY:AA Secular Sobriety Open-mixed In person/online
DESCRIPTION:Zoom: 343 811 2984\nPW 770507
URL:https://recoverystlouis.org/event/aa-secular-sobriety-open-mixed-in-person-online/2025-05-27/
END:VEVENT
BEGIN:VEVENT
DTSTART;TZID=America/Denver:20250526T180000
DTEND;TZID=America/Denver:20250526T190000
DTSTAMP:20260423T041644
CREATED:20250512T071133Z
LAST-MODIFIED:20250512T071133Z
UID:10000522-1748282400-1748286000@recoverystlouis.org
SUMMARY:I AM RESPONSIBLE Women’s-closed In person-online
DESCRIPTION:Zoom:191 385 271\nPW: 085501 \nContact Clare P\n(314) 448-2101
URL:https://recoverystlouis.org/event/i-am-responsible-womens-closed-in-person-online/2025-05-26/
END:VEVENT
BEGIN:VEVENT
DTSTART;TZID=America/Denver:20250525T110000
DTEND;TZID=America/Denver:20250525T120000
DTSTAMP:20260423T041644
CREATED:20250513T055407Z
LAST-MODIFIED:20250513T055407Z
UID:10003119-1748170800-1748174400@recoverystlouis.org
SUMMARY:OA Sunday Recovery Open-mixed In person/online
DESCRIPTION:Zoom:264 689 861\nPW:066708 \nContact\nCathy K (314) 538-1331
URL:https://recoverystlouis.org/event/oa-sunday-recovery-open-mixed-in-person-online/2025-05-25/
END:VEVENT
BEGIN:VEVENT
DTSTART;TZID=America/Denver:20250525T090000
DTEND;TZID=America/Denver:20250525T101500
DTSTAMP:20260423T041644
CREATED:20250428T191821Z
LAST-MODIFIED:20250512T070411Z
UID:10000002-1748163600-1748168100@recoverystlouis.org
SUMMARY:AA Group 255-FIVE AND DIME Closed-Mixed In person/online
DESCRIPTION:Zoom:845 2025 1856\nPW: 173321 \nContact\nMichael Mac\n314-249-8149
URL:https://recoverystlouis.org/event/lorem-ipsum/2025-05-25/
END:VEVENT
BEGIN:VEVENT
DTSTART;TZID=America/Denver:20250523T174500
DTEND;TZID=America/Denver:20250523T184500
DTSTAMP:20260423T041644
CREATED:20250513T055756Z
LAST-MODIFIED:20250513T055756Z
UID:10004679-1748022300-1748025900@recoverystlouis.org
SUMMARY:AA Group 413- happier Hour Women’s-Open In person/online
DESCRIPTION:Zoom 263 787 324\nPW 279425 \nContact\nLeigh H\n(314) 276-6953
URL:https://recoverystlouis.org/event/aa-group-413-happier-hour-womens-open-in-person-online/2025-05-23/
END:VEVENT
BEGIN:VEVENT
DTSTART;TZID=America/Denver:20250523T070500
DTEND;TZID=America/Denver:20250523T074500
DTSTAMP:20260423T041644
CREATED:20250513T055108Z
LAST-MODIFIED:20250513T055108Z
UID:10002599-1747983900-1747986300@recoverystlouis.org
SUMMARY:AA Closed/ Men only Primary Purpose Mens
DESCRIPTION:
URL:https://recoverystlouis.org/event/aa-closed-men-only-primary-purpose-mens/2025-05-23/
END:VEVENT
BEGIN:VEVENT
DTSTART;TZID=America/Denver:20250522T190000
DTEND;TZID=America/Denver:20250522T200000
DTSTAMP:20260423T041644
CREATED:20250513T055622Z
LAST-MODIFIED:20250513T055622Z
UID:10004159-1747940400-1747944000@recoverystlouis.org
SUMMARY:Recovery Dharma Independent/in person only Open-mixed
DESCRIPTION:Contact\nMichelle T\n(314) 495-8026
URL:https://recoverystlouis.org/event/recovery-dharma-independent-in-person-only-open-mixed/2025-05-22/
END:VEVENT
BEGIN:VEVENT
DTSTART;TZID=America/Denver:20250522T100000
DTEND;TZID=America/Denver:20250522T111500
DTSTAMP:20260423T041644
CREATED:20250513T054602Z
LAST-MODIFIED:20250530T165143Z
UID:10002079-1747908000-1747912500@recoverystlouis.org
SUMMARY:AA Group 179 Open-mixed In person/online
DESCRIPTION:Zoom 598 988 635\nPW 241200
URL:https://recoverystlouis.org/event/aa-group-179-open-mixed-in-person-online/2025-05-22/
END:VEVENT
BEGIN:VEVENT
DTSTART;TZID=America/Denver:20250521T170000
DTEND;TZID=America/Denver:20250521T190000
DTSTAMP:20260423T041644
CREATED:20250513T054406Z
LAST-MODIFIED:20250513T054406Z
UID:10001559-1747846800-1747854000@recoverystlouis.org
SUMMARY:Private group
DESCRIPTION:
URL:https://recoverystlouis.org/event/private-group/2025-05-21/
END:VEVENT
BEGIN:VEVENT
DTSTART;TZID=America/Denver:20250520T190000
DTEND;TZID=America/Denver:20250520T200000
DTSTAMP:20260423T041644
CREATED:20250513T055457Z
LAST-MODIFIED:20250513T055457Z
UID:10003639-1747767600-1747771200@recoverystlouis.org
SUMMARY:AA Burton’s Heroes Open -mixed In person/online
DESCRIPTION:
URL:https://recoverystlouis.org/event/aa-burtons-heroes-open-mixed-in-person-online/2025-05-20/
END:VEVENT
BEGIN:VEVENT
DTSTART;TZID=America/Denver:20250518T110000
DTEND;TZID=America/Denver:20250518T120000
DTSTAMP:20260423T041644
CREATED:20250513T055407Z
LAST-MODIFIED:20250513T055407Z
UID:10003118-1747566000-1747569600@recoverystlouis.org
SUMMARY:OA Sunday Recovery Open-mixed In person/online
DESCRIPTION:Zoom:264 689 861\nPW:066708 \nContact\nCathy K (314) 538-1331
URL:https://recoverystlouis.org/event/oa-sunday-recovery-open-mixed-in-person-online/2025-05-18/
END:VEVENT
END:VCALENDAR