BEGIN:VCALENDAR
VERSION:2.0
PRODID:-//Recovery St. Louis - ECPv6.15.17.1//NONSGML v1.0//EN
CALSCALE:GREGORIAN
METHOD:PUBLISH
X-ORIGINAL-URL:https://recoverystlouis.org
X-WR-CALDESC:Events for Recovery St. Louis
REFRESH-INTERVAL;VALUE=DURATION:PT1H
X-Robots-Tag:noindex
X-PUBLISHED-TTL:PT1H
BEGIN:VTIMEZONE
TZID:America/Denver
BEGIN:DAYLIGHT
TZOFFSETFROM:-0700
TZOFFSETTO:-0600
TZNAME:MDT
DTSTART:20280312T090000
END:DAYLIGHT
BEGIN:STANDARD
TZOFFSETFROM:-0600
TZOFFSETTO:-0700
TZNAME:MST
DTSTART:20281105T080000
END:STANDARD
BEGIN:DAYLIGHT
TZOFFSETFROM:-0700
TZOFFSETTO:-0600
TZNAME:MDT
DTSTART:20290311T090000
END:DAYLIGHT
BEGIN:STANDARD
TZOFFSETFROM:-0600
TZOFFSETTO:-0700
TZNAME:MST
DTSTART:20291104T080000
END:STANDARD
BEGIN:DAYLIGHT
TZOFFSETFROM:-0700
TZOFFSETTO:-0600
TZNAME:MDT
DTSTART:20300310T090000
END:DAYLIGHT
BEGIN:STANDARD
TZOFFSETFROM:-0600
TZOFFSETTO:-0700
TZNAME:MST
DTSTART:20301103T080000
END:STANDARD
END:VTIMEZONE
BEGIN:VEVENT
DTSTART;TZID=America/Denver:20290730T180000
DTEND;TZID=America/Denver:20290730T190000
DTSTAMP:20260424T193207
CREATED:20250512T071133Z
LAST-MODIFIED:20250512T071133Z
UID:10000740-1880128800-1880132400@recoverystlouis.org
SUMMARY:I AM RESPONSIBLE Women’s-closed In person-online
DESCRIPTION:Zoom:191 385 271\nPW: 085501 \nContact Clare P\n(314) 448-2101
URL:https://recoverystlouis.org/event/i-am-responsible-womens-closed-in-person-online/2029-07-30/
END:VEVENT
BEGIN:VEVENT
DTSTART;TZID=America/Denver:20290731T173000
DTEND;TZID=America/Denver:20290731T183000
DTSTAMP:20260424T193207
CREATED:20250513T054121Z
LAST-MODIFIED:20250513T054121Z
UID:10001258-1880213400-1880217000@recoverystlouis.org
SUMMARY:AA Secular Sobriety Open-mixed In person/online
DESCRIPTION:Zoom: 343 811 2984\nPW 770507
URL:https://recoverystlouis.org/event/aa-secular-sobriety-open-mixed-in-person-online/2029-07-31/
END:VEVENT
BEGIN:VEVENT
DTSTART;TZID=America/Denver:20290731T190000
DTEND;TZID=America/Denver:20290731T200000
DTSTAMP:20260424T193207
CREATED:20250513T055457Z
LAST-MODIFIED:20250513T055457Z
UID:10003858-1880218800-1880222400@recoverystlouis.org
SUMMARY:AA Burton’s Heroes Open -mixed In person/online
DESCRIPTION:
URL:https://recoverystlouis.org/event/aa-burtons-heroes-open-mixed-in-person-online/2029-07-31/
END:VEVENT
BEGIN:VEVENT
DTSTART;TZID=America/Denver:20290801T170000
DTEND;TZID=America/Denver:20290801T190000
DTSTAMP:20260424T193207
CREATED:20250513T054406Z
LAST-MODIFIED:20250513T054406Z
UID:10001778-1880298000-1880305200@recoverystlouis.org
SUMMARY:Private group
DESCRIPTION:
URL:https://recoverystlouis.org/event/private-group/2029-08-01/
END:VEVENT
BEGIN:VEVENT
DTSTART;TZID=America/Denver:20290802T100000
DTEND;TZID=America/Denver:20290802T111500
DTSTAMP:20260424T193207
CREATED:20250513T054602Z
LAST-MODIFIED:20250530T165143Z
UID:10002298-1880359200-1880363700@recoverystlouis.org
SUMMARY:AA Group 179 Open-mixed In person/online
DESCRIPTION:Zoom 598 988 635\nPW 241200
URL:https://recoverystlouis.org/event/aa-group-179-open-mixed-in-person-online/2029-08-02/
END:VEVENT
BEGIN:VEVENT
DTSTART;TZID=America/Denver:20290802T190000
DTEND;TZID=America/Denver:20290802T200000
DTSTAMP:20260424T193207
CREATED:20250513T055622Z
LAST-MODIFIED:20250513T055622Z
UID:10004378-1880391600-1880395200@recoverystlouis.org
SUMMARY:Recovery Dharma Independent/in person only Open-mixed
DESCRIPTION:Contact\nMichelle T\n(314) 495-8026
URL:https://recoverystlouis.org/event/recovery-dharma-independent-in-person-only-open-mixed/2029-08-02/
END:VEVENT
BEGIN:VEVENT
DTSTART;TZID=America/Denver:20290803T070500
DTEND;TZID=America/Denver:20290803T074500
DTSTAMP:20260424T193207
CREATED:20250513T055108Z
LAST-MODIFIED:20250513T055108Z
UID:10002818-1880435100-1880437500@recoverystlouis.org
SUMMARY:AA Closed/ Men only Primary Purpose Mens
DESCRIPTION:
URL:https://recoverystlouis.org/event/aa-closed-men-only-primary-purpose-mens/2029-08-03/
END:VEVENT
BEGIN:VEVENT
DTSTART;TZID=America/Denver:20290803T174500
DTEND;TZID=America/Denver:20290803T184500
DTSTAMP:20260424T193207
CREATED:20250513T055756Z
LAST-MODIFIED:20250513T055756Z
UID:10004898-1880473500-1880477100@recoverystlouis.org
SUMMARY:AA Group 413- happier Hour Women’s-Open In person/online
DESCRIPTION:Zoom 263 787 324\nPW 279425 \nContact\nLeigh H\n(314) 276-6953
URL:https://recoverystlouis.org/event/aa-group-413-happier-hour-womens-open-in-person-online/2029-08-03/
END:VEVENT
BEGIN:VEVENT
DTSTART;TZID=America/Denver:20290805T090000
DTEND;TZID=America/Denver:20290805T101500
DTSTAMP:20260424T193207
CREATED:20250428T191821Z
LAST-MODIFIED:20250512T070411Z
UID:10000221-1880614800-1880619300@recoverystlouis.org
SUMMARY:AA Group 255-FIVE AND DIME Closed-Mixed In person/online
DESCRIPTION:Zoom:845 2025 1856\nPW: 173321 \nContact\nMichael Mac\n314-249-8149
URL:https://recoverystlouis.org/event/lorem-ipsum/2029-08-05/
END:VEVENT
BEGIN:VEVENT
DTSTART;TZID=America/Denver:20290805T110000
DTEND;TZID=America/Denver:20290805T120000
DTSTAMP:20260424T193207
CREATED:20250513T055407Z
LAST-MODIFIED:20250513T055407Z
UID:10003338-1880622000-1880625600@recoverystlouis.org
SUMMARY:OA Sunday Recovery Open-mixed In person/online
DESCRIPTION:Zoom:264 689 861\nPW:066708 \nContact\nCathy K (314) 538-1331
URL:https://recoverystlouis.org/event/oa-sunday-recovery-open-mixed-in-person-online/2029-08-05/
END:VEVENT
BEGIN:VEVENT
DTSTART;TZID=America/Denver:20290806T180000
DTEND;TZID=America/Denver:20290806T190000
DTSTAMP:20260424T193207
CREATED:20250512T071133Z
LAST-MODIFIED:20250512T071133Z
UID:10000741-1880733600-1880737200@recoverystlouis.org
SUMMARY:I AM RESPONSIBLE Women’s-closed In person-online
DESCRIPTION:Zoom:191 385 271\nPW: 085501 \nContact Clare P\n(314) 448-2101
URL:https://recoverystlouis.org/event/i-am-responsible-womens-closed-in-person-online/2029-08-06/
END:VEVENT
BEGIN:VEVENT
DTSTART;TZID=America/Denver:20290807T173000
DTEND;TZID=America/Denver:20290807T183000
DTSTAMP:20260424T193207
CREATED:20250513T054121Z
LAST-MODIFIED:20250513T054121Z
UID:10001259-1880818200-1880821800@recoverystlouis.org
SUMMARY:AA Secular Sobriety Open-mixed In person/online
DESCRIPTION:Zoom: 343 811 2984\nPW 770507
URL:https://recoverystlouis.org/event/aa-secular-sobriety-open-mixed-in-person-online/2029-08-07/
END:VEVENT
BEGIN:VEVENT
DTSTART;TZID=America/Denver:20290807T190000
DTEND;TZID=America/Denver:20290807T200000
DTSTAMP:20260424T193207
CREATED:20250513T055457Z
LAST-MODIFIED:20250513T055457Z
UID:10003859-1880823600-1880827200@recoverystlouis.org
SUMMARY:AA Burton’s Heroes Open -mixed In person/online
DESCRIPTION:
URL:https://recoverystlouis.org/event/aa-burtons-heroes-open-mixed-in-person-online/2029-08-07/
END:VEVENT
BEGIN:VEVENT
DTSTART;TZID=America/Denver:20290808T170000
DTEND;TZID=America/Denver:20290808T190000
DTSTAMP:20260424T193207
CREATED:20250513T054406Z
LAST-MODIFIED:20250513T054406Z
UID:10001779-1880902800-1880910000@recoverystlouis.org
SUMMARY:Private group
DESCRIPTION:
URL:https://recoverystlouis.org/event/private-group/2029-08-08/
END:VEVENT
BEGIN:VEVENT
DTSTART;TZID=America/Denver:20290809T100000
DTEND;TZID=America/Denver:20290809T111500
DTSTAMP:20260424T193207
CREATED:20250513T054602Z
LAST-MODIFIED:20250530T165143Z
UID:10002299-1880964000-1880968500@recoverystlouis.org
SUMMARY:AA Group 179 Open-mixed In person/online
DESCRIPTION:Zoom 598 988 635\nPW 241200
URL:https://recoverystlouis.org/event/aa-group-179-open-mixed-in-person-online/2029-08-09/
END:VEVENT
BEGIN:VEVENT
DTSTART;TZID=America/Denver:20290809T190000
DTEND;TZID=America/Denver:20290809T200000
DTSTAMP:20260424T193207
CREATED:20250513T055622Z
LAST-MODIFIED:20250513T055622Z
UID:10004379-1880996400-1881000000@recoverystlouis.org
SUMMARY:Recovery Dharma Independent/in person only Open-mixed
DESCRIPTION:Contact\nMichelle T\n(314) 495-8026
URL:https://recoverystlouis.org/event/recovery-dharma-independent-in-person-only-open-mixed/2029-08-09/
END:VEVENT
BEGIN:VEVENT
DTSTART;TZID=America/Denver:20290810T070500
DTEND;TZID=America/Denver:20290810T074500
DTSTAMP:20260424T193207
CREATED:20250513T055108Z
LAST-MODIFIED:20250513T055108Z
UID:10002819-1881039900-1881042300@recoverystlouis.org
SUMMARY:AA Closed/ Men only Primary Purpose Mens
DESCRIPTION:
URL:https://recoverystlouis.org/event/aa-closed-men-only-primary-purpose-mens/2029-08-10/
END:VEVENT
BEGIN:VEVENT
DTSTART;TZID=America/Denver:20290810T174500
DTEND;TZID=America/Denver:20290810T184500
DTSTAMP:20260424T193207
CREATED:20250513T055756Z
LAST-MODIFIED:20250513T055756Z
UID:10004899-1881078300-1881081900@recoverystlouis.org
SUMMARY:AA Group 413- happier Hour Women’s-Open In person/online
DESCRIPTION:Zoom 263 787 324\nPW 279425 \nContact\nLeigh H\n(314) 276-6953
URL:https://recoverystlouis.org/event/aa-group-413-happier-hour-womens-open-in-person-online/2029-08-10/
END:VEVENT
BEGIN:VEVENT
DTSTART;TZID=America/Denver:20290812T090000
DTEND;TZID=America/Denver:20290812T101500
DTSTAMP:20260424T193207
CREATED:20250428T191821Z
LAST-MODIFIED:20250512T070411Z
UID:10000222-1881219600-1881224100@recoverystlouis.org
SUMMARY:AA Group 255-FIVE AND DIME Closed-Mixed In person/online
DESCRIPTION:Zoom:845 2025 1856\nPW: 173321 \nContact\nMichael Mac\n314-249-8149
URL:https://recoverystlouis.org/event/lorem-ipsum/2029-08-12/
END:VEVENT
BEGIN:VEVENT
DTSTART;TZID=America/Denver:20290812T110000
DTEND;TZID=America/Denver:20290812T120000
DTSTAMP:20260424T193207
CREATED:20250513T055407Z
LAST-MODIFIED:20250513T055407Z
UID:10003339-1881226800-1881230400@recoverystlouis.org
SUMMARY:OA Sunday Recovery Open-mixed In person/online
DESCRIPTION:Zoom:264 689 861\nPW:066708 \nContact\nCathy K (314) 538-1331
URL:https://recoverystlouis.org/event/oa-sunday-recovery-open-mixed-in-person-online/2029-08-12/
END:VEVENT
BEGIN:VEVENT
DTSTART;TZID=America/Denver:20290813T180000
DTEND;TZID=America/Denver:20290813T190000
DTSTAMP:20260424T193207
CREATED:20250512T071133Z
LAST-MODIFIED:20250512T071133Z
UID:10000742-1881338400-1881342000@recoverystlouis.org
SUMMARY:I AM RESPONSIBLE Women’s-closed In person-online
DESCRIPTION:Zoom:191 385 271\nPW: 085501 \nContact Clare P\n(314) 448-2101
URL:https://recoverystlouis.org/event/i-am-responsible-womens-closed-in-person-online/2029-08-13/
END:VEVENT
BEGIN:VEVENT
DTSTART;TZID=America/Denver:20290814T173000
DTEND;TZID=America/Denver:20290814T183000
DTSTAMP:20260424T193207
CREATED:20250513T054121Z
LAST-MODIFIED:20250513T054121Z
UID:10001260-1881423000-1881426600@recoverystlouis.org
SUMMARY:AA Secular Sobriety Open-mixed In person/online
DESCRIPTION:Zoom: 343 811 2984\nPW 770507
URL:https://recoverystlouis.org/event/aa-secular-sobriety-open-mixed-in-person-online/2029-08-14/
END:VEVENT
BEGIN:VEVENT
DTSTART;TZID=America/Denver:20290814T190000
DTEND;TZID=America/Denver:20290814T200000
DTSTAMP:20260424T193207
CREATED:20250513T055457Z
LAST-MODIFIED:20250513T055457Z
UID:10003860-1881428400-1881432000@recoverystlouis.org
SUMMARY:AA Burton’s Heroes Open -mixed In person/online
DESCRIPTION:
URL:https://recoverystlouis.org/event/aa-burtons-heroes-open-mixed-in-person-online/2029-08-14/
END:VEVENT
BEGIN:VEVENT
DTSTART;TZID=America/Denver:20290815T170000
DTEND;TZID=America/Denver:20290815T190000
DTSTAMP:20260424T193207
CREATED:20250513T054406Z
LAST-MODIFIED:20250513T054406Z
UID:10001780-1881507600-1881514800@recoverystlouis.org
SUMMARY:Private group
DESCRIPTION:
URL:https://recoverystlouis.org/event/private-group/2029-08-15/
END:VEVENT
BEGIN:VEVENT
DTSTART;TZID=America/Denver:20290816T100000
DTEND;TZID=America/Denver:20290816T111500
DTSTAMP:20260424T193207
CREATED:20250513T054602Z
LAST-MODIFIED:20250530T165143Z
UID:10002300-1881568800-1881573300@recoverystlouis.org
SUMMARY:AA Group 179 Open-mixed In person/online
DESCRIPTION:Zoom 598 988 635\nPW 241200
URL:https://recoverystlouis.org/event/aa-group-179-open-mixed-in-person-online/2029-08-16/
END:VEVENT
BEGIN:VEVENT
DTSTART;TZID=America/Denver:20290816T190000
DTEND;TZID=America/Denver:20290816T200000
DTSTAMP:20260424T193207
CREATED:20250513T055622Z
LAST-MODIFIED:20250513T055622Z
UID:10004380-1881601200-1881604800@recoverystlouis.org
SUMMARY:Recovery Dharma Independent/in person only Open-mixed
DESCRIPTION:Contact\nMichelle T\n(314) 495-8026
URL:https://recoverystlouis.org/event/recovery-dharma-independent-in-person-only-open-mixed/2029-08-16/
END:VEVENT
BEGIN:VEVENT
DTSTART;TZID=America/Denver:20290817T070500
DTEND;TZID=America/Denver:20290817T074500
DTSTAMP:20260424T193207
CREATED:20250513T055108Z
LAST-MODIFIED:20250513T055108Z
UID:10002820-1881644700-1881647100@recoverystlouis.org
SUMMARY:AA Closed/ Men only Primary Purpose Mens
DESCRIPTION:
URL:https://recoverystlouis.org/event/aa-closed-men-only-primary-purpose-mens/2029-08-17/
END:VEVENT
BEGIN:VEVENT
DTSTART;TZID=America/Denver:20290817T174500
DTEND;TZID=America/Denver:20290817T184500
DTSTAMP:20260424T193207
CREATED:20250513T055756Z
LAST-MODIFIED:20250513T055756Z
UID:10004900-1881683100-1881686700@recoverystlouis.org
SUMMARY:AA Group 413- happier Hour Women’s-Open In person/online
DESCRIPTION:Zoom 263 787 324\nPW 279425 \nContact\nLeigh H\n(314) 276-6953
URL:https://recoverystlouis.org/event/aa-group-413-happier-hour-womens-open-in-person-online/2029-08-17/
END:VEVENT
BEGIN:VEVENT
DTSTART;TZID=America/Denver:20290819T090000
DTEND;TZID=America/Denver:20290819T101500
DTSTAMP:20260424T193207
CREATED:20250428T191821Z
LAST-MODIFIED:20250512T070411Z
UID:10000223-1881824400-1881828900@recoverystlouis.org
SUMMARY:AA Group 255-FIVE AND DIME Closed-Mixed In person/online
DESCRIPTION:Zoom:845 2025 1856\nPW: 173321 \nContact\nMichael Mac\n314-249-8149
URL:https://recoverystlouis.org/event/lorem-ipsum/2029-08-19/
END:VEVENT
BEGIN:VEVENT
DTSTART;TZID=America/Denver:20290819T110000
DTEND;TZID=America/Denver:20290819T120000
DTSTAMP:20260424T193207
CREATED:20250513T055407Z
LAST-MODIFIED:20250513T055407Z
UID:10003340-1881831600-1881835200@recoverystlouis.org
SUMMARY:OA Sunday Recovery Open-mixed In person/online
DESCRIPTION:Zoom:264 689 861\nPW:066708 \nContact\nCathy K (314) 538-1331
URL:https://recoverystlouis.org/event/oa-sunday-recovery-open-mixed-in-person-online/2029-08-19/
END:VEVENT
END:VCALENDAR