BEGIN:VCALENDAR
VERSION:2.0
PRODID:-//Recovery St. Louis - ECPv6.15.17.1//NONSGML v1.0//EN
CALSCALE:GREGORIAN
METHOD:PUBLISH
X-ORIGINAL-URL:https://recoverystlouis.org
X-WR-CALDESC:Events for Recovery St. Louis
REFRESH-INTERVAL;VALUE=DURATION:PT1H
X-Robots-Tag:noindex
X-PUBLISHED-TTL:PT1H
BEGIN:VTIMEZONE
TZID:America/Denver
BEGIN:DAYLIGHT
TZOFFSETFROM:-0700
TZOFFSETTO:-0600
TZNAME:MDT
DTSTART:20270314T090000
END:DAYLIGHT
BEGIN:STANDARD
TZOFFSETFROM:-0600
TZOFFSETTO:-0700
TZNAME:MST
DTSTART:20271107T080000
END:STANDARD
BEGIN:DAYLIGHT
TZOFFSETFROM:-0700
TZOFFSETTO:-0600
TZNAME:MDT
DTSTART:20280312T090000
END:DAYLIGHT
BEGIN:STANDARD
TZOFFSETFROM:-0600
TZOFFSETTO:-0700
TZNAME:MST
DTSTART:20281105T080000
END:STANDARD
BEGIN:DAYLIGHT
TZOFFSETFROM:-0700
TZOFFSETTO:-0600
TZNAME:MDT
DTSTART:20290311T090000
END:DAYLIGHT
BEGIN:STANDARD
TZOFFSETFROM:-0600
TZOFFSETTO:-0700
TZNAME:MST
DTSTART:20291104T080000
END:STANDARD
END:VTIMEZONE
BEGIN:VEVENT
DTSTART;TZID=America/Denver:20280414T070500
DTEND;TZID=America/Denver:20280414T074500
DTSTAMP:20260423T032004
CREATED:20250513T055108Z
LAST-MODIFIED:20250513T055108Z
UID:10002750-1839308700-1839311100@recoverystlouis.org
SUMMARY:AA Closed/ Men only Primary Purpose Mens
DESCRIPTION:
URL:https://recoverystlouis.org/event/aa-closed-men-only-primary-purpose-mens/2028-04-14/
END:VEVENT
BEGIN:VEVENT
DTSTART;TZID=America/Denver:20280414T174500
DTEND;TZID=America/Denver:20280414T184500
DTSTAMP:20260423T032004
CREATED:20250513T055756Z
LAST-MODIFIED:20250513T055756Z
UID:10004830-1839347100-1839350700@recoverystlouis.org
SUMMARY:AA Group 413- happier Hour Women’s-Open In person/online
DESCRIPTION:Zoom 263 787 324\nPW 279425 \nContact\nLeigh H\n(314) 276-6953
URL:https://recoverystlouis.org/event/aa-group-413-happier-hour-womens-open-in-person-online/2028-04-14/
END:VEVENT
BEGIN:VEVENT
DTSTART;TZID=America/Denver:20280416T090000
DTEND;TZID=America/Denver:20280416T101500
DTSTAMP:20260423T032004
CREATED:20250428T191821Z
LAST-MODIFIED:20250512T070411Z
UID:10000153-1839488400-1839492900@recoverystlouis.org
SUMMARY:AA Group 255-FIVE AND DIME Closed-Mixed In person/online
DESCRIPTION:Zoom:845 2025 1856\nPW: 173321 \nContact\nMichael Mac\n314-249-8149
URL:https://recoverystlouis.org/event/lorem-ipsum/2028-04-16/
END:VEVENT
BEGIN:VEVENT
DTSTART;TZID=America/Denver:20280416T110000
DTEND;TZID=America/Denver:20280416T120000
DTSTAMP:20260423T032004
CREATED:20250513T055407Z
LAST-MODIFIED:20250513T055407Z
UID:10003270-1839495600-1839499200@recoverystlouis.org
SUMMARY:OA Sunday Recovery Open-mixed In person/online
DESCRIPTION:Zoom:264 689 861\nPW:066708 \nContact\nCathy K (314) 538-1331
URL:https://recoverystlouis.org/event/oa-sunday-recovery-open-mixed-in-person-online/2028-04-16/
END:VEVENT
BEGIN:VEVENT
DTSTART;TZID=America/Denver:20280417T180000
DTEND;TZID=America/Denver:20280417T190000
DTSTAMP:20260423T032004
CREATED:20250512T071133Z
LAST-MODIFIED:20250512T071133Z
UID:10000673-1839607200-1839610800@recoverystlouis.org
SUMMARY:I AM RESPONSIBLE Women’s-closed In person-online
DESCRIPTION:Zoom:191 385 271\nPW: 085501 \nContact Clare P\n(314) 448-2101
URL:https://recoverystlouis.org/event/i-am-responsible-womens-closed-in-person-online/2028-04-17/
END:VEVENT
BEGIN:VEVENT
DTSTART;TZID=America/Denver:20280418T173000
DTEND;TZID=America/Denver:20280418T183000
DTSTAMP:20260423T032004
CREATED:20250513T054121Z
LAST-MODIFIED:20250513T054121Z
UID:10001191-1839691800-1839695400@recoverystlouis.org
SUMMARY:AA Secular Sobriety Open-mixed In person/online
DESCRIPTION:Zoom: 343 811 2984\nPW 770507
URL:https://recoverystlouis.org/event/aa-secular-sobriety-open-mixed-in-person-online/2028-04-18/
END:VEVENT
BEGIN:VEVENT
DTSTART;TZID=America/Denver:20280418T190000
DTEND;TZID=America/Denver:20280418T200000
DTSTAMP:20260423T032004
CREATED:20250513T055457Z
LAST-MODIFIED:20250513T055457Z
UID:10003791-1839697200-1839700800@recoverystlouis.org
SUMMARY:AA Burton’s Heroes Open -mixed In person/online
DESCRIPTION:
URL:https://recoverystlouis.org/event/aa-burtons-heroes-open-mixed-in-person-online/2028-04-18/
END:VEVENT
BEGIN:VEVENT
DTSTART;TZID=America/Denver:20280419T170000
DTEND;TZID=America/Denver:20280419T190000
DTSTAMP:20260423T032004
CREATED:20250513T054406Z
LAST-MODIFIED:20250513T054406Z
UID:10001711-1839776400-1839783600@recoverystlouis.org
SUMMARY:Private group
DESCRIPTION:
URL:https://recoverystlouis.org/event/private-group/2028-04-19/
END:VEVENT
BEGIN:VEVENT
DTSTART;TZID=America/Denver:20280420T100000
DTEND;TZID=America/Denver:20280420T111500
DTSTAMP:20260423T032004
CREATED:20250513T054602Z
LAST-MODIFIED:20250530T165143Z
UID:10002231-1839837600-1839842100@recoverystlouis.org
SUMMARY:AA Group 179 Open-mixed In person/online
DESCRIPTION:Zoom 598 988 635\nPW 241200
URL:https://recoverystlouis.org/event/aa-group-179-open-mixed-in-person-online/2028-04-20/
END:VEVENT
BEGIN:VEVENT
DTSTART;TZID=America/Denver:20280420T190000
DTEND;TZID=America/Denver:20280420T200000
DTSTAMP:20260423T032004
CREATED:20250513T055622Z
LAST-MODIFIED:20250513T055622Z
UID:10004311-1839870000-1839873600@recoverystlouis.org
SUMMARY:Recovery Dharma Independent/in person only Open-mixed
DESCRIPTION:Contact\nMichelle T\n(314) 495-8026
URL:https://recoverystlouis.org/event/recovery-dharma-independent-in-person-only-open-mixed/2028-04-20/
END:VEVENT
BEGIN:VEVENT
DTSTART;TZID=America/Denver:20280421T070500
DTEND;TZID=America/Denver:20280421T074500
DTSTAMP:20260423T032004
CREATED:20250513T055108Z
LAST-MODIFIED:20250513T055108Z
UID:10002751-1839913500-1839915900@recoverystlouis.org
SUMMARY:AA Closed/ Men only Primary Purpose Mens
DESCRIPTION:
URL:https://recoverystlouis.org/event/aa-closed-men-only-primary-purpose-mens/2028-04-21/
END:VEVENT
BEGIN:VEVENT
DTSTART;TZID=America/Denver:20280421T174500
DTEND;TZID=America/Denver:20280421T184500
DTSTAMP:20260423T032004
CREATED:20250513T055756Z
LAST-MODIFIED:20250513T055756Z
UID:10004831-1839951900-1839955500@recoverystlouis.org
SUMMARY:AA Group 413- happier Hour Women’s-Open In person/online
DESCRIPTION:Zoom 263 787 324\nPW 279425 \nContact\nLeigh H\n(314) 276-6953
URL:https://recoverystlouis.org/event/aa-group-413-happier-hour-womens-open-in-person-online/2028-04-21/
END:VEVENT
BEGIN:VEVENT
DTSTART;TZID=America/Denver:20280423T090000
DTEND;TZID=America/Denver:20280423T101500
DTSTAMP:20260423T032004
CREATED:20250428T191821Z
LAST-MODIFIED:20250512T070411Z
UID:10000154-1840093200-1840097700@recoverystlouis.org
SUMMARY:AA Group 255-FIVE AND DIME Closed-Mixed In person/online
DESCRIPTION:Zoom:845 2025 1856\nPW: 173321 \nContact\nMichael Mac\n314-249-8149
URL:https://recoverystlouis.org/event/lorem-ipsum/2028-04-23/
END:VEVENT
BEGIN:VEVENT
DTSTART;TZID=America/Denver:20280423T110000
DTEND;TZID=America/Denver:20280423T120000
DTSTAMP:20260423T032004
CREATED:20250513T055407Z
LAST-MODIFIED:20250513T055407Z
UID:10003271-1840100400-1840104000@recoverystlouis.org
SUMMARY:OA Sunday Recovery Open-mixed In person/online
DESCRIPTION:Zoom:264 689 861\nPW:066708 \nContact\nCathy K (314) 538-1331
URL:https://recoverystlouis.org/event/oa-sunday-recovery-open-mixed-in-person-online/2028-04-23/
END:VEVENT
BEGIN:VEVENT
DTSTART;TZID=America/Denver:20280424T180000
DTEND;TZID=America/Denver:20280424T190000
DTSTAMP:20260423T032004
CREATED:20250512T071133Z
LAST-MODIFIED:20250512T071133Z
UID:10000674-1840212000-1840215600@recoverystlouis.org
SUMMARY:I AM RESPONSIBLE Women’s-closed In person-online
DESCRIPTION:Zoom:191 385 271\nPW: 085501 \nContact Clare P\n(314) 448-2101
URL:https://recoverystlouis.org/event/i-am-responsible-womens-closed-in-person-online/2028-04-24/
END:VEVENT
BEGIN:VEVENT
DTSTART;TZID=America/Denver:20280425T173000
DTEND;TZID=America/Denver:20280425T183000
DTSTAMP:20260423T032004
CREATED:20250513T054121Z
LAST-MODIFIED:20250513T054121Z
UID:10001192-1840296600-1840300200@recoverystlouis.org
SUMMARY:AA Secular Sobriety Open-mixed In person/online
DESCRIPTION:Zoom: 343 811 2984\nPW 770507
URL:https://recoverystlouis.org/event/aa-secular-sobriety-open-mixed-in-person-online/2028-04-25/
END:VEVENT
BEGIN:VEVENT
DTSTART;TZID=America/Denver:20280425T190000
DTEND;TZID=America/Denver:20280425T200000
DTSTAMP:20260423T032004
CREATED:20250513T055457Z
LAST-MODIFIED:20250513T055457Z
UID:10003792-1840302000-1840305600@recoverystlouis.org
SUMMARY:AA Burton’s Heroes Open -mixed In person/online
DESCRIPTION:
URL:https://recoverystlouis.org/event/aa-burtons-heroes-open-mixed-in-person-online/2028-04-25/
END:VEVENT
BEGIN:VEVENT
DTSTART;TZID=America/Denver:20280426T170000
DTEND;TZID=America/Denver:20280426T190000
DTSTAMP:20260423T032004
CREATED:20250513T054406Z
LAST-MODIFIED:20250513T054406Z
UID:10001712-1840381200-1840388400@recoverystlouis.org
SUMMARY:Private group
DESCRIPTION:
URL:https://recoverystlouis.org/event/private-group/2028-04-26/
END:VEVENT
BEGIN:VEVENT
DTSTART;TZID=America/Denver:20280427T100000
DTEND;TZID=America/Denver:20280427T111500
DTSTAMP:20260423T032004
CREATED:20250513T054602Z
LAST-MODIFIED:20250530T165143Z
UID:10002232-1840442400-1840446900@recoverystlouis.org
SUMMARY:AA Group 179 Open-mixed In person/online
DESCRIPTION:Zoom 598 988 635\nPW 241200
URL:https://recoverystlouis.org/event/aa-group-179-open-mixed-in-person-online/2028-04-27/
END:VEVENT
BEGIN:VEVENT
DTSTART;TZID=America/Denver:20280427T190000
DTEND;TZID=America/Denver:20280427T200000
DTSTAMP:20260423T032004
CREATED:20250513T055622Z
LAST-MODIFIED:20250513T055622Z
UID:10004312-1840474800-1840478400@recoverystlouis.org
SUMMARY:Recovery Dharma Independent/in person only Open-mixed
DESCRIPTION:Contact\nMichelle T\n(314) 495-8026
URL:https://recoverystlouis.org/event/recovery-dharma-independent-in-person-only-open-mixed/2028-04-27/
END:VEVENT
BEGIN:VEVENT
DTSTART;TZID=America/Denver:20280428T070500
DTEND;TZID=America/Denver:20280428T074500
DTSTAMP:20260423T032004
CREATED:20250513T055108Z
LAST-MODIFIED:20250513T055108Z
UID:10002752-1840518300-1840520700@recoverystlouis.org
SUMMARY:AA Closed/ Men only Primary Purpose Mens
DESCRIPTION:
URL:https://recoverystlouis.org/event/aa-closed-men-only-primary-purpose-mens/2028-04-28/
END:VEVENT
BEGIN:VEVENT
DTSTART;TZID=America/Denver:20280428T174500
DTEND;TZID=America/Denver:20280428T184500
DTSTAMP:20260423T032004
CREATED:20250513T055756Z
LAST-MODIFIED:20250513T055756Z
UID:10004832-1840556700-1840560300@recoverystlouis.org
SUMMARY:AA Group 413- happier Hour Women’s-Open In person/online
DESCRIPTION:Zoom 263 787 324\nPW 279425 \nContact\nLeigh H\n(314) 276-6953
URL:https://recoverystlouis.org/event/aa-group-413-happier-hour-womens-open-in-person-online/2028-04-28/
END:VEVENT
BEGIN:VEVENT
DTSTART;TZID=America/Denver:20280430T090000
DTEND;TZID=America/Denver:20280430T101500
DTSTAMP:20260423T032004
CREATED:20250428T191821Z
LAST-MODIFIED:20250512T070411Z
UID:10000155-1840698000-1840702500@recoverystlouis.org
SUMMARY:AA Group 255-FIVE AND DIME Closed-Mixed In person/online
DESCRIPTION:Zoom:845 2025 1856\nPW: 173321 \nContact\nMichael Mac\n314-249-8149
URL:https://recoverystlouis.org/event/lorem-ipsum/2028-04-30/
END:VEVENT
BEGIN:VEVENT
DTSTART;TZID=America/Denver:20280430T110000
DTEND;TZID=America/Denver:20280430T120000
DTSTAMP:20260423T032004
CREATED:20250513T055407Z
LAST-MODIFIED:20250513T055407Z
UID:10003272-1840705200-1840708800@recoverystlouis.org
SUMMARY:OA Sunday Recovery Open-mixed In person/online
DESCRIPTION:Zoom:264 689 861\nPW:066708 \nContact\nCathy K (314) 538-1331
URL:https://recoverystlouis.org/event/oa-sunday-recovery-open-mixed-in-person-online/2028-04-30/
END:VEVENT
BEGIN:VEVENT
DTSTART;TZID=America/Denver:20280501T180000
DTEND;TZID=America/Denver:20280501T190000
DTSTAMP:20260423T032004
CREATED:20250512T071133Z
LAST-MODIFIED:20250512T071133Z
UID:10000675-1840816800-1840820400@recoverystlouis.org
SUMMARY:I AM RESPONSIBLE Women’s-closed In person-online
DESCRIPTION:Zoom:191 385 271\nPW: 085501 \nContact Clare P\n(314) 448-2101
URL:https://recoverystlouis.org/event/i-am-responsible-womens-closed-in-person-online/2028-05-01/
END:VEVENT
BEGIN:VEVENT
DTSTART;TZID=America/Denver:20280502T173000
DTEND;TZID=America/Denver:20280502T183000
DTSTAMP:20260423T032004
CREATED:20250513T054121Z
LAST-MODIFIED:20250513T054121Z
UID:10001193-1840901400-1840905000@recoverystlouis.org
SUMMARY:AA Secular Sobriety Open-mixed In person/online
DESCRIPTION:Zoom: 343 811 2984\nPW 770507
URL:https://recoverystlouis.org/event/aa-secular-sobriety-open-mixed-in-person-online/2028-05-02/
END:VEVENT
BEGIN:VEVENT
DTSTART;TZID=America/Denver:20280502T190000
DTEND;TZID=America/Denver:20280502T200000
DTSTAMP:20260423T032005
CREATED:20250513T055457Z
LAST-MODIFIED:20250513T055457Z
UID:10003793-1840906800-1840910400@recoverystlouis.org
SUMMARY:AA Burton’s Heroes Open -mixed In person/online
DESCRIPTION:
URL:https://recoverystlouis.org/event/aa-burtons-heroes-open-mixed-in-person-online/2028-05-02/
END:VEVENT
BEGIN:VEVENT
DTSTART;TZID=America/Denver:20280503T170000
DTEND;TZID=America/Denver:20280503T190000
DTSTAMP:20260423T032005
CREATED:20250513T054406Z
LAST-MODIFIED:20250513T054406Z
UID:10001713-1840986000-1840993200@recoverystlouis.org
SUMMARY:Private group
DESCRIPTION:
URL:https://recoverystlouis.org/event/private-group/2028-05-03/
END:VEVENT
BEGIN:VEVENT
DTSTART;TZID=America/Denver:20280504T100000
DTEND;TZID=America/Denver:20280504T111500
DTSTAMP:20260423T032005
CREATED:20250513T054602Z
LAST-MODIFIED:20250530T165143Z
UID:10002233-1841047200-1841051700@recoverystlouis.org
SUMMARY:AA Group 179 Open-mixed In person/online
DESCRIPTION:Zoom 598 988 635\nPW 241200
URL:https://recoverystlouis.org/event/aa-group-179-open-mixed-in-person-online/2028-05-04/
END:VEVENT
BEGIN:VEVENT
DTSTART;TZID=America/Denver:20280504T190000
DTEND;TZID=America/Denver:20280504T200000
DTSTAMP:20260423T032005
CREATED:20250513T055622Z
LAST-MODIFIED:20250513T055622Z
UID:10004313-1841079600-1841083200@recoverystlouis.org
SUMMARY:Recovery Dharma Independent/in person only Open-mixed
DESCRIPTION:Contact\nMichelle T\n(314) 495-8026
URL:https://recoverystlouis.org/event/recovery-dharma-independent-in-person-only-open-mixed/2028-05-04/
END:VEVENT
END:VCALENDAR