BEGIN:VCALENDAR
VERSION:2.0
PRODID:-//Recovery St. Louis - ECPv6.15.17.1//NONSGML v1.0//EN
CALSCALE:GREGORIAN
METHOD:PUBLISH
X-WR-CALNAME:Recovery St. Louis
X-ORIGINAL-URL:https://recoverystlouis.org
X-WR-CALDESC:Events for Recovery St. Louis
REFRESH-INTERVAL;VALUE=DURATION:PT1H
X-Robots-Tag:noindex
X-PUBLISHED-TTL:PT1H
BEGIN:VTIMEZONE
TZID:America/Denver
BEGIN:DAYLIGHT
TZOFFSETFROM:-0700
TZOFFSETTO:-0600
TZNAME:MDT
DTSTART:20280312T090000
END:DAYLIGHT
BEGIN:STANDARD
TZOFFSETFROM:-0600
TZOFFSETTO:-0700
TZNAME:MST
DTSTART:20281105T080000
END:STANDARD
BEGIN:DAYLIGHT
TZOFFSETFROM:-0700
TZOFFSETTO:-0600
TZNAME:MDT
DTSTART:20290311T090000
END:DAYLIGHT
BEGIN:STANDARD
TZOFFSETFROM:-0600
TZOFFSETTO:-0700
TZNAME:MST
DTSTART:20291104T080000
END:STANDARD
BEGIN:DAYLIGHT
TZOFFSETFROM:-0700
TZOFFSETTO:-0600
TZNAME:MDT
DTSTART:20300310T090000
END:DAYLIGHT
BEGIN:STANDARD
TZOFFSETFROM:-0600
TZOFFSETTO:-0700
TZNAME:MST
DTSTART:20301103T080000
END:STANDARD
END:VTIMEZONE
BEGIN:VEVENT
DTSTART;TZID=America/Denver:20290622T070500
DTEND;TZID=America/Denver:20290622T074500
DTSTAMP:20260424T193731
CREATED:20250513T055108Z
LAST-MODIFIED:20250513T055108Z
UID:10002812-1876806300-1876808700@recoverystlouis.org
SUMMARY:AA Closed/ Men only Primary Purpose Mens
DESCRIPTION:
URL:https://recoverystlouis.org/event/aa-closed-men-only-primary-purpose-mens/2029-06-22/
END:VEVENT
BEGIN:VEVENT
DTSTART;TZID=America/Denver:20290622T174500
DTEND;TZID=America/Denver:20290622T184500
DTSTAMP:20260424T193731
CREATED:20250513T055756Z
LAST-MODIFIED:20250513T055756Z
UID:10004892-1876844700-1876848300@recoverystlouis.org
SUMMARY:AA Group 413- happier Hour Women’s-Open In person/online
DESCRIPTION:Zoom 263 787 324\nPW 279425 \nContact\nLeigh H\n(314) 276-6953
URL:https://recoverystlouis.org/event/aa-group-413-happier-hour-womens-open-in-person-online/2029-06-22/
END:VEVENT
BEGIN:VEVENT
DTSTART;TZID=America/Denver:20290624T090000
DTEND;TZID=America/Denver:20290624T101500
DTSTAMP:20260424T193731
CREATED:20250428T191821Z
LAST-MODIFIED:20250512T070411Z
UID:10000215-1876986000-1876990500@recoverystlouis.org
SUMMARY:AA Group 255-FIVE AND DIME Closed-Mixed In person/online
DESCRIPTION:Zoom:845 2025 1856\nPW: 173321 \nContact\nMichael Mac\n314-249-8149
URL:https://recoverystlouis.org/event/lorem-ipsum/2029-06-24/
END:VEVENT
BEGIN:VEVENT
DTSTART;TZID=America/Denver:20290624T110000
DTEND;TZID=America/Denver:20290624T120000
DTSTAMP:20260424T193731
CREATED:20250513T055407Z
LAST-MODIFIED:20250513T055407Z
UID:10003332-1876993200-1876996800@recoverystlouis.org
SUMMARY:OA Sunday Recovery Open-mixed In person/online
DESCRIPTION:Zoom:264 689 861\nPW:066708 \nContact\nCathy K (314) 538-1331
URL:https://recoverystlouis.org/event/oa-sunday-recovery-open-mixed-in-person-online/2029-06-24/
END:VEVENT
BEGIN:VEVENT
DTSTART;TZID=America/Denver:20290625T180000
DTEND;TZID=America/Denver:20290625T190000
DTSTAMP:20260424T193731
CREATED:20250512T071133Z
LAST-MODIFIED:20250512T071133Z
UID:10000735-1877104800-1877108400@recoverystlouis.org
SUMMARY:I AM RESPONSIBLE Women’s-closed In person-online
DESCRIPTION:Zoom:191 385 271\nPW: 085501 \nContact Clare P\n(314) 448-2101
URL:https://recoverystlouis.org/event/i-am-responsible-womens-closed-in-person-online/2029-06-25/
END:VEVENT
BEGIN:VEVENT
DTSTART;TZID=America/Denver:20290626T173000
DTEND;TZID=America/Denver:20290626T183000
DTSTAMP:20260424T193731
CREATED:20250513T054121Z
LAST-MODIFIED:20250513T054121Z
UID:10001253-1877189400-1877193000@recoverystlouis.org
SUMMARY:AA Secular Sobriety Open-mixed In person/online
DESCRIPTION:Zoom: 343 811 2984\nPW 770507
URL:https://recoverystlouis.org/event/aa-secular-sobriety-open-mixed-in-person-online/2029-06-26/
END:VEVENT
BEGIN:VEVENT
DTSTART;TZID=America/Denver:20290626T190000
DTEND;TZID=America/Denver:20290626T200000
DTSTAMP:20260424T193731
CREATED:20250513T055457Z
LAST-MODIFIED:20250513T055457Z
UID:10003853-1877194800-1877198400@recoverystlouis.org
SUMMARY:AA Burton’s Heroes Open -mixed In person/online
DESCRIPTION:
URL:https://recoverystlouis.org/event/aa-burtons-heroes-open-mixed-in-person-online/2029-06-26/
END:VEVENT
BEGIN:VEVENT
DTSTART;TZID=America/Denver:20290627T170000
DTEND;TZID=America/Denver:20290627T190000
DTSTAMP:20260424T193731
CREATED:20250513T054406Z
LAST-MODIFIED:20250513T054406Z
UID:10001773-1877274000-1877281200@recoverystlouis.org
SUMMARY:Private group
DESCRIPTION:
URL:https://recoverystlouis.org/event/private-group/2029-06-27/
END:VEVENT
BEGIN:VEVENT
DTSTART;TZID=America/Denver:20290628T100000
DTEND;TZID=America/Denver:20290628T111500
DTSTAMP:20260424T193731
CREATED:20250513T054602Z
LAST-MODIFIED:20250530T165143Z
UID:10002293-1877335200-1877339700@recoverystlouis.org
SUMMARY:AA Group 179 Open-mixed In person/online
DESCRIPTION:Zoom 598 988 635\nPW 241200
URL:https://recoverystlouis.org/event/aa-group-179-open-mixed-in-person-online/2029-06-28/
END:VEVENT
BEGIN:VEVENT
DTSTART;TZID=America/Denver:20290628T190000
DTEND;TZID=America/Denver:20290628T200000
DTSTAMP:20260424T193731
CREATED:20250513T055622Z
LAST-MODIFIED:20250513T055622Z
UID:10004373-1877367600-1877371200@recoverystlouis.org
SUMMARY:Recovery Dharma Independent/in person only Open-mixed
DESCRIPTION:Contact\nMichelle T\n(314) 495-8026
URL:https://recoverystlouis.org/event/recovery-dharma-independent-in-person-only-open-mixed/2029-06-28/
END:VEVENT
BEGIN:VEVENT
DTSTART;TZID=America/Denver:20290629T070500
DTEND;TZID=America/Denver:20290629T074500
DTSTAMP:20260424T193731
CREATED:20250513T055108Z
LAST-MODIFIED:20250513T055108Z
UID:10002813-1877411100-1877413500@recoverystlouis.org
SUMMARY:AA Closed/ Men only Primary Purpose Mens
DESCRIPTION:
URL:https://recoverystlouis.org/event/aa-closed-men-only-primary-purpose-mens/2029-06-29/
END:VEVENT
BEGIN:VEVENT
DTSTART;TZID=America/Denver:20290629T174500
DTEND;TZID=America/Denver:20290629T184500
DTSTAMP:20260424T193731
CREATED:20250513T055756Z
LAST-MODIFIED:20250513T055756Z
UID:10004893-1877449500-1877453100@recoverystlouis.org
SUMMARY:AA Group 413- happier Hour Women’s-Open In person/online
DESCRIPTION:Zoom 263 787 324\nPW 279425 \nContact\nLeigh H\n(314) 276-6953
URL:https://recoverystlouis.org/event/aa-group-413-happier-hour-womens-open-in-person-online/2029-06-29/
END:VEVENT
BEGIN:VEVENT
DTSTART;TZID=America/Denver:20290701T090000
DTEND;TZID=America/Denver:20290701T101500
DTSTAMP:20260424T193731
CREATED:20250428T191821Z
LAST-MODIFIED:20250512T070411Z
UID:10000216-1877590800-1877595300@recoverystlouis.org
SUMMARY:AA Group 255-FIVE AND DIME Closed-Mixed In person/online
DESCRIPTION:Zoom:845 2025 1856\nPW: 173321 \nContact\nMichael Mac\n314-249-8149
URL:https://recoverystlouis.org/event/lorem-ipsum/2029-07-01/
END:VEVENT
BEGIN:VEVENT
DTSTART;TZID=America/Denver:20290701T110000
DTEND;TZID=America/Denver:20290701T120000
DTSTAMP:20260424T193731
CREATED:20250513T055407Z
LAST-MODIFIED:20250513T055407Z
UID:10003333-1877598000-1877601600@recoverystlouis.org
SUMMARY:OA Sunday Recovery Open-mixed In person/online
DESCRIPTION:Zoom:264 689 861\nPW:066708 \nContact\nCathy K (314) 538-1331
URL:https://recoverystlouis.org/event/oa-sunday-recovery-open-mixed-in-person-online/2029-07-01/
END:VEVENT
BEGIN:VEVENT
DTSTART;TZID=America/Denver:20290702T180000
DTEND;TZID=America/Denver:20290702T190000
DTSTAMP:20260424T193731
CREATED:20250512T071133Z
LAST-MODIFIED:20250512T071133Z
UID:10000736-1877709600-1877713200@recoverystlouis.org
SUMMARY:I AM RESPONSIBLE Women’s-closed In person-online
DESCRIPTION:Zoom:191 385 271\nPW: 085501 \nContact Clare P\n(314) 448-2101
URL:https://recoverystlouis.org/event/i-am-responsible-womens-closed-in-person-online/2029-07-02/
END:VEVENT
BEGIN:VEVENT
DTSTART;TZID=America/Denver:20290703T173000
DTEND;TZID=America/Denver:20290703T183000
DTSTAMP:20260424T193731
CREATED:20250513T054121Z
LAST-MODIFIED:20250513T054121Z
UID:10001254-1877794200-1877797800@recoverystlouis.org
SUMMARY:AA Secular Sobriety Open-mixed In person/online
DESCRIPTION:Zoom: 343 811 2984\nPW 770507
URL:https://recoverystlouis.org/event/aa-secular-sobriety-open-mixed-in-person-online/2029-07-03/
END:VEVENT
BEGIN:VEVENT
DTSTART;TZID=America/Denver:20290703T190000
DTEND;TZID=America/Denver:20290703T200000
DTSTAMP:20260424T193731
CREATED:20250513T055457Z
LAST-MODIFIED:20250513T055457Z
UID:10003854-1877799600-1877803200@recoverystlouis.org
SUMMARY:AA Burton’s Heroes Open -mixed In person/online
DESCRIPTION:
URL:https://recoverystlouis.org/event/aa-burtons-heroes-open-mixed-in-person-online/2029-07-03/
END:VEVENT
BEGIN:VEVENT
DTSTART;TZID=America/Denver:20290704T170000
DTEND;TZID=America/Denver:20290704T190000
DTSTAMP:20260424T193731
CREATED:20250513T054406Z
LAST-MODIFIED:20250513T054406Z
UID:10001774-1877878800-1877886000@recoverystlouis.org
SUMMARY:Private group
DESCRIPTION:
URL:https://recoverystlouis.org/event/private-group/2029-07-04/
END:VEVENT
BEGIN:VEVENT
DTSTART;TZID=America/Denver:20290705T100000
DTEND;TZID=America/Denver:20290705T111500
DTSTAMP:20260424T193731
CREATED:20250513T054602Z
LAST-MODIFIED:20250530T165143Z
UID:10002294-1877940000-1877944500@recoverystlouis.org
SUMMARY:AA Group 179 Open-mixed In person/online
DESCRIPTION:Zoom 598 988 635\nPW 241200
URL:https://recoverystlouis.org/event/aa-group-179-open-mixed-in-person-online/2029-07-05/
END:VEVENT
BEGIN:VEVENT
DTSTART;TZID=America/Denver:20290705T190000
DTEND;TZID=America/Denver:20290705T200000
DTSTAMP:20260424T193731
CREATED:20250513T055622Z
LAST-MODIFIED:20250513T055622Z
UID:10004374-1877972400-1877976000@recoverystlouis.org
SUMMARY:Recovery Dharma Independent/in person only Open-mixed
DESCRIPTION:Contact\nMichelle T\n(314) 495-8026
URL:https://recoverystlouis.org/event/recovery-dharma-independent-in-person-only-open-mixed/2029-07-05/
END:VEVENT
BEGIN:VEVENT
DTSTART;TZID=America/Denver:20290706T070500
DTEND;TZID=America/Denver:20290706T074500
DTSTAMP:20260424T193731
CREATED:20250513T055108Z
LAST-MODIFIED:20250513T055108Z
UID:10002814-1878015900-1878018300@recoverystlouis.org
SUMMARY:AA Closed/ Men only Primary Purpose Mens
DESCRIPTION:
URL:https://recoverystlouis.org/event/aa-closed-men-only-primary-purpose-mens/2029-07-06/
END:VEVENT
BEGIN:VEVENT
DTSTART;TZID=America/Denver:20290706T174500
DTEND;TZID=America/Denver:20290706T184500
DTSTAMP:20260424T193731
CREATED:20250513T055756Z
LAST-MODIFIED:20250513T055756Z
UID:10004894-1878054300-1878057900@recoverystlouis.org
SUMMARY:AA Group 413- happier Hour Women’s-Open In person/online
DESCRIPTION:Zoom 263 787 324\nPW 279425 \nContact\nLeigh H\n(314) 276-6953
URL:https://recoverystlouis.org/event/aa-group-413-happier-hour-womens-open-in-person-online/2029-07-06/
END:VEVENT
BEGIN:VEVENT
DTSTART;TZID=America/Denver:20290708T090000
DTEND;TZID=America/Denver:20290708T101500
DTSTAMP:20260424T193731
CREATED:20250428T191821Z
LAST-MODIFIED:20250512T070411Z
UID:10000217-1878195600-1878200100@recoverystlouis.org
SUMMARY:AA Group 255-FIVE AND DIME Closed-Mixed In person/online
DESCRIPTION:Zoom:845 2025 1856\nPW: 173321 \nContact\nMichael Mac\n314-249-8149
URL:https://recoverystlouis.org/event/lorem-ipsum/2029-07-08/
END:VEVENT
BEGIN:VEVENT
DTSTART;TZID=America/Denver:20290708T110000
DTEND;TZID=America/Denver:20290708T120000
DTSTAMP:20260424T193731
CREATED:20250513T055407Z
LAST-MODIFIED:20250513T055407Z
UID:10003334-1878202800-1878206400@recoverystlouis.org
SUMMARY:OA Sunday Recovery Open-mixed In person/online
DESCRIPTION:Zoom:264 689 861\nPW:066708 \nContact\nCathy K (314) 538-1331
URL:https://recoverystlouis.org/event/oa-sunday-recovery-open-mixed-in-person-online/2029-07-08/
END:VEVENT
BEGIN:VEVENT
DTSTART;TZID=America/Denver:20290709T180000
DTEND;TZID=America/Denver:20290709T190000
DTSTAMP:20260424T193731
CREATED:20250512T071133Z
LAST-MODIFIED:20250512T071133Z
UID:10000737-1878314400-1878318000@recoverystlouis.org
SUMMARY:I AM RESPONSIBLE Women’s-closed In person-online
DESCRIPTION:Zoom:191 385 271\nPW: 085501 \nContact Clare P\n(314) 448-2101
URL:https://recoverystlouis.org/event/i-am-responsible-womens-closed-in-person-online/2029-07-09/
END:VEVENT
BEGIN:VEVENT
DTSTART;TZID=America/Denver:20290710T173000
DTEND;TZID=America/Denver:20290710T183000
DTSTAMP:20260424T193731
CREATED:20250513T054121Z
LAST-MODIFIED:20250513T054121Z
UID:10001255-1878399000-1878402600@recoverystlouis.org
SUMMARY:AA Secular Sobriety Open-mixed In person/online
DESCRIPTION:Zoom: 343 811 2984\nPW 770507
URL:https://recoverystlouis.org/event/aa-secular-sobriety-open-mixed-in-person-online/2029-07-10/
END:VEVENT
BEGIN:VEVENT
DTSTART;TZID=America/Denver:20290710T190000
DTEND;TZID=America/Denver:20290710T200000
DTSTAMP:20260424T193731
CREATED:20250513T055457Z
LAST-MODIFIED:20250513T055457Z
UID:10003855-1878404400-1878408000@recoverystlouis.org
SUMMARY:AA Burton’s Heroes Open -mixed In person/online
DESCRIPTION:
URL:https://recoverystlouis.org/event/aa-burtons-heroes-open-mixed-in-person-online/2029-07-10/
END:VEVENT
BEGIN:VEVENT
DTSTART;TZID=America/Denver:20290711T170000
DTEND;TZID=America/Denver:20290711T190000
DTSTAMP:20260424T193731
CREATED:20250513T054406Z
LAST-MODIFIED:20250513T054406Z
UID:10001775-1878483600-1878490800@recoverystlouis.org
SUMMARY:Private group
DESCRIPTION:
URL:https://recoverystlouis.org/event/private-group/2029-07-11/
END:VEVENT
BEGIN:VEVENT
DTSTART;TZID=America/Denver:20290712T100000
DTEND;TZID=America/Denver:20290712T111500
DTSTAMP:20260424T193731
CREATED:20250513T054602Z
LAST-MODIFIED:20250530T165143Z
UID:10002295-1878544800-1878549300@recoverystlouis.org
SUMMARY:AA Group 179 Open-mixed In person/online
DESCRIPTION:Zoom 598 988 635\nPW 241200
URL:https://recoverystlouis.org/event/aa-group-179-open-mixed-in-person-online/2029-07-12/
END:VEVENT
BEGIN:VEVENT
DTSTART;TZID=America/Denver:20290712T190000
DTEND;TZID=America/Denver:20290712T200000
DTSTAMP:20260424T193731
CREATED:20250513T055622Z
LAST-MODIFIED:20250513T055622Z
UID:10004375-1878577200-1878580800@recoverystlouis.org
SUMMARY:Recovery Dharma Independent/in person only Open-mixed
DESCRIPTION:Contact\nMichelle T\n(314) 495-8026
URL:https://recoverystlouis.org/event/recovery-dharma-independent-in-person-only-open-mixed/2029-07-12/
END:VEVENT
END:VCALENDAR