BEGIN:VCALENDAR
VERSION:2.0
PRODID:-//Recovery St. Louis - ECPv6.15.17.1//NONSGML v1.0//EN
CALSCALE:GREGORIAN
METHOD:PUBLISH
X-WR-CALNAME:Recovery St. Louis
X-ORIGINAL-URL:https://recoverystlouis.org
X-WR-CALDESC:Events for Recovery St. Louis
REFRESH-INTERVAL;VALUE=DURATION:PT1H
X-Robots-Tag:noindex
X-PUBLISHED-TTL:PT1H
BEGIN:VTIMEZONE
TZID:America/Denver
BEGIN:DAYLIGHT
TZOFFSETFROM:-0700
TZOFFSETTO:-0600
TZNAME:MDT
DTSTART:20280312T090000
END:DAYLIGHT
BEGIN:STANDARD
TZOFFSETFROM:-0600
TZOFFSETTO:-0700
TZNAME:MST
DTSTART:20281105T080000
END:STANDARD
BEGIN:DAYLIGHT
TZOFFSETFROM:-0700
TZOFFSETTO:-0600
TZNAME:MDT
DTSTART:20290311T090000
END:DAYLIGHT
BEGIN:STANDARD
TZOFFSETFROM:-0600
TZOFFSETTO:-0700
TZNAME:MST
DTSTART:20291104T080000
END:STANDARD
BEGIN:DAYLIGHT
TZOFFSETFROM:-0700
TZOFFSETTO:-0600
TZNAME:MDT
DTSTART:20300310T090000
END:DAYLIGHT
BEGIN:STANDARD
TZOFFSETFROM:-0600
TZOFFSETTO:-0700
TZNAME:MST
DTSTART:20301103T080000
END:STANDARD
END:VTIMEZONE
BEGIN:VEVENT
DTSTART;TZID=America/Denver:20290223T070500
DTEND;TZID=America/Denver:20290223T074500
DTSTAMP:20260424T102055
CREATED:20250513T055108Z
LAST-MODIFIED:20250513T055108Z
UID:10002795-1866524700-1866527100@recoverystlouis.org
SUMMARY:AA Closed/ Men only Primary Purpose Mens
DESCRIPTION:
URL:https://recoverystlouis.org/event/aa-closed-men-only-primary-purpose-mens/2029-02-23/
END:VEVENT
BEGIN:VEVENT
DTSTART;TZID=America/Denver:20290223T174500
DTEND;TZID=America/Denver:20290223T184500
DTSTAMP:20260424T102055
CREATED:20250513T055756Z
LAST-MODIFIED:20250513T055756Z
UID:10004875-1866563100-1866566700@recoverystlouis.org
SUMMARY:AA Group 413- happier Hour Women’s-Open In person/online
DESCRIPTION:Zoom 263 787 324\nPW 279425 \nContact\nLeigh H\n(314) 276-6953
URL:https://recoverystlouis.org/event/aa-group-413-happier-hour-womens-open-in-person-online/2029-02-23/
END:VEVENT
BEGIN:VEVENT
DTSTART;TZID=America/Denver:20290225T090000
DTEND;TZID=America/Denver:20290225T101500
DTSTAMP:20260424T102055
CREATED:20250428T191821Z
LAST-MODIFIED:20250512T070411Z
UID:10000198-1866704400-1866708900@recoverystlouis.org
SUMMARY:AA Group 255-FIVE AND DIME Closed-Mixed In person/online
DESCRIPTION:Zoom:845 2025 1856\nPW: 173321 \nContact\nMichael Mac\n314-249-8149
URL:https://recoverystlouis.org/event/lorem-ipsum/2029-02-25/
END:VEVENT
BEGIN:VEVENT
DTSTART;TZID=America/Denver:20290225T110000
DTEND;TZID=America/Denver:20290225T120000
DTSTAMP:20260424T102055
CREATED:20250513T055407Z
LAST-MODIFIED:20250513T055407Z
UID:10003315-1866711600-1866715200@recoverystlouis.org
SUMMARY:OA Sunday Recovery Open-mixed In person/online
DESCRIPTION:Zoom:264 689 861\nPW:066708 \nContact\nCathy K (314) 538-1331
URL:https://recoverystlouis.org/event/oa-sunday-recovery-open-mixed-in-person-online/2029-02-25/
END:VEVENT
BEGIN:VEVENT
DTSTART;TZID=America/Denver:20290226T180000
DTEND;TZID=America/Denver:20290226T190000
DTSTAMP:20260424T102055
CREATED:20250512T071133Z
LAST-MODIFIED:20250512T071133Z
UID:10000718-1866823200-1866826800@recoverystlouis.org
SUMMARY:I AM RESPONSIBLE Women’s-closed In person-online
DESCRIPTION:Zoom:191 385 271\nPW: 085501 \nContact Clare P\n(314) 448-2101
URL:https://recoverystlouis.org/event/i-am-responsible-womens-closed-in-person-online/2029-02-26/
END:VEVENT
BEGIN:VEVENT
DTSTART;TZID=America/Denver:20290227T173000
DTEND;TZID=America/Denver:20290227T183000
DTSTAMP:20260424T102055
CREATED:20250513T054121Z
LAST-MODIFIED:20250513T054121Z
UID:10001236-1866907800-1866911400@recoverystlouis.org
SUMMARY:AA Secular Sobriety Open-mixed In person/online
DESCRIPTION:Zoom: 343 811 2984\nPW 770507
URL:https://recoverystlouis.org/event/aa-secular-sobriety-open-mixed-in-person-online/2029-02-27/
END:VEVENT
BEGIN:VEVENT
DTSTART;TZID=America/Denver:20290227T190000
DTEND;TZID=America/Denver:20290227T200000
DTSTAMP:20260424T102055
CREATED:20250513T055457Z
LAST-MODIFIED:20250513T055457Z
UID:10003836-1866913200-1866916800@recoverystlouis.org
SUMMARY:AA Burton’s Heroes Open -mixed In person/online
DESCRIPTION:
URL:https://recoverystlouis.org/event/aa-burtons-heroes-open-mixed-in-person-online/2029-02-27/
END:VEVENT
BEGIN:VEVENT
DTSTART;TZID=America/Denver:20290228T170000
DTEND;TZID=America/Denver:20290228T190000
DTSTAMP:20260424T102055
CREATED:20250513T054406Z
LAST-MODIFIED:20250513T054406Z
UID:10001756-1866992400-1866999600@recoverystlouis.org
SUMMARY:Private group
DESCRIPTION:
URL:https://recoverystlouis.org/event/private-group/2029-02-28/
END:VEVENT
BEGIN:VEVENT
DTSTART;TZID=America/Denver:20290301T100000
DTEND;TZID=America/Denver:20290301T111500
DTSTAMP:20260424T102055
CREATED:20250513T054602Z
LAST-MODIFIED:20250530T165143Z
UID:10002276-1867053600-1867058100@recoverystlouis.org
SUMMARY:AA Group 179 Open-mixed In person/online
DESCRIPTION:Zoom 598 988 635\nPW 241200
URL:https://recoverystlouis.org/event/aa-group-179-open-mixed-in-person-online/2029-03-01/
END:VEVENT
BEGIN:VEVENT
DTSTART;TZID=America/Denver:20290301T190000
DTEND;TZID=America/Denver:20290301T200000
DTSTAMP:20260424T102055
CREATED:20250513T055622Z
LAST-MODIFIED:20250513T055622Z
UID:10004356-1867086000-1867089600@recoverystlouis.org
SUMMARY:Recovery Dharma Independent/in person only Open-mixed
DESCRIPTION:Contact\nMichelle T\n(314) 495-8026
URL:https://recoverystlouis.org/event/recovery-dharma-independent-in-person-only-open-mixed/2029-03-01/
END:VEVENT
BEGIN:VEVENT
DTSTART;TZID=America/Denver:20290302T070500
DTEND;TZID=America/Denver:20290302T074500
DTSTAMP:20260424T102055
CREATED:20250513T055108Z
LAST-MODIFIED:20250513T055108Z
UID:10002796-1867129500-1867131900@recoverystlouis.org
SUMMARY:AA Closed/ Men only Primary Purpose Mens
DESCRIPTION:
URL:https://recoverystlouis.org/event/aa-closed-men-only-primary-purpose-mens/2029-03-02/
END:VEVENT
BEGIN:VEVENT
DTSTART;TZID=America/Denver:20290302T174500
DTEND;TZID=America/Denver:20290302T184500
DTSTAMP:20260424T102055
CREATED:20250513T055756Z
LAST-MODIFIED:20250513T055756Z
UID:10004876-1867167900-1867171500@recoverystlouis.org
SUMMARY:AA Group 413- happier Hour Women’s-Open In person/online
DESCRIPTION:Zoom 263 787 324\nPW 279425 \nContact\nLeigh H\n(314) 276-6953
URL:https://recoverystlouis.org/event/aa-group-413-happier-hour-womens-open-in-person-online/2029-03-02/
END:VEVENT
BEGIN:VEVENT
DTSTART;TZID=America/Denver:20290304T090000
DTEND;TZID=America/Denver:20290304T101500
DTSTAMP:20260424T102055
CREATED:20250428T191821Z
LAST-MODIFIED:20250512T070411Z
UID:10000199-1867309200-1867313700@recoverystlouis.org
SUMMARY:AA Group 255-FIVE AND DIME Closed-Mixed In person/online
DESCRIPTION:Zoom:845 2025 1856\nPW: 173321 \nContact\nMichael Mac\n314-249-8149
URL:https://recoverystlouis.org/event/lorem-ipsum/2029-03-04/
END:VEVENT
BEGIN:VEVENT
DTSTART;TZID=America/Denver:20290304T110000
DTEND;TZID=America/Denver:20290304T120000
DTSTAMP:20260424T102055
CREATED:20250513T055407Z
LAST-MODIFIED:20250513T055407Z
UID:10003316-1867316400-1867320000@recoverystlouis.org
SUMMARY:OA Sunday Recovery Open-mixed In person/online
DESCRIPTION:Zoom:264 689 861\nPW:066708 \nContact\nCathy K (314) 538-1331
URL:https://recoverystlouis.org/event/oa-sunday-recovery-open-mixed-in-person-online/2029-03-04/
END:VEVENT
BEGIN:VEVENT
DTSTART;TZID=America/Denver:20290305T180000
DTEND;TZID=America/Denver:20290305T190000
DTSTAMP:20260424T102055
CREATED:20250512T071133Z
LAST-MODIFIED:20250512T071133Z
UID:10000719-1867428000-1867431600@recoverystlouis.org
SUMMARY:I AM RESPONSIBLE Women’s-closed In person-online
DESCRIPTION:Zoom:191 385 271\nPW: 085501 \nContact Clare P\n(314) 448-2101
URL:https://recoverystlouis.org/event/i-am-responsible-womens-closed-in-person-online/2029-03-05/
END:VEVENT
BEGIN:VEVENT
DTSTART;TZID=America/Denver:20290306T173000
DTEND;TZID=America/Denver:20290306T183000
DTSTAMP:20260424T102055
CREATED:20250513T054121Z
LAST-MODIFIED:20250513T054121Z
UID:10001237-1867512600-1867516200@recoverystlouis.org
SUMMARY:AA Secular Sobriety Open-mixed In person/online
DESCRIPTION:Zoom: 343 811 2984\nPW 770507
URL:https://recoverystlouis.org/event/aa-secular-sobriety-open-mixed-in-person-online/2029-03-06/
END:VEVENT
BEGIN:VEVENT
DTSTART;TZID=America/Denver:20290306T190000
DTEND;TZID=America/Denver:20290306T200000
DTSTAMP:20260424T102055
CREATED:20250513T055457Z
LAST-MODIFIED:20250513T055457Z
UID:10003837-1867518000-1867521600@recoverystlouis.org
SUMMARY:AA Burton’s Heroes Open -mixed In person/online
DESCRIPTION:
URL:https://recoverystlouis.org/event/aa-burtons-heroes-open-mixed-in-person-online/2029-03-06/
END:VEVENT
BEGIN:VEVENT
DTSTART;TZID=America/Denver:20290307T170000
DTEND;TZID=America/Denver:20290307T190000
DTSTAMP:20260424T102055
CREATED:20250513T054406Z
LAST-MODIFIED:20250513T054406Z
UID:10001757-1867597200-1867604400@recoverystlouis.org
SUMMARY:Private group
DESCRIPTION:
URL:https://recoverystlouis.org/event/private-group/2029-03-07/
END:VEVENT
BEGIN:VEVENT
DTSTART;TZID=America/Denver:20290308T100000
DTEND;TZID=America/Denver:20290308T111500
DTSTAMP:20260424T102056
CREATED:20250513T054602Z
LAST-MODIFIED:20250530T165143Z
UID:10002277-1867658400-1867662900@recoverystlouis.org
SUMMARY:AA Group 179 Open-mixed In person/online
DESCRIPTION:Zoom 598 988 635\nPW 241200
URL:https://recoverystlouis.org/event/aa-group-179-open-mixed-in-person-online/2029-03-08/
END:VEVENT
BEGIN:VEVENT
DTSTART;TZID=America/Denver:20290308T190000
DTEND;TZID=America/Denver:20290308T200000
DTSTAMP:20260424T102056
CREATED:20250513T055622Z
LAST-MODIFIED:20250513T055622Z
UID:10004357-1867690800-1867694400@recoverystlouis.org
SUMMARY:Recovery Dharma Independent/in person only Open-mixed
DESCRIPTION:Contact\nMichelle T\n(314) 495-8026
URL:https://recoverystlouis.org/event/recovery-dharma-independent-in-person-only-open-mixed/2029-03-08/
END:VEVENT
BEGIN:VEVENT
DTSTART;TZID=America/Denver:20290309T070500
DTEND;TZID=America/Denver:20290309T074500
DTSTAMP:20260424T102056
CREATED:20250513T055108Z
LAST-MODIFIED:20250513T055108Z
UID:10002797-1867734300-1867736700@recoverystlouis.org
SUMMARY:AA Closed/ Men only Primary Purpose Mens
DESCRIPTION:
URL:https://recoverystlouis.org/event/aa-closed-men-only-primary-purpose-mens/2029-03-09/
END:VEVENT
BEGIN:VEVENT
DTSTART;TZID=America/Denver:20290309T174500
DTEND;TZID=America/Denver:20290309T184500
DTSTAMP:20260424T102056
CREATED:20250513T055756Z
LAST-MODIFIED:20250513T055756Z
UID:10004877-1867772700-1867776300@recoverystlouis.org
SUMMARY:AA Group 413- happier Hour Women’s-Open In person/online
DESCRIPTION:Zoom 263 787 324\nPW 279425 \nContact\nLeigh H\n(314) 276-6953
URL:https://recoverystlouis.org/event/aa-group-413-happier-hour-womens-open-in-person-online/2029-03-09/
END:VEVENT
BEGIN:VEVENT
DTSTART;TZID=America/Denver:20290311T090000
DTEND;TZID=America/Denver:20290311T101500
DTSTAMP:20260424T102056
CREATED:20250428T191821Z
LAST-MODIFIED:20250512T070411Z
UID:10000200-1867914000-1867918500@recoverystlouis.org
SUMMARY:AA Group 255-FIVE AND DIME Closed-Mixed In person/online
DESCRIPTION:Zoom:845 2025 1856\nPW: 173321 \nContact\nMichael Mac\n314-249-8149
URL:https://recoverystlouis.org/event/lorem-ipsum/2029-03-11/
END:VEVENT
BEGIN:VEVENT
DTSTART;TZID=America/Denver:20290311T110000
DTEND;TZID=America/Denver:20290311T120000
DTSTAMP:20260424T102056
CREATED:20250513T055407Z
LAST-MODIFIED:20250513T055407Z
UID:10003317-1867921200-1867924800@recoverystlouis.org
SUMMARY:OA Sunday Recovery Open-mixed In person/online
DESCRIPTION:Zoom:264 689 861\nPW:066708 \nContact\nCathy K (314) 538-1331
URL:https://recoverystlouis.org/event/oa-sunday-recovery-open-mixed-in-person-online/2029-03-11/
END:VEVENT
BEGIN:VEVENT
DTSTART;TZID=America/Denver:20290312T180000
DTEND;TZID=America/Denver:20290312T190000
DTSTAMP:20260424T102056
CREATED:20250512T071133Z
LAST-MODIFIED:20250512T071133Z
UID:10000720-1868032800-1868036400@recoverystlouis.org
SUMMARY:I AM RESPONSIBLE Women’s-closed In person-online
DESCRIPTION:Zoom:191 385 271\nPW: 085501 \nContact Clare P\n(314) 448-2101
URL:https://recoverystlouis.org/event/i-am-responsible-womens-closed-in-person-online/2029-03-12/
END:VEVENT
BEGIN:VEVENT
DTSTART;TZID=America/Denver:20290313T173000
DTEND;TZID=America/Denver:20290313T183000
DTSTAMP:20260424T102056
CREATED:20250513T054121Z
LAST-MODIFIED:20250513T054121Z
UID:10001238-1868117400-1868121000@recoverystlouis.org
SUMMARY:AA Secular Sobriety Open-mixed In person/online
DESCRIPTION:Zoom: 343 811 2984\nPW 770507
URL:https://recoverystlouis.org/event/aa-secular-sobriety-open-mixed-in-person-online/2029-03-13/
END:VEVENT
BEGIN:VEVENT
DTSTART;TZID=America/Denver:20290313T190000
DTEND;TZID=America/Denver:20290313T200000
DTSTAMP:20260424T102056
CREATED:20250513T055457Z
LAST-MODIFIED:20250513T055457Z
UID:10003838-1868122800-1868126400@recoverystlouis.org
SUMMARY:AA Burton’s Heroes Open -mixed In person/online
DESCRIPTION:
URL:https://recoverystlouis.org/event/aa-burtons-heroes-open-mixed-in-person-online/2029-03-13/
END:VEVENT
BEGIN:VEVENT
DTSTART;TZID=America/Denver:20290314T170000
DTEND;TZID=America/Denver:20290314T190000
DTSTAMP:20260424T102056
CREATED:20250513T054406Z
LAST-MODIFIED:20250513T054406Z
UID:10001758-1868202000-1868209200@recoverystlouis.org
SUMMARY:Private group
DESCRIPTION:
URL:https://recoverystlouis.org/event/private-group/2029-03-14/
END:VEVENT
BEGIN:VEVENT
DTSTART;TZID=America/Denver:20290315T100000
DTEND;TZID=America/Denver:20290315T111500
DTSTAMP:20260424T102056
CREATED:20250513T054602Z
LAST-MODIFIED:20250530T165143Z
UID:10002278-1868263200-1868267700@recoverystlouis.org
SUMMARY:AA Group 179 Open-mixed In person/online
DESCRIPTION:Zoom 598 988 635\nPW 241200
URL:https://recoverystlouis.org/event/aa-group-179-open-mixed-in-person-online/2029-03-15/
END:VEVENT
BEGIN:VEVENT
DTSTART;TZID=America/Denver:20290315T190000
DTEND;TZID=America/Denver:20290315T200000
DTSTAMP:20260424T102056
CREATED:20250513T055622Z
LAST-MODIFIED:20250513T055622Z
UID:10004358-1868295600-1868299200@recoverystlouis.org
SUMMARY:Recovery Dharma Independent/in person only Open-mixed
DESCRIPTION:Contact\nMichelle T\n(314) 495-8026
URL:https://recoverystlouis.org/event/recovery-dharma-independent-in-person-only-open-mixed/2029-03-15/
END:VEVENT
END:VCALENDAR