BEGIN:VCALENDAR
VERSION:2.0
PRODID:-//Recovery St. Louis - ECPv6.15.17.1//NONSGML v1.0//EN
CALSCALE:GREGORIAN
METHOD:PUBLISH
X-WR-CALNAME:Recovery St. Louis
X-ORIGINAL-URL:https://recoverystlouis.org
X-WR-CALDESC:Events for Recovery St. Louis
REFRESH-INTERVAL;VALUE=DURATION:PT1H
X-Robots-Tag:noindex
X-PUBLISHED-TTL:PT1H
BEGIN:VTIMEZONE
TZID:America/Denver
BEGIN:DAYLIGHT
TZOFFSETFROM:-0700
TZOFFSETTO:-0600
TZNAME:MDT
DTSTART:20280312T090000
END:DAYLIGHT
BEGIN:STANDARD
TZOFFSETFROM:-0600
TZOFFSETTO:-0700
TZNAME:MST
DTSTART:20281105T080000
END:STANDARD
BEGIN:DAYLIGHT
TZOFFSETFROM:-0700
TZOFFSETTO:-0600
TZNAME:MDT
DTSTART:20290311T090000
END:DAYLIGHT
BEGIN:STANDARD
TZOFFSETFROM:-0600
TZOFFSETTO:-0700
TZNAME:MST
DTSTART:20291104T080000
END:STANDARD
BEGIN:DAYLIGHT
TZOFFSETFROM:-0700
TZOFFSETTO:-0600
TZNAME:MDT
DTSTART:20300310T090000
END:DAYLIGHT
BEGIN:STANDARD
TZOFFSETFROM:-0600
TZOFFSETTO:-0700
TZNAME:MST
DTSTART:20301103T080000
END:STANDARD
END:VTIMEZONE
BEGIN:VEVENT
DTSTART;TZID=America/Denver:20290115T180000
DTEND;TZID=America/Denver:20290115T190000
DTSTAMP:20260424T081427
CREATED:20250512T071133Z
LAST-MODIFIED:20250512T071133Z
UID:10000712-1863194400-1863198000@recoverystlouis.org
SUMMARY:I AM RESPONSIBLE Women’s-closed In person-online
DESCRIPTION:Zoom:191 385 271\nPW: 085501 \nContact Clare P\n(314) 448-2101
URL:https://recoverystlouis.org/event/i-am-responsible-womens-closed-in-person-online/2029-01-15/
END:VEVENT
BEGIN:VEVENT
DTSTART;TZID=America/Denver:20290116T173000
DTEND;TZID=America/Denver:20290116T183000
DTSTAMP:20260424T081427
CREATED:20250513T054121Z
LAST-MODIFIED:20250513T054121Z
UID:10001230-1863279000-1863282600@recoverystlouis.org
SUMMARY:AA Secular Sobriety Open-mixed In person/online
DESCRIPTION:Zoom: 343 811 2984\nPW 770507
URL:https://recoverystlouis.org/event/aa-secular-sobriety-open-mixed-in-person-online/2029-01-16/
END:VEVENT
BEGIN:VEVENT
DTSTART;TZID=America/Denver:20290116T190000
DTEND;TZID=America/Denver:20290116T200000
DTSTAMP:20260424T081427
CREATED:20250513T055457Z
LAST-MODIFIED:20250513T055457Z
UID:10003830-1863284400-1863288000@recoverystlouis.org
SUMMARY:AA Burton’s Heroes Open -mixed In person/online
DESCRIPTION:
URL:https://recoverystlouis.org/event/aa-burtons-heroes-open-mixed-in-person-online/2029-01-16/
END:VEVENT
BEGIN:VEVENT
DTSTART;TZID=America/Denver:20290117T170000
DTEND;TZID=America/Denver:20290117T190000
DTSTAMP:20260424T081427
CREATED:20250513T054406Z
LAST-MODIFIED:20250513T054406Z
UID:10001750-1863363600-1863370800@recoverystlouis.org
SUMMARY:Private group
DESCRIPTION:
URL:https://recoverystlouis.org/event/private-group/2029-01-17/
END:VEVENT
BEGIN:VEVENT
DTSTART;TZID=America/Denver:20290118T100000
DTEND;TZID=America/Denver:20290118T111500
DTSTAMP:20260424T081427
CREATED:20250513T054602Z
LAST-MODIFIED:20250530T165143Z
UID:10002270-1863424800-1863429300@recoverystlouis.org
SUMMARY:AA Group 179 Open-mixed In person/online
DESCRIPTION:Zoom 598 988 635\nPW 241200
URL:https://recoverystlouis.org/event/aa-group-179-open-mixed-in-person-online/2029-01-18/
END:VEVENT
BEGIN:VEVENT
DTSTART;TZID=America/Denver:20290118T190000
DTEND;TZID=America/Denver:20290118T200000
DTSTAMP:20260424T081427
CREATED:20250513T055622Z
LAST-MODIFIED:20250513T055622Z
UID:10004350-1863457200-1863460800@recoverystlouis.org
SUMMARY:Recovery Dharma Independent/in person only Open-mixed
DESCRIPTION:Contact\nMichelle T\n(314) 495-8026
URL:https://recoverystlouis.org/event/recovery-dharma-independent-in-person-only-open-mixed/2029-01-18/
END:VEVENT
BEGIN:VEVENT
DTSTART;TZID=America/Denver:20290119T070500
DTEND;TZID=America/Denver:20290119T074500
DTSTAMP:20260424T081427
CREATED:20250513T055108Z
LAST-MODIFIED:20250513T055108Z
UID:10002790-1863500700-1863503100@recoverystlouis.org
SUMMARY:AA Closed/ Men only Primary Purpose Mens
DESCRIPTION:
URL:https://recoverystlouis.org/event/aa-closed-men-only-primary-purpose-mens/2029-01-19/
END:VEVENT
BEGIN:VEVENT
DTSTART;TZID=America/Denver:20290119T174500
DTEND;TZID=America/Denver:20290119T184500
DTSTAMP:20260424T081427
CREATED:20250513T055756Z
LAST-MODIFIED:20250513T055756Z
UID:10004870-1863539100-1863542700@recoverystlouis.org
SUMMARY:AA Group 413- happier Hour Women’s-Open In person/online
DESCRIPTION:Zoom 263 787 324\nPW 279425 \nContact\nLeigh H\n(314) 276-6953
URL:https://recoverystlouis.org/event/aa-group-413-happier-hour-womens-open-in-person-online/2029-01-19/
END:VEVENT
BEGIN:VEVENT
DTSTART;TZID=America/Denver:20290121T090000
DTEND;TZID=America/Denver:20290121T101500
DTSTAMP:20260424T081427
CREATED:20250428T191821Z
LAST-MODIFIED:20250512T070411Z
UID:10000193-1863680400-1863684900@recoverystlouis.org
SUMMARY:AA Group 255-FIVE AND DIME Closed-Mixed In person/online
DESCRIPTION:Zoom:845 2025 1856\nPW: 173321 \nContact\nMichael Mac\n314-249-8149
URL:https://recoverystlouis.org/event/lorem-ipsum/2029-01-21/
END:VEVENT
BEGIN:VEVENT
DTSTART;TZID=America/Denver:20290121T110000
DTEND;TZID=America/Denver:20290121T120000
DTSTAMP:20260424T081427
CREATED:20250513T055407Z
LAST-MODIFIED:20250513T055407Z
UID:10003310-1863687600-1863691200@recoverystlouis.org
SUMMARY:OA Sunday Recovery Open-mixed In person/online
DESCRIPTION:Zoom:264 689 861\nPW:066708 \nContact\nCathy K (314) 538-1331
URL:https://recoverystlouis.org/event/oa-sunday-recovery-open-mixed-in-person-online/2029-01-21/
END:VEVENT
BEGIN:VEVENT
DTSTART;TZID=America/Denver:20290122T180000
DTEND;TZID=America/Denver:20290122T190000
DTSTAMP:20260424T081427
CREATED:20250512T071133Z
LAST-MODIFIED:20250512T071133Z
UID:10000713-1863799200-1863802800@recoverystlouis.org
SUMMARY:I AM RESPONSIBLE Women’s-closed In person-online
DESCRIPTION:Zoom:191 385 271\nPW: 085501 \nContact Clare P\n(314) 448-2101
URL:https://recoverystlouis.org/event/i-am-responsible-womens-closed-in-person-online/2029-01-22/
END:VEVENT
BEGIN:VEVENT
DTSTART;TZID=America/Denver:20290123T173000
DTEND;TZID=America/Denver:20290123T183000
DTSTAMP:20260424T081427
CREATED:20250513T054121Z
LAST-MODIFIED:20250513T054121Z
UID:10001231-1863883800-1863887400@recoverystlouis.org
SUMMARY:AA Secular Sobriety Open-mixed In person/online
DESCRIPTION:Zoom: 343 811 2984\nPW 770507
URL:https://recoverystlouis.org/event/aa-secular-sobriety-open-mixed-in-person-online/2029-01-23/
END:VEVENT
BEGIN:VEVENT
DTSTART;TZID=America/Denver:20290123T190000
DTEND;TZID=America/Denver:20290123T200000
DTSTAMP:20260424T081427
CREATED:20250513T055457Z
LAST-MODIFIED:20250513T055457Z
UID:10003831-1863889200-1863892800@recoverystlouis.org
SUMMARY:AA Burton’s Heroes Open -mixed In person/online
DESCRIPTION:
URL:https://recoverystlouis.org/event/aa-burtons-heroes-open-mixed-in-person-online/2029-01-23/
END:VEVENT
BEGIN:VEVENT
DTSTART;TZID=America/Denver:20290124T170000
DTEND;TZID=America/Denver:20290124T190000
DTSTAMP:20260424T081427
CREATED:20250513T054406Z
LAST-MODIFIED:20250513T054406Z
UID:10001751-1863968400-1863975600@recoverystlouis.org
SUMMARY:Private group
DESCRIPTION:
URL:https://recoverystlouis.org/event/private-group/2029-01-24/
END:VEVENT
BEGIN:VEVENT
DTSTART;TZID=America/Denver:20290125T100000
DTEND;TZID=America/Denver:20290125T111500
DTSTAMP:20260424T081427
CREATED:20250513T054602Z
LAST-MODIFIED:20250530T165143Z
UID:10002271-1864029600-1864034100@recoverystlouis.org
SUMMARY:AA Group 179 Open-mixed In person/online
DESCRIPTION:Zoom 598 988 635\nPW 241200
URL:https://recoverystlouis.org/event/aa-group-179-open-mixed-in-person-online/2029-01-25/
END:VEVENT
BEGIN:VEVENT
DTSTART;TZID=America/Denver:20290125T190000
DTEND;TZID=America/Denver:20290125T200000
DTSTAMP:20260424T081427
CREATED:20250513T055622Z
LAST-MODIFIED:20250513T055622Z
UID:10004351-1864062000-1864065600@recoverystlouis.org
SUMMARY:Recovery Dharma Independent/in person only Open-mixed
DESCRIPTION:Contact\nMichelle T\n(314) 495-8026
URL:https://recoverystlouis.org/event/recovery-dharma-independent-in-person-only-open-mixed/2029-01-25/
END:VEVENT
BEGIN:VEVENT
DTSTART;TZID=America/Denver:20290126T070500
DTEND;TZID=America/Denver:20290126T074500
DTSTAMP:20260424T081427
CREATED:20250513T055108Z
LAST-MODIFIED:20250513T055108Z
UID:10002791-1864105500-1864107900@recoverystlouis.org
SUMMARY:AA Closed/ Men only Primary Purpose Mens
DESCRIPTION:
URL:https://recoverystlouis.org/event/aa-closed-men-only-primary-purpose-mens/2029-01-26/
END:VEVENT
BEGIN:VEVENT
DTSTART;TZID=America/Denver:20290126T174500
DTEND;TZID=America/Denver:20290126T184500
DTSTAMP:20260424T081427
CREATED:20250513T055756Z
LAST-MODIFIED:20250513T055756Z
UID:10004871-1864143900-1864147500@recoverystlouis.org
SUMMARY:AA Group 413- happier Hour Women’s-Open In person/online
DESCRIPTION:Zoom 263 787 324\nPW 279425 \nContact\nLeigh H\n(314) 276-6953
URL:https://recoverystlouis.org/event/aa-group-413-happier-hour-womens-open-in-person-online/2029-01-26/
END:VEVENT
BEGIN:VEVENT
DTSTART;TZID=America/Denver:20290128T090000
DTEND;TZID=America/Denver:20290128T101500
DTSTAMP:20260424T081427
CREATED:20250428T191821Z
LAST-MODIFIED:20250512T070411Z
UID:10000194-1864285200-1864289700@recoverystlouis.org
SUMMARY:AA Group 255-FIVE AND DIME Closed-Mixed In person/online
DESCRIPTION:Zoom:845 2025 1856\nPW: 173321 \nContact\nMichael Mac\n314-249-8149
URL:https://recoverystlouis.org/event/lorem-ipsum/2029-01-28/
END:VEVENT
BEGIN:VEVENT
DTSTART;TZID=America/Denver:20290128T110000
DTEND;TZID=America/Denver:20290128T120000
DTSTAMP:20260424T081427
CREATED:20250513T055407Z
LAST-MODIFIED:20250513T055407Z
UID:10003311-1864292400-1864296000@recoverystlouis.org
SUMMARY:OA Sunday Recovery Open-mixed In person/online
DESCRIPTION:Zoom:264 689 861\nPW:066708 \nContact\nCathy K (314) 538-1331
URL:https://recoverystlouis.org/event/oa-sunday-recovery-open-mixed-in-person-online/2029-01-28/
END:VEVENT
BEGIN:VEVENT
DTSTART;TZID=America/Denver:20290129T180000
DTEND;TZID=America/Denver:20290129T190000
DTSTAMP:20260424T081427
CREATED:20250512T071133Z
LAST-MODIFIED:20250512T071133Z
UID:10000714-1864404000-1864407600@recoverystlouis.org
SUMMARY:I AM RESPONSIBLE Women’s-closed In person-online
DESCRIPTION:Zoom:191 385 271\nPW: 085501 \nContact Clare P\n(314) 448-2101
URL:https://recoverystlouis.org/event/i-am-responsible-womens-closed-in-person-online/2029-01-29/
END:VEVENT
BEGIN:VEVENT
DTSTART;TZID=America/Denver:20290130T173000
DTEND;TZID=America/Denver:20290130T183000
DTSTAMP:20260424T081427
CREATED:20250513T054121Z
LAST-MODIFIED:20250513T054121Z
UID:10001232-1864488600-1864492200@recoverystlouis.org
SUMMARY:AA Secular Sobriety Open-mixed In person/online
DESCRIPTION:Zoom: 343 811 2984\nPW 770507
URL:https://recoverystlouis.org/event/aa-secular-sobriety-open-mixed-in-person-online/2029-01-30/
END:VEVENT
BEGIN:VEVENT
DTSTART;TZID=America/Denver:20290130T190000
DTEND;TZID=America/Denver:20290130T200000
DTSTAMP:20260424T081427
CREATED:20250513T055457Z
LAST-MODIFIED:20250513T055457Z
UID:10003832-1864494000-1864497600@recoverystlouis.org
SUMMARY:AA Burton’s Heroes Open -mixed In person/online
DESCRIPTION:
URL:https://recoverystlouis.org/event/aa-burtons-heroes-open-mixed-in-person-online/2029-01-30/
END:VEVENT
BEGIN:VEVENT
DTSTART;TZID=America/Denver:20290131T170000
DTEND;TZID=America/Denver:20290131T190000
DTSTAMP:20260424T081427
CREATED:20250513T054406Z
LAST-MODIFIED:20250513T054406Z
UID:10001752-1864573200-1864580400@recoverystlouis.org
SUMMARY:Private group
DESCRIPTION:
URL:https://recoverystlouis.org/event/private-group/2029-01-31/
END:VEVENT
BEGIN:VEVENT
DTSTART;TZID=America/Denver:20290201T100000
DTEND;TZID=America/Denver:20290201T111500
DTSTAMP:20260424T081427
CREATED:20250513T054602Z
LAST-MODIFIED:20250530T165143Z
UID:10002272-1864634400-1864638900@recoverystlouis.org
SUMMARY:AA Group 179 Open-mixed In person/online
DESCRIPTION:Zoom 598 988 635\nPW 241200
URL:https://recoverystlouis.org/event/aa-group-179-open-mixed-in-person-online/2029-02-01/
END:VEVENT
BEGIN:VEVENT
DTSTART;TZID=America/Denver:20290201T190000
DTEND;TZID=America/Denver:20290201T200000
DTSTAMP:20260424T081427
CREATED:20250513T055622Z
LAST-MODIFIED:20250513T055622Z
UID:10004352-1864666800-1864670400@recoverystlouis.org
SUMMARY:Recovery Dharma Independent/in person only Open-mixed
DESCRIPTION:Contact\nMichelle T\n(314) 495-8026
URL:https://recoverystlouis.org/event/recovery-dharma-independent-in-person-only-open-mixed/2029-02-01/
END:VEVENT
BEGIN:VEVENT
DTSTART;TZID=America/Denver:20290202T070500
DTEND;TZID=America/Denver:20290202T074500
DTSTAMP:20260424T081427
CREATED:20250513T055108Z
LAST-MODIFIED:20250513T055108Z
UID:10002792-1864710300-1864712700@recoverystlouis.org
SUMMARY:AA Closed/ Men only Primary Purpose Mens
DESCRIPTION:
URL:https://recoverystlouis.org/event/aa-closed-men-only-primary-purpose-mens/2029-02-02/
END:VEVENT
BEGIN:VEVENT
DTSTART;TZID=America/Denver:20290202T174500
DTEND;TZID=America/Denver:20290202T184500
DTSTAMP:20260424T081427
CREATED:20250513T055756Z
LAST-MODIFIED:20250513T055756Z
UID:10004872-1864748700-1864752300@recoverystlouis.org
SUMMARY:AA Group 413- happier Hour Women’s-Open In person/online
DESCRIPTION:Zoom 263 787 324\nPW 279425 \nContact\nLeigh H\n(314) 276-6953
URL:https://recoverystlouis.org/event/aa-group-413-happier-hour-womens-open-in-person-online/2029-02-02/
END:VEVENT
BEGIN:VEVENT
DTSTART;TZID=America/Denver:20290204T090000
DTEND;TZID=America/Denver:20290204T101500
DTSTAMP:20260424T081427
CREATED:20250428T191821Z
LAST-MODIFIED:20250512T070411Z
UID:10000195-1864890000-1864894500@recoverystlouis.org
SUMMARY:AA Group 255-FIVE AND DIME Closed-Mixed In person/online
DESCRIPTION:Zoom:845 2025 1856\nPW: 173321 \nContact\nMichael Mac\n314-249-8149
URL:https://recoverystlouis.org/event/lorem-ipsum/2029-02-04/
END:VEVENT
BEGIN:VEVENT
DTSTART;TZID=America/Denver:20290204T110000
DTEND;TZID=America/Denver:20290204T120000
DTSTAMP:20260424T081427
CREATED:20250513T055407Z
LAST-MODIFIED:20250513T055407Z
UID:10003312-1864897200-1864900800@recoverystlouis.org
SUMMARY:OA Sunday Recovery Open-mixed In person/online
DESCRIPTION:Zoom:264 689 861\nPW:066708 \nContact\nCathy K (314) 538-1331
URL:https://recoverystlouis.org/event/oa-sunday-recovery-open-mixed-in-person-online/2029-02-04/
END:VEVENT
END:VCALENDAR