BEGIN:VCALENDAR
VERSION:2.0
PRODID:-//Recovery St. Louis - ECPv6.15.17.1//NONSGML v1.0//EN
CALSCALE:GREGORIAN
METHOD:PUBLISH
X-WR-CALNAME:Recovery St. Louis
X-ORIGINAL-URL:https://recoverystlouis.org
X-WR-CALDESC:Events for Recovery St. Louis
REFRESH-INTERVAL;VALUE=DURATION:PT1H
X-Robots-Tag:noindex
X-PUBLISHED-TTL:PT1H
BEGIN:VTIMEZONE
TZID:America/Denver
BEGIN:DAYLIGHT
TZOFFSETFROM:-0700
TZOFFSETTO:-0600
TZNAME:MDT
DTSTART:20270314T090000
END:DAYLIGHT
BEGIN:STANDARD
TZOFFSETFROM:-0600
TZOFFSETTO:-0700
TZNAME:MST
DTSTART:20271107T080000
END:STANDARD
BEGIN:DAYLIGHT
TZOFFSETFROM:-0700
TZOFFSETTO:-0600
TZNAME:MDT
DTSTART:20280312T090000
END:DAYLIGHT
BEGIN:STANDARD
TZOFFSETFROM:-0600
TZOFFSETTO:-0700
TZNAME:MST
DTSTART:20281105T080000
END:STANDARD
BEGIN:DAYLIGHT
TZOFFSETFROM:-0700
TZOFFSETTO:-0600
TZNAME:MDT
DTSTART:20290311T090000
END:DAYLIGHT
BEGIN:STANDARD
TZOFFSETFROM:-0600
TZOFFSETTO:-0700
TZNAME:MST
DTSTART:20291104T080000
END:STANDARD
END:VTIMEZONE
BEGIN:VEVENT
DTSTART;TZID=America/Denver:20280206T090000
DTEND;TZID=America/Denver:20280206T101500
DTSTAMP:20260422T160842
CREATED:20250428T191821Z
LAST-MODIFIED:20250512T070411Z
UID:10000143-1833440400-1833444900@recoverystlouis.org
SUMMARY:AA Group 255-FIVE AND DIME Closed-Mixed In person/online
DESCRIPTION:Zoom:845 2025 1856\nPW: 173321 \nContact\nMichael Mac\n314-249-8149
URL:https://recoverystlouis.org/event/lorem-ipsum/2028-02-06/
END:VEVENT
BEGIN:VEVENT
DTSTART;TZID=America/Denver:20280206T110000
DTEND;TZID=America/Denver:20280206T120000
DTSTAMP:20260422T160842
CREATED:20250513T055407Z
LAST-MODIFIED:20250513T055407Z
UID:10003260-1833447600-1833451200@recoverystlouis.org
SUMMARY:OA Sunday Recovery Open-mixed In person/online
DESCRIPTION:Zoom:264 689 861\nPW:066708 \nContact\nCathy K (314) 538-1331
URL:https://recoverystlouis.org/event/oa-sunday-recovery-open-mixed-in-person-online/2028-02-06/
END:VEVENT
BEGIN:VEVENT
DTSTART;TZID=America/Denver:20280207T180000
DTEND;TZID=America/Denver:20280207T190000
DTSTAMP:20260422T160842
CREATED:20250512T071133Z
LAST-MODIFIED:20250512T071133Z
UID:10000663-1833559200-1833562800@recoverystlouis.org
SUMMARY:I AM RESPONSIBLE Women’s-closed In person-online
DESCRIPTION:Zoom:191 385 271\nPW: 085501 \nContact Clare P\n(314) 448-2101
URL:https://recoverystlouis.org/event/i-am-responsible-womens-closed-in-person-online/2028-02-07/
END:VEVENT
BEGIN:VEVENT
DTSTART;TZID=America/Denver:20280208T173000
DTEND;TZID=America/Denver:20280208T183000
DTSTAMP:20260422T160842
CREATED:20250513T054121Z
LAST-MODIFIED:20250513T054121Z
UID:10001181-1833643800-1833647400@recoverystlouis.org
SUMMARY:AA Secular Sobriety Open-mixed In person/online
DESCRIPTION:Zoom: 343 811 2984\nPW 770507
URL:https://recoverystlouis.org/event/aa-secular-sobriety-open-mixed-in-person-online/2028-02-08/
END:VEVENT
BEGIN:VEVENT
DTSTART;TZID=America/Denver:20280208T190000
DTEND;TZID=America/Denver:20280208T200000
DTSTAMP:20260422T160842
CREATED:20250513T055457Z
LAST-MODIFIED:20250513T055457Z
UID:10003781-1833649200-1833652800@recoverystlouis.org
SUMMARY:AA Burton’s Heroes Open -mixed In person/online
DESCRIPTION:
URL:https://recoverystlouis.org/event/aa-burtons-heroes-open-mixed-in-person-online/2028-02-08/
END:VEVENT
BEGIN:VEVENT
DTSTART;TZID=America/Denver:20280209T170000
DTEND;TZID=America/Denver:20280209T190000
DTSTAMP:20260422T160842
CREATED:20250513T054406Z
LAST-MODIFIED:20250513T054406Z
UID:10001701-1833728400-1833735600@recoverystlouis.org
SUMMARY:Private group
DESCRIPTION:
URL:https://recoverystlouis.org/event/private-group/2028-02-09/
END:VEVENT
BEGIN:VEVENT
DTSTART;TZID=America/Denver:20280210T100000
DTEND;TZID=America/Denver:20280210T111500
DTSTAMP:20260422T160842
CREATED:20250513T054602Z
LAST-MODIFIED:20250530T165143Z
UID:10002221-1833789600-1833794100@recoverystlouis.org
SUMMARY:AA Group 179 Open-mixed In person/online
DESCRIPTION:Zoom 598 988 635\nPW 241200
URL:https://recoverystlouis.org/event/aa-group-179-open-mixed-in-person-online/2028-02-10/
END:VEVENT
BEGIN:VEVENT
DTSTART;TZID=America/Denver:20280210T190000
DTEND;TZID=America/Denver:20280210T200000
DTSTAMP:20260422T160842
CREATED:20250513T055622Z
LAST-MODIFIED:20250513T055622Z
UID:10004301-1833822000-1833825600@recoverystlouis.org
SUMMARY:Recovery Dharma Independent/in person only Open-mixed
DESCRIPTION:Contact\nMichelle T\n(314) 495-8026
URL:https://recoverystlouis.org/event/recovery-dharma-independent-in-person-only-open-mixed/2028-02-10/
END:VEVENT
BEGIN:VEVENT
DTSTART;TZID=America/Denver:20280211T070500
DTEND;TZID=America/Denver:20280211T074500
DTSTAMP:20260422T160842
CREATED:20250513T055108Z
LAST-MODIFIED:20250513T055108Z
UID:10002741-1833865500-1833867900@recoverystlouis.org
SUMMARY:AA Closed/ Men only Primary Purpose Mens
DESCRIPTION:
URL:https://recoverystlouis.org/event/aa-closed-men-only-primary-purpose-mens/2028-02-11/
END:VEVENT
BEGIN:VEVENT
DTSTART;TZID=America/Denver:20280211T174500
DTEND;TZID=America/Denver:20280211T184500
DTSTAMP:20260422T160842
CREATED:20250513T055756Z
LAST-MODIFIED:20250513T055756Z
UID:10004821-1833903900-1833907500@recoverystlouis.org
SUMMARY:AA Group 413- happier Hour Women’s-Open In person/online
DESCRIPTION:Zoom 263 787 324\nPW 279425 \nContact\nLeigh H\n(314) 276-6953
URL:https://recoverystlouis.org/event/aa-group-413-happier-hour-womens-open-in-person-online/2028-02-11/
END:VEVENT
BEGIN:VEVENT
DTSTART;TZID=America/Denver:20280213T090000
DTEND;TZID=America/Denver:20280213T101500
DTSTAMP:20260422T160842
CREATED:20250428T191821Z
LAST-MODIFIED:20250512T070411Z
UID:10000144-1834045200-1834049700@recoverystlouis.org
SUMMARY:AA Group 255-FIVE AND DIME Closed-Mixed In person/online
DESCRIPTION:Zoom:845 2025 1856\nPW: 173321 \nContact\nMichael Mac\n314-249-8149
URL:https://recoverystlouis.org/event/lorem-ipsum/2028-02-13/
END:VEVENT
BEGIN:VEVENT
DTSTART;TZID=America/Denver:20280213T110000
DTEND;TZID=America/Denver:20280213T120000
DTSTAMP:20260422T160842
CREATED:20250513T055407Z
LAST-MODIFIED:20250513T055407Z
UID:10003261-1834052400-1834056000@recoverystlouis.org
SUMMARY:OA Sunday Recovery Open-mixed In person/online
DESCRIPTION:Zoom:264 689 861\nPW:066708 \nContact\nCathy K (314) 538-1331
URL:https://recoverystlouis.org/event/oa-sunday-recovery-open-mixed-in-person-online/2028-02-13/
END:VEVENT
BEGIN:VEVENT
DTSTART;TZID=America/Denver:20280214T180000
DTEND;TZID=America/Denver:20280214T190000
DTSTAMP:20260422T160842
CREATED:20250512T071133Z
LAST-MODIFIED:20250512T071133Z
UID:10000664-1834164000-1834167600@recoverystlouis.org
SUMMARY:I AM RESPONSIBLE Women’s-closed In person-online
DESCRIPTION:Zoom:191 385 271\nPW: 085501 \nContact Clare P\n(314) 448-2101
URL:https://recoverystlouis.org/event/i-am-responsible-womens-closed-in-person-online/2028-02-14/
END:VEVENT
BEGIN:VEVENT
DTSTART;TZID=America/Denver:20280215T173000
DTEND;TZID=America/Denver:20280215T183000
DTSTAMP:20260422T160842
CREATED:20250513T054121Z
LAST-MODIFIED:20250513T054121Z
UID:10001182-1834248600-1834252200@recoverystlouis.org
SUMMARY:AA Secular Sobriety Open-mixed In person/online
DESCRIPTION:Zoom: 343 811 2984\nPW 770507
URL:https://recoverystlouis.org/event/aa-secular-sobriety-open-mixed-in-person-online/2028-02-15/
END:VEVENT
BEGIN:VEVENT
DTSTART;TZID=America/Denver:20280215T190000
DTEND;TZID=America/Denver:20280215T200000
DTSTAMP:20260422T160842
CREATED:20250513T055457Z
LAST-MODIFIED:20250513T055457Z
UID:10003782-1834254000-1834257600@recoverystlouis.org
SUMMARY:AA Burton’s Heroes Open -mixed In person/online
DESCRIPTION:
URL:https://recoverystlouis.org/event/aa-burtons-heroes-open-mixed-in-person-online/2028-02-15/
END:VEVENT
BEGIN:VEVENT
DTSTART;TZID=America/Denver:20280216T170000
DTEND;TZID=America/Denver:20280216T190000
DTSTAMP:20260422T160842
CREATED:20250513T054406Z
LAST-MODIFIED:20250513T054406Z
UID:10001702-1834333200-1834340400@recoverystlouis.org
SUMMARY:Private group
DESCRIPTION:
URL:https://recoverystlouis.org/event/private-group/2028-02-16/
END:VEVENT
BEGIN:VEVENT
DTSTART;TZID=America/Denver:20280217T100000
DTEND;TZID=America/Denver:20280217T111500
DTSTAMP:20260422T160842
CREATED:20250513T054602Z
LAST-MODIFIED:20250530T165143Z
UID:10002222-1834394400-1834398900@recoverystlouis.org
SUMMARY:AA Group 179 Open-mixed In person/online
DESCRIPTION:Zoom 598 988 635\nPW 241200
URL:https://recoverystlouis.org/event/aa-group-179-open-mixed-in-person-online/2028-02-17/
END:VEVENT
BEGIN:VEVENT
DTSTART;TZID=America/Denver:20280217T190000
DTEND;TZID=America/Denver:20280217T200000
DTSTAMP:20260422T160842
CREATED:20250513T055622Z
LAST-MODIFIED:20250513T055622Z
UID:10004302-1834426800-1834430400@recoverystlouis.org
SUMMARY:Recovery Dharma Independent/in person only Open-mixed
DESCRIPTION:Contact\nMichelle T\n(314) 495-8026
URL:https://recoverystlouis.org/event/recovery-dharma-independent-in-person-only-open-mixed/2028-02-17/
END:VEVENT
BEGIN:VEVENT
DTSTART;TZID=America/Denver:20280218T070500
DTEND;TZID=America/Denver:20280218T074500
DTSTAMP:20260422T160842
CREATED:20250513T055108Z
LAST-MODIFIED:20250513T055108Z
UID:10002742-1834470300-1834472700@recoverystlouis.org
SUMMARY:AA Closed/ Men only Primary Purpose Mens
DESCRIPTION:
URL:https://recoverystlouis.org/event/aa-closed-men-only-primary-purpose-mens/2028-02-18/
END:VEVENT
BEGIN:VEVENT
DTSTART;TZID=America/Denver:20280218T174500
DTEND;TZID=America/Denver:20280218T184500
DTSTAMP:20260422T160842
CREATED:20250513T055756Z
LAST-MODIFIED:20250513T055756Z
UID:10004822-1834508700-1834512300@recoverystlouis.org
SUMMARY:AA Group 413- happier Hour Women’s-Open In person/online
DESCRIPTION:Zoom 263 787 324\nPW 279425 \nContact\nLeigh H\n(314) 276-6953
URL:https://recoverystlouis.org/event/aa-group-413-happier-hour-womens-open-in-person-online/2028-02-18/
END:VEVENT
BEGIN:VEVENT
DTSTART;TZID=America/Denver:20280220T090000
DTEND;TZID=America/Denver:20280220T101500
DTSTAMP:20260422T160842
CREATED:20250428T191821Z
LAST-MODIFIED:20250512T070411Z
UID:10000145-1834650000-1834654500@recoverystlouis.org
SUMMARY:AA Group 255-FIVE AND DIME Closed-Mixed In person/online
DESCRIPTION:Zoom:845 2025 1856\nPW: 173321 \nContact\nMichael Mac\n314-249-8149
URL:https://recoverystlouis.org/event/lorem-ipsum/2028-02-20/
END:VEVENT
BEGIN:VEVENT
DTSTART;TZID=America/Denver:20280220T110000
DTEND;TZID=America/Denver:20280220T120000
DTSTAMP:20260422T160842
CREATED:20250513T055407Z
LAST-MODIFIED:20250513T055407Z
UID:10003262-1834657200-1834660800@recoverystlouis.org
SUMMARY:OA Sunday Recovery Open-mixed In person/online
DESCRIPTION:Zoom:264 689 861\nPW:066708 \nContact\nCathy K (314) 538-1331
URL:https://recoverystlouis.org/event/oa-sunday-recovery-open-mixed-in-person-online/2028-02-20/
END:VEVENT
BEGIN:VEVENT
DTSTART;TZID=America/Denver:20280221T180000
DTEND;TZID=America/Denver:20280221T190000
DTSTAMP:20260422T160842
CREATED:20250512T071133Z
LAST-MODIFIED:20250512T071133Z
UID:10000665-1834768800-1834772400@recoverystlouis.org
SUMMARY:I AM RESPONSIBLE Women’s-closed In person-online
DESCRIPTION:Zoom:191 385 271\nPW: 085501 \nContact Clare P\n(314) 448-2101
URL:https://recoverystlouis.org/event/i-am-responsible-womens-closed-in-person-online/2028-02-21/
END:VEVENT
BEGIN:VEVENT
DTSTART;TZID=America/Denver:20280222T173000
DTEND;TZID=America/Denver:20280222T183000
DTSTAMP:20260422T160842
CREATED:20250513T054121Z
LAST-MODIFIED:20250513T054121Z
UID:10001183-1834853400-1834857000@recoverystlouis.org
SUMMARY:AA Secular Sobriety Open-mixed In person/online
DESCRIPTION:Zoom: 343 811 2984\nPW 770507
URL:https://recoverystlouis.org/event/aa-secular-sobriety-open-mixed-in-person-online/2028-02-22/
END:VEVENT
BEGIN:VEVENT
DTSTART;TZID=America/Denver:20280222T190000
DTEND;TZID=America/Denver:20280222T200000
DTSTAMP:20260422T160842
CREATED:20250513T055457Z
LAST-MODIFIED:20250513T055457Z
UID:10003783-1834858800-1834862400@recoverystlouis.org
SUMMARY:AA Burton’s Heroes Open -mixed In person/online
DESCRIPTION:
URL:https://recoverystlouis.org/event/aa-burtons-heroes-open-mixed-in-person-online/2028-02-22/
END:VEVENT
BEGIN:VEVENT
DTSTART;TZID=America/Denver:20280223T170000
DTEND;TZID=America/Denver:20280223T190000
DTSTAMP:20260422T160842
CREATED:20250513T054406Z
LAST-MODIFIED:20250513T054406Z
UID:10001703-1834938000-1834945200@recoverystlouis.org
SUMMARY:Private group
DESCRIPTION:
URL:https://recoverystlouis.org/event/private-group/2028-02-23/
END:VEVENT
BEGIN:VEVENT
DTSTART;TZID=America/Denver:20280224T100000
DTEND;TZID=America/Denver:20280224T111500
DTSTAMP:20260422T160842
CREATED:20250513T054602Z
LAST-MODIFIED:20250530T165143Z
UID:10002223-1834999200-1835003700@recoverystlouis.org
SUMMARY:AA Group 179 Open-mixed In person/online
DESCRIPTION:Zoom 598 988 635\nPW 241200
URL:https://recoverystlouis.org/event/aa-group-179-open-mixed-in-person-online/2028-02-24/
END:VEVENT
BEGIN:VEVENT
DTSTART;TZID=America/Denver:20280224T190000
DTEND;TZID=America/Denver:20280224T200000
DTSTAMP:20260422T160842
CREATED:20250513T055622Z
LAST-MODIFIED:20250513T055622Z
UID:10004303-1835031600-1835035200@recoverystlouis.org
SUMMARY:Recovery Dharma Independent/in person only Open-mixed
DESCRIPTION:Contact\nMichelle T\n(314) 495-8026
URL:https://recoverystlouis.org/event/recovery-dharma-independent-in-person-only-open-mixed/2028-02-24/
END:VEVENT
BEGIN:VEVENT
DTSTART;TZID=America/Denver:20280225T070500
DTEND;TZID=America/Denver:20280225T074500
DTSTAMP:20260422T160842
CREATED:20250513T055108Z
LAST-MODIFIED:20250513T055108Z
UID:10002743-1835075100-1835077500@recoverystlouis.org
SUMMARY:AA Closed/ Men only Primary Purpose Mens
DESCRIPTION:
URL:https://recoverystlouis.org/event/aa-closed-men-only-primary-purpose-mens/2028-02-25/
END:VEVENT
BEGIN:VEVENT
DTSTART;TZID=America/Denver:20280225T174500
DTEND;TZID=America/Denver:20280225T184500
DTSTAMP:20260422T160842
CREATED:20250513T055756Z
LAST-MODIFIED:20250513T055756Z
UID:10004823-1835113500-1835117100@recoverystlouis.org
SUMMARY:AA Group 413- happier Hour Women’s-Open In person/online
DESCRIPTION:Zoom 263 787 324\nPW 279425 \nContact\nLeigh H\n(314) 276-6953
URL:https://recoverystlouis.org/event/aa-group-413-happier-hour-womens-open-in-person-online/2028-02-25/
END:VEVENT
END:VCALENDAR