BEGIN:VCALENDAR
VERSION:2.0
PRODID:-//Recovery St. Louis - ECPv6.15.17.1//NONSGML v1.0//EN
CALSCALE:GREGORIAN
METHOD:PUBLISH
X-WR-CALNAME:Recovery St. Louis
X-ORIGINAL-URL:https://recoverystlouis.org
X-WR-CALDESC:Events for Recovery St. Louis
REFRESH-INTERVAL;VALUE=DURATION:PT1H
X-Robots-Tag:noindex
X-PUBLISHED-TTL:PT1H
BEGIN:VTIMEZONE
TZID:America/Denver
BEGIN:DAYLIGHT
TZOFFSETFROM:-0700
TZOFFSETTO:-0600
TZNAME:MDT
DTSTART:20250309T090000
END:DAYLIGHT
BEGIN:STANDARD
TZOFFSETFROM:-0600
TZOFFSETTO:-0700
TZNAME:MST
DTSTART:20251102T080000
END:STANDARD
BEGIN:DAYLIGHT
TZOFFSETFROM:-0700
TZOFFSETTO:-0600
TZNAME:MDT
DTSTART:20260308T090000
END:DAYLIGHT
BEGIN:STANDARD
TZOFFSETFROM:-0600
TZOFFSETTO:-0700
TZNAME:MST
DTSTART:20261101T080000
END:STANDARD
BEGIN:DAYLIGHT
TZOFFSETFROM:-0700
TZOFFSETTO:-0600
TZNAME:MDT
DTSTART:20270314T090000
END:DAYLIGHT
BEGIN:STANDARD
TZOFFSETFROM:-0600
TZOFFSETTO:-0700
TZNAME:MST
DTSTART:20271107T080000
END:STANDARD
END:VTIMEZONE
BEGIN:VEVENT
DTSTART;TZID=America/Denver:20260723T190000
DTEND;TZID=America/Denver:20260723T200000
DTSTAMP:20260420T221929
CREATED:20250513T055622Z
LAST-MODIFIED:20250513T055622Z
UID:10004220-1784833200-1784836800@recoverystlouis.org
SUMMARY:Recovery Dharma Independent/in person only Open-mixed
DESCRIPTION:Contact\nMichelle T\n(314) 495-8026
URL:https://recoverystlouis.org/event/recovery-dharma-independent-in-person-only-open-mixed/2026-07-23/
END:VEVENT
BEGIN:VEVENT
DTSTART;TZID=America/Denver:20260724T070500
DTEND;TZID=America/Denver:20260724T074500
DTSTAMP:20260420T221929
CREATED:20250513T055108Z
LAST-MODIFIED:20250513T055108Z
UID:10002660-1784876700-1784879100@recoverystlouis.org
SUMMARY:AA Closed/ Men only Primary Purpose Mens
DESCRIPTION:
URL:https://recoverystlouis.org/event/aa-closed-men-only-primary-purpose-mens/2026-07-24/
END:VEVENT
BEGIN:VEVENT
DTSTART;TZID=America/Denver:20260724T174500
DTEND;TZID=America/Denver:20260724T184500
DTSTAMP:20260420T221929
CREATED:20250513T055756Z
LAST-MODIFIED:20250513T055756Z
UID:10004740-1784915100-1784918700@recoverystlouis.org
SUMMARY:AA Group 413- happier Hour Women’s-Open In person/online
DESCRIPTION:Zoom 263 787 324\nPW 279425 \nContact\nLeigh H\n(314) 276-6953
URL:https://recoverystlouis.org/event/aa-group-413-happier-hour-womens-open-in-person-online/2026-07-24/
END:VEVENT
BEGIN:VEVENT
DTSTART;TZID=America/Denver:20260726T090000
DTEND;TZID=America/Denver:20260726T101500
DTSTAMP:20260420T221929
CREATED:20250428T191821Z
LAST-MODIFIED:20250512T070411Z
UID:10000063-1785056400-1785060900@recoverystlouis.org
SUMMARY:AA Group 255-FIVE AND DIME Closed-Mixed In person/online
DESCRIPTION:Zoom:845 2025 1856\nPW: 173321 \nContact\nMichael Mac\n314-249-8149
URL:https://recoverystlouis.org/event/lorem-ipsum/2026-07-26/
END:VEVENT
BEGIN:VEVENT
DTSTART;TZID=America/Denver:20260726T110000
DTEND;TZID=America/Denver:20260726T120000
DTSTAMP:20260420T221929
CREATED:20250513T055407Z
LAST-MODIFIED:20250513T055407Z
UID:10003180-1785063600-1785067200@recoverystlouis.org
SUMMARY:OA Sunday Recovery Open-mixed In person/online
DESCRIPTION:Zoom:264 689 861\nPW:066708 \nContact\nCathy K (314) 538-1331
URL:https://recoverystlouis.org/event/oa-sunday-recovery-open-mixed-in-person-online/2026-07-26/
END:VEVENT
BEGIN:VEVENT
DTSTART;TZID=America/Denver:20260727T180000
DTEND;TZID=America/Denver:20260727T190000
DTSTAMP:20260420T221929
CREATED:20250512T071133Z
LAST-MODIFIED:20250512T071133Z
UID:10000583-1785175200-1785178800@recoverystlouis.org
SUMMARY:I AM RESPONSIBLE Women’s-closed In person-online
DESCRIPTION:Zoom:191 385 271\nPW: 085501 \nContact Clare P\n(314) 448-2101
URL:https://recoverystlouis.org/event/i-am-responsible-womens-closed-in-person-online/2026-07-27/
END:VEVENT
BEGIN:VEVENT
DTSTART;TZID=America/Denver:20260728T173000
DTEND;TZID=America/Denver:20260728T183000
DTSTAMP:20260420T221929
CREATED:20250513T054121Z
LAST-MODIFIED:20250513T054121Z
UID:10001101-1785259800-1785263400@recoverystlouis.org
SUMMARY:AA Secular Sobriety Open-mixed In person/online
DESCRIPTION:Zoom: 343 811 2984\nPW 770507
URL:https://recoverystlouis.org/event/aa-secular-sobriety-open-mixed-in-person-online/2026-07-28/
END:VEVENT
BEGIN:VEVENT
DTSTART;TZID=America/Denver:20260728T190000
DTEND;TZID=America/Denver:20260728T200000
DTSTAMP:20260420T221929
CREATED:20250513T055457Z
LAST-MODIFIED:20250513T055457Z
UID:10003701-1785265200-1785268800@recoverystlouis.org
SUMMARY:AA Burton’s Heroes Open -mixed In person/online
DESCRIPTION:
URL:https://recoverystlouis.org/event/aa-burtons-heroes-open-mixed-in-person-online/2026-07-28/
END:VEVENT
BEGIN:VEVENT
DTSTART;TZID=America/Denver:20260729T170000
DTEND;TZID=America/Denver:20260729T190000
DTSTAMP:20260420T221929
CREATED:20250513T054406Z
LAST-MODIFIED:20250513T054406Z
UID:10001621-1785344400-1785351600@recoverystlouis.org
SUMMARY:Private group
DESCRIPTION:
URL:https://recoverystlouis.org/event/private-group/2026-07-29/
END:VEVENT
BEGIN:VEVENT
DTSTART;TZID=America/Denver:20260730T100000
DTEND;TZID=America/Denver:20260730T111500
DTSTAMP:20260420T221929
CREATED:20250513T054602Z
LAST-MODIFIED:20250530T165143Z
UID:10002141-1785405600-1785410100@recoverystlouis.org
SUMMARY:AA Group 179 Open-mixed In person/online
DESCRIPTION:Zoom 598 988 635\nPW 241200
URL:https://recoverystlouis.org/event/aa-group-179-open-mixed-in-person-online/2026-07-30/
END:VEVENT
BEGIN:VEVENT
DTSTART;TZID=America/Denver:20260730T190000
DTEND;TZID=America/Denver:20260730T200000
DTSTAMP:20260420T221929
CREATED:20250513T055622Z
LAST-MODIFIED:20250513T055622Z
UID:10004221-1785438000-1785441600@recoverystlouis.org
SUMMARY:Recovery Dharma Independent/in person only Open-mixed
DESCRIPTION:Contact\nMichelle T\n(314) 495-8026
URL:https://recoverystlouis.org/event/recovery-dharma-independent-in-person-only-open-mixed/2026-07-30/
END:VEVENT
BEGIN:VEVENT
DTSTART;TZID=America/Denver:20260731T070500
DTEND;TZID=America/Denver:20260731T074500
DTSTAMP:20260420T221929
CREATED:20250513T055108Z
LAST-MODIFIED:20250513T055108Z
UID:10002661-1785481500-1785483900@recoverystlouis.org
SUMMARY:AA Closed/ Men only Primary Purpose Mens
DESCRIPTION:
URL:https://recoverystlouis.org/event/aa-closed-men-only-primary-purpose-mens/2026-07-31/
END:VEVENT
BEGIN:VEVENT
DTSTART;TZID=America/Denver:20260731T174500
DTEND;TZID=America/Denver:20260731T184500
DTSTAMP:20260420T221929
CREATED:20250513T055756Z
LAST-MODIFIED:20250513T055756Z
UID:10004741-1785519900-1785523500@recoverystlouis.org
SUMMARY:AA Group 413- happier Hour Women’s-Open In person/online
DESCRIPTION:Zoom 263 787 324\nPW 279425 \nContact\nLeigh H\n(314) 276-6953
URL:https://recoverystlouis.org/event/aa-group-413-happier-hour-womens-open-in-person-online/2026-07-31/
END:VEVENT
BEGIN:VEVENT
DTSTART;TZID=America/Denver:20260802T090000
DTEND;TZID=America/Denver:20260802T101500
DTSTAMP:20260420T221929
CREATED:20250428T191821Z
LAST-MODIFIED:20250512T070411Z
UID:10000064-1785661200-1785665700@recoverystlouis.org
SUMMARY:AA Group 255-FIVE AND DIME Closed-Mixed In person/online
DESCRIPTION:Zoom:845 2025 1856\nPW: 173321 \nContact\nMichael Mac\n314-249-8149
URL:https://recoverystlouis.org/event/lorem-ipsum/2026-08-02/
END:VEVENT
BEGIN:VEVENT
DTSTART;TZID=America/Denver:20260802T110000
DTEND;TZID=America/Denver:20260802T120000
DTSTAMP:20260420T221929
CREATED:20250513T055407Z
LAST-MODIFIED:20250513T055407Z
UID:10003181-1785668400-1785672000@recoverystlouis.org
SUMMARY:OA Sunday Recovery Open-mixed In person/online
DESCRIPTION:Zoom:264 689 861\nPW:066708 \nContact\nCathy K (314) 538-1331
URL:https://recoverystlouis.org/event/oa-sunday-recovery-open-mixed-in-person-online/2026-08-02/
END:VEVENT
BEGIN:VEVENT
DTSTART;TZID=America/Denver:20260803T180000
DTEND;TZID=America/Denver:20260803T190000
DTSTAMP:20260420T221929
CREATED:20250512T071133Z
LAST-MODIFIED:20250512T071133Z
UID:10000584-1785780000-1785783600@recoverystlouis.org
SUMMARY:I AM RESPONSIBLE Women’s-closed In person-online
DESCRIPTION:Zoom:191 385 271\nPW: 085501 \nContact Clare P\n(314) 448-2101
URL:https://recoverystlouis.org/event/i-am-responsible-womens-closed-in-person-online/2026-08-03/
END:VEVENT
BEGIN:VEVENT
DTSTART;TZID=America/Denver:20260804T173000
DTEND;TZID=America/Denver:20260804T183000
DTSTAMP:20260420T221929
CREATED:20250513T054121Z
LAST-MODIFIED:20250513T054121Z
UID:10001102-1785864600-1785868200@recoverystlouis.org
SUMMARY:AA Secular Sobriety Open-mixed In person/online
DESCRIPTION:Zoom: 343 811 2984\nPW 770507
URL:https://recoverystlouis.org/event/aa-secular-sobriety-open-mixed-in-person-online/2026-08-04/
END:VEVENT
BEGIN:VEVENT
DTSTART;TZID=America/Denver:20260804T190000
DTEND;TZID=America/Denver:20260804T200000
DTSTAMP:20260420T221929
CREATED:20250513T055457Z
LAST-MODIFIED:20250513T055457Z
UID:10003702-1785870000-1785873600@recoverystlouis.org
SUMMARY:AA Burton’s Heroes Open -mixed In person/online
DESCRIPTION:
URL:https://recoverystlouis.org/event/aa-burtons-heroes-open-mixed-in-person-online/2026-08-04/
END:VEVENT
BEGIN:VEVENT
DTSTART;TZID=America/Denver:20260805T170000
DTEND;TZID=America/Denver:20260805T190000
DTSTAMP:20260420T221929
CREATED:20250513T054406Z
LAST-MODIFIED:20250513T054406Z
UID:10001622-1785949200-1785956400@recoverystlouis.org
SUMMARY:Private group
DESCRIPTION:
URL:https://recoverystlouis.org/event/private-group/2026-08-05/
END:VEVENT
BEGIN:VEVENT
DTSTART;TZID=America/Denver:20260806T100000
DTEND;TZID=America/Denver:20260806T111500
DTSTAMP:20260420T221929
CREATED:20250513T054602Z
LAST-MODIFIED:20250530T165143Z
UID:10002142-1786010400-1786014900@recoverystlouis.org
SUMMARY:AA Group 179 Open-mixed In person/online
DESCRIPTION:Zoom 598 988 635\nPW 241200
URL:https://recoverystlouis.org/event/aa-group-179-open-mixed-in-person-online/2026-08-06/
END:VEVENT
BEGIN:VEVENT
DTSTART;TZID=America/Denver:20260806T190000
DTEND;TZID=America/Denver:20260806T200000
DTSTAMP:20260420T221929
CREATED:20250513T055622Z
LAST-MODIFIED:20250513T055622Z
UID:10004222-1786042800-1786046400@recoverystlouis.org
SUMMARY:Recovery Dharma Independent/in person only Open-mixed
DESCRIPTION:Contact\nMichelle T\n(314) 495-8026
URL:https://recoverystlouis.org/event/recovery-dharma-independent-in-person-only-open-mixed/2026-08-06/
END:VEVENT
BEGIN:VEVENT
DTSTART;TZID=America/Denver:20260807T070500
DTEND;TZID=America/Denver:20260807T074500
DTSTAMP:20260420T221929
CREATED:20250513T055108Z
LAST-MODIFIED:20250513T055108Z
UID:10002662-1786086300-1786088700@recoverystlouis.org
SUMMARY:AA Closed/ Men only Primary Purpose Mens
DESCRIPTION:
URL:https://recoverystlouis.org/event/aa-closed-men-only-primary-purpose-mens/2026-08-07/
END:VEVENT
BEGIN:VEVENT
DTSTART;TZID=America/Denver:20260807T174500
DTEND;TZID=America/Denver:20260807T184500
DTSTAMP:20260420T221929
CREATED:20250513T055756Z
LAST-MODIFIED:20250513T055756Z
UID:10004742-1786124700-1786128300@recoverystlouis.org
SUMMARY:AA Group 413- happier Hour Women’s-Open In person/online
DESCRIPTION:Zoom 263 787 324\nPW 279425 \nContact\nLeigh H\n(314) 276-6953
URL:https://recoverystlouis.org/event/aa-group-413-happier-hour-womens-open-in-person-online/2026-08-07/
END:VEVENT
BEGIN:VEVENT
DTSTART;TZID=America/Denver:20260809T090000
DTEND;TZID=America/Denver:20260809T101500
DTSTAMP:20260420T221929
CREATED:20250428T191821Z
LAST-MODIFIED:20250512T070411Z
UID:10000065-1786266000-1786270500@recoverystlouis.org
SUMMARY:AA Group 255-FIVE AND DIME Closed-Mixed In person/online
DESCRIPTION:Zoom:845 2025 1856\nPW: 173321 \nContact\nMichael Mac\n314-249-8149
URL:https://recoverystlouis.org/event/lorem-ipsum/2026-08-09/
END:VEVENT
BEGIN:VEVENT
DTSTART;TZID=America/Denver:20260809T110000
DTEND;TZID=America/Denver:20260809T120000
DTSTAMP:20260420T221929
CREATED:20250513T055407Z
LAST-MODIFIED:20250513T055407Z
UID:10003182-1786273200-1786276800@recoverystlouis.org
SUMMARY:OA Sunday Recovery Open-mixed In person/online
DESCRIPTION:Zoom:264 689 861\nPW:066708 \nContact\nCathy K (314) 538-1331
URL:https://recoverystlouis.org/event/oa-sunday-recovery-open-mixed-in-person-online/2026-08-09/
END:VEVENT
BEGIN:VEVENT
DTSTART;TZID=America/Denver:20260810T180000
DTEND;TZID=America/Denver:20260810T190000
DTSTAMP:20260420T221929
CREATED:20250512T071133Z
LAST-MODIFIED:20250512T071133Z
UID:10000585-1786384800-1786388400@recoverystlouis.org
SUMMARY:I AM RESPONSIBLE Women’s-closed In person-online
DESCRIPTION:Zoom:191 385 271\nPW: 085501 \nContact Clare P\n(314) 448-2101
URL:https://recoverystlouis.org/event/i-am-responsible-womens-closed-in-person-online/2026-08-10/
END:VEVENT
BEGIN:VEVENT
DTSTART;TZID=America/Denver:20260811T173000
DTEND;TZID=America/Denver:20260811T183000
DTSTAMP:20260420T221929
CREATED:20250513T054121Z
LAST-MODIFIED:20250513T054121Z
UID:10001103-1786469400-1786473000@recoverystlouis.org
SUMMARY:AA Secular Sobriety Open-mixed In person/online
DESCRIPTION:Zoom: 343 811 2984\nPW 770507
URL:https://recoverystlouis.org/event/aa-secular-sobriety-open-mixed-in-person-online/2026-08-11/
END:VEVENT
BEGIN:VEVENT
DTSTART;TZID=America/Denver:20260811T190000
DTEND;TZID=America/Denver:20260811T200000
DTSTAMP:20260420T221929
CREATED:20250513T055457Z
LAST-MODIFIED:20250513T055457Z
UID:10003703-1786474800-1786478400@recoverystlouis.org
SUMMARY:AA Burton’s Heroes Open -mixed In person/online
DESCRIPTION:
URL:https://recoverystlouis.org/event/aa-burtons-heroes-open-mixed-in-person-online/2026-08-11/
END:VEVENT
BEGIN:VEVENT
DTSTART;TZID=America/Denver:20260812T170000
DTEND;TZID=America/Denver:20260812T190000
DTSTAMP:20260420T221929
CREATED:20250513T054406Z
LAST-MODIFIED:20250513T054406Z
UID:10001623-1786554000-1786561200@recoverystlouis.org
SUMMARY:Private group
DESCRIPTION:
URL:https://recoverystlouis.org/event/private-group/2026-08-12/
END:VEVENT
BEGIN:VEVENT
DTSTART;TZID=America/Denver:20260813T100000
DTEND;TZID=America/Denver:20260813T111500
DTSTAMP:20260420T221929
CREATED:20250513T054602Z
LAST-MODIFIED:20250530T165143Z
UID:10002143-1786615200-1786619700@recoverystlouis.org
SUMMARY:AA Group 179 Open-mixed In person/online
DESCRIPTION:Zoom 598 988 635\nPW 241200
URL:https://recoverystlouis.org/event/aa-group-179-open-mixed-in-person-online/2026-08-13/
END:VEVENT
END:VCALENDAR