BEGIN:VCALENDAR
VERSION:2.0
PRODID:-//Recovery St. Louis - ECPv6.15.17.1//NONSGML v1.0//EN
CALSCALE:GREGORIAN
METHOD:PUBLISH
X-WR-CALNAME:Recovery St. Louis
X-ORIGINAL-URL:https://recoverystlouis.org
X-WR-CALDESC:Events for Recovery St. Louis
REFRESH-INTERVAL;VALUE=DURATION:PT1H
X-Robots-Tag:noindex
X-PUBLISHED-TTL:PT1H
BEGIN:VTIMEZONE
TZID:America/Denver
BEGIN:DAYLIGHT
TZOFFSETFROM:-0700
TZOFFSETTO:-0600
TZNAME:MDT
DTSTART:20250309T090000
END:DAYLIGHT
BEGIN:STANDARD
TZOFFSETFROM:-0600
TZOFFSETTO:-0700
TZNAME:MST
DTSTART:20251102T080000
END:STANDARD
BEGIN:DAYLIGHT
TZOFFSETFROM:-0700
TZOFFSETTO:-0600
TZNAME:MDT
DTSTART:20260308T090000
END:DAYLIGHT
BEGIN:STANDARD
TZOFFSETFROM:-0600
TZOFFSETTO:-0700
TZNAME:MST
DTSTART:20261101T080000
END:STANDARD
BEGIN:DAYLIGHT
TZOFFSETFROM:-0700
TZOFFSETTO:-0600
TZNAME:MDT
DTSTART:20270314T090000
END:DAYLIGHT
BEGIN:STANDARD
TZOFFSETFROM:-0600
TZOFFSETTO:-0700
TZNAME:MST
DTSTART:20271107T080000
END:STANDARD
END:VTIMEZONE
BEGIN:VEVENT
DTSTART;TZID=America/Denver:20260628T090000
DTEND;TZID=America/Denver:20260628T101500
DTSTAMP:20260420T221623
CREATED:20250428T191821Z
LAST-MODIFIED:20250512T070411Z
UID:10000059-1782637200-1782641700@recoverystlouis.org
SUMMARY:AA Group 255-FIVE AND DIME Closed-Mixed In person/online
DESCRIPTION:Zoom:845 2025 1856\nPW: 173321 \nContact\nMichael Mac\n314-249-8149
URL:https://recoverystlouis.org/event/lorem-ipsum/2026-06-28/
END:VEVENT
BEGIN:VEVENT
DTSTART;TZID=America/Denver:20260628T110000
DTEND;TZID=America/Denver:20260628T120000
DTSTAMP:20260420T221623
CREATED:20250513T055407Z
LAST-MODIFIED:20250513T055407Z
UID:10003176-1782644400-1782648000@recoverystlouis.org
SUMMARY:OA Sunday Recovery Open-mixed In person/online
DESCRIPTION:Zoom:264 689 861\nPW:066708 \nContact\nCathy K (314) 538-1331
URL:https://recoverystlouis.org/event/oa-sunday-recovery-open-mixed-in-person-online/2026-06-28/
END:VEVENT
BEGIN:VEVENT
DTSTART;TZID=America/Denver:20260629T180000
DTEND;TZID=America/Denver:20260629T190000
DTSTAMP:20260420T221623
CREATED:20250512T071133Z
LAST-MODIFIED:20250512T071133Z
UID:10000579-1782756000-1782759600@recoverystlouis.org
SUMMARY:I AM RESPONSIBLE Women’s-closed In person-online
DESCRIPTION:Zoom:191 385 271\nPW: 085501 \nContact Clare P\n(314) 448-2101
URL:https://recoverystlouis.org/event/i-am-responsible-womens-closed-in-person-online/2026-06-29/
END:VEVENT
BEGIN:VEVENT
DTSTART;TZID=America/Denver:20260630T173000
DTEND;TZID=America/Denver:20260630T183000
DTSTAMP:20260420T221623
CREATED:20250513T054121Z
LAST-MODIFIED:20250513T054121Z
UID:10001097-1782840600-1782844200@recoverystlouis.org
SUMMARY:AA Secular Sobriety Open-mixed In person/online
DESCRIPTION:Zoom: 343 811 2984\nPW 770507
URL:https://recoverystlouis.org/event/aa-secular-sobriety-open-mixed-in-person-online/2026-06-30/
END:VEVENT
BEGIN:VEVENT
DTSTART;TZID=America/Denver:20260630T190000
DTEND;TZID=America/Denver:20260630T200000
DTSTAMP:20260420T221623
CREATED:20250513T055457Z
LAST-MODIFIED:20250513T055457Z
UID:10003697-1782846000-1782849600@recoverystlouis.org
SUMMARY:AA Burton’s Heroes Open -mixed In person/online
DESCRIPTION:
URL:https://recoverystlouis.org/event/aa-burtons-heroes-open-mixed-in-person-online/2026-06-30/
END:VEVENT
BEGIN:VEVENT
DTSTART;TZID=America/Denver:20260701T170000
DTEND;TZID=America/Denver:20260701T190000
DTSTAMP:20260420T221623
CREATED:20250513T054406Z
LAST-MODIFIED:20250513T054406Z
UID:10001617-1782925200-1782932400@recoverystlouis.org
SUMMARY:Private group
DESCRIPTION:
URL:https://recoverystlouis.org/event/private-group/2026-07-01/
END:VEVENT
BEGIN:VEVENT
DTSTART;TZID=America/Denver:20260702T100000
DTEND;TZID=America/Denver:20260702T111500
DTSTAMP:20260420T221623
CREATED:20250513T054602Z
LAST-MODIFIED:20250530T165143Z
UID:10002137-1782986400-1782990900@recoverystlouis.org
SUMMARY:AA Group 179 Open-mixed In person/online
DESCRIPTION:Zoom 598 988 635\nPW 241200
URL:https://recoverystlouis.org/event/aa-group-179-open-mixed-in-person-online/2026-07-02/
END:VEVENT
BEGIN:VEVENT
DTSTART;TZID=America/Denver:20260702T190000
DTEND;TZID=America/Denver:20260702T200000
DTSTAMP:20260420T221623
CREATED:20250513T055622Z
LAST-MODIFIED:20250513T055622Z
UID:10004217-1783018800-1783022400@recoverystlouis.org
SUMMARY:Recovery Dharma Independent/in person only Open-mixed
DESCRIPTION:Contact\nMichelle T\n(314) 495-8026
URL:https://recoverystlouis.org/event/recovery-dharma-independent-in-person-only-open-mixed/2026-07-02/
END:VEVENT
BEGIN:VEVENT
DTSTART;TZID=America/Denver:20260703T070500
DTEND;TZID=America/Denver:20260703T074500
DTSTAMP:20260420T221623
CREATED:20250513T055108Z
LAST-MODIFIED:20250513T055108Z
UID:10002657-1783062300-1783064700@recoverystlouis.org
SUMMARY:AA Closed/ Men only Primary Purpose Mens
DESCRIPTION:
URL:https://recoverystlouis.org/event/aa-closed-men-only-primary-purpose-mens/2026-07-03/
END:VEVENT
BEGIN:VEVENT
DTSTART;TZID=America/Denver:20260703T174500
DTEND;TZID=America/Denver:20260703T184500
DTSTAMP:20260420T221623
CREATED:20250513T055756Z
LAST-MODIFIED:20250513T055756Z
UID:10004737-1783100700-1783104300@recoverystlouis.org
SUMMARY:AA Group 413- happier Hour Women’s-Open In person/online
DESCRIPTION:Zoom 263 787 324\nPW 279425 \nContact\nLeigh H\n(314) 276-6953
URL:https://recoverystlouis.org/event/aa-group-413-happier-hour-womens-open-in-person-online/2026-07-03/
END:VEVENT
BEGIN:VEVENT
DTSTART;TZID=America/Denver:20260705T090000
DTEND;TZID=America/Denver:20260705T101500
DTSTAMP:20260420T221623
CREATED:20250428T191821Z
LAST-MODIFIED:20250512T070411Z
UID:10000060-1783242000-1783246500@recoverystlouis.org
SUMMARY:AA Group 255-FIVE AND DIME Closed-Mixed In person/online
DESCRIPTION:Zoom:845 2025 1856\nPW: 173321 \nContact\nMichael Mac\n314-249-8149
URL:https://recoverystlouis.org/event/lorem-ipsum/2026-07-05/
END:VEVENT
BEGIN:VEVENT
DTSTART;TZID=America/Denver:20260705T110000
DTEND;TZID=America/Denver:20260705T120000
DTSTAMP:20260420T221623
CREATED:20250513T055407Z
LAST-MODIFIED:20250513T055407Z
UID:10003177-1783249200-1783252800@recoverystlouis.org
SUMMARY:OA Sunday Recovery Open-mixed In person/online
DESCRIPTION:Zoom:264 689 861\nPW:066708 \nContact\nCathy K (314) 538-1331
URL:https://recoverystlouis.org/event/oa-sunday-recovery-open-mixed-in-person-online/2026-07-05/
END:VEVENT
BEGIN:VEVENT
DTSTART;TZID=America/Denver:20260706T180000
DTEND;TZID=America/Denver:20260706T190000
DTSTAMP:20260420T221623
CREATED:20250512T071133Z
LAST-MODIFIED:20250512T071133Z
UID:10000580-1783360800-1783364400@recoverystlouis.org
SUMMARY:I AM RESPONSIBLE Women’s-closed In person-online
DESCRIPTION:Zoom:191 385 271\nPW: 085501 \nContact Clare P\n(314) 448-2101
URL:https://recoverystlouis.org/event/i-am-responsible-womens-closed-in-person-online/2026-07-06/
END:VEVENT
BEGIN:VEVENT
DTSTART;TZID=America/Denver:20260707T173000
DTEND;TZID=America/Denver:20260707T183000
DTSTAMP:20260420T221623
CREATED:20250513T054121Z
LAST-MODIFIED:20250513T054121Z
UID:10001098-1783445400-1783449000@recoverystlouis.org
SUMMARY:AA Secular Sobriety Open-mixed In person/online
DESCRIPTION:Zoom: 343 811 2984\nPW 770507
URL:https://recoverystlouis.org/event/aa-secular-sobriety-open-mixed-in-person-online/2026-07-07/
END:VEVENT
BEGIN:VEVENT
DTSTART;TZID=America/Denver:20260707T190000
DTEND;TZID=America/Denver:20260707T200000
DTSTAMP:20260420T221623
CREATED:20250513T055457Z
LAST-MODIFIED:20250513T055457Z
UID:10003698-1783450800-1783454400@recoverystlouis.org
SUMMARY:AA Burton’s Heroes Open -mixed In person/online
DESCRIPTION:
URL:https://recoverystlouis.org/event/aa-burtons-heroes-open-mixed-in-person-online/2026-07-07/
END:VEVENT
BEGIN:VEVENT
DTSTART;TZID=America/Denver:20260708T170000
DTEND;TZID=America/Denver:20260708T190000
DTSTAMP:20260420T221623
CREATED:20250513T054406Z
LAST-MODIFIED:20250513T054406Z
UID:10001618-1783530000-1783537200@recoverystlouis.org
SUMMARY:Private group
DESCRIPTION:
URL:https://recoverystlouis.org/event/private-group/2026-07-08/
END:VEVENT
BEGIN:VEVENT
DTSTART;TZID=America/Denver:20260709T100000
DTEND;TZID=America/Denver:20260709T111500
DTSTAMP:20260420T221623
CREATED:20250513T054602Z
LAST-MODIFIED:20250530T165143Z
UID:10002138-1783591200-1783595700@recoverystlouis.org
SUMMARY:AA Group 179 Open-mixed In person/online
DESCRIPTION:Zoom 598 988 635\nPW 241200
URL:https://recoverystlouis.org/event/aa-group-179-open-mixed-in-person-online/2026-07-09/
END:VEVENT
BEGIN:VEVENT
DTSTART;TZID=America/Denver:20260709T190000
DTEND;TZID=America/Denver:20260709T200000
DTSTAMP:20260420T221623
CREATED:20250513T055622Z
LAST-MODIFIED:20250513T055622Z
UID:10004218-1783623600-1783627200@recoverystlouis.org
SUMMARY:Recovery Dharma Independent/in person only Open-mixed
DESCRIPTION:Contact\nMichelle T\n(314) 495-8026
URL:https://recoverystlouis.org/event/recovery-dharma-independent-in-person-only-open-mixed/2026-07-09/
END:VEVENT
BEGIN:VEVENT
DTSTART;TZID=America/Denver:20260710T070500
DTEND;TZID=America/Denver:20260710T074500
DTSTAMP:20260420T221623
CREATED:20250513T055108Z
LAST-MODIFIED:20250513T055108Z
UID:10002658-1783667100-1783669500@recoverystlouis.org
SUMMARY:AA Closed/ Men only Primary Purpose Mens
DESCRIPTION:
URL:https://recoverystlouis.org/event/aa-closed-men-only-primary-purpose-mens/2026-07-10/
END:VEVENT
BEGIN:VEVENT
DTSTART;TZID=America/Denver:20260710T174500
DTEND;TZID=America/Denver:20260710T184500
DTSTAMP:20260420T221623
CREATED:20250513T055756Z
LAST-MODIFIED:20250513T055756Z
UID:10004738-1783705500-1783709100@recoverystlouis.org
SUMMARY:AA Group 413- happier Hour Women’s-Open In person/online
DESCRIPTION:Zoom 263 787 324\nPW 279425 \nContact\nLeigh H\n(314) 276-6953
URL:https://recoverystlouis.org/event/aa-group-413-happier-hour-womens-open-in-person-online/2026-07-10/
END:VEVENT
BEGIN:VEVENT
DTSTART;TZID=America/Denver:20260712T090000
DTEND;TZID=America/Denver:20260712T101500
DTSTAMP:20260420T221623
CREATED:20250428T191821Z
LAST-MODIFIED:20250512T070411Z
UID:10000061-1783846800-1783851300@recoverystlouis.org
SUMMARY:AA Group 255-FIVE AND DIME Closed-Mixed In person/online
DESCRIPTION:Zoom:845 2025 1856\nPW: 173321 \nContact\nMichael Mac\n314-249-8149
URL:https://recoverystlouis.org/event/lorem-ipsum/2026-07-12/
END:VEVENT
BEGIN:VEVENT
DTSTART;TZID=America/Denver:20260712T110000
DTEND;TZID=America/Denver:20260712T120000
DTSTAMP:20260420T221623
CREATED:20250513T055407Z
LAST-MODIFIED:20250513T055407Z
UID:10003178-1783854000-1783857600@recoverystlouis.org
SUMMARY:OA Sunday Recovery Open-mixed In person/online
DESCRIPTION:Zoom:264 689 861\nPW:066708 \nContact\nCathy K (314) 538-1331
URL:https://recoverystlouis.org/event/oa-sunday-recovery-open-mixed-in-person-online/2026-07-12/
END:VEVENT
BEGIN:VEVENT
DTSTART;TZID=America/Denver:20260713T180000
DTEND;TZID=America/Denver:20260713T190000
DTSTAMP:20260420T221623
CREATED:20250512T071133Z
LAST-MODIFIED:20250512T071133Z
UID:10000581-1783965600-1783969200@recoverystlouis.org
SUMMARY:I AM RESPONSIBLE Women’s-closed In person-online
DESCRIPTION:Zoom:191 385 271\nPW: 085501 \nContact Clare P\n(314) 448-2101
URL:https://recoverystlouis.org/event/i-am-responsible-womens-closed-in-person-online/2026-07-13/
END:VEVENT
BEGIN:VEVENT
DTSTART;TZID=America/Denver:20260714T173000
DTEND;TZID=America/Denver:20260714T183000
DTSTAMP:20260420T221623
CREATED:20250513T054121Z
LAST-MODIFIED:20250513T054121Z
UID:10001099-1784050200-1784053800@recoverystlouis.org
SUMMARY:AA Secular Sobriety Open-mixed In person/online
DESCRIPTION:Zoom: 343 811 2984\nPW 770507
URL:https://recoverystlouis.org/event/aa-secular-sobriety-open-mixed-in-person-online/2026-07-14/
END:VEVENT
BEGIN:VEVENT
DTSTART;TZID=America/Denver:20260714T190000
DTEND;TZID=America/Denver:20260714T200000
DTSTAMP:20260420T221623
CREATED:20250513T055457Z
LAST-MODIFIED:20250513T055457Z
UID:10003699-1784055600-1784059200@recoverystlouis.org
SUMMARY:AA Burton’s Heroes Open -mixed In person/online
DESCRIPTION:
URL:https://recoverystlouis.org/event/aa-burtons-heroes-open-mixed-in-person-online/2026-07-14/
END:VEVENT
BEGIN:VEVENT
DTSTART;TZID=America/Denver:20260715T170000
DTEND;TZID=America/Denver:20260715T190000
DTSTAMP:20260420T221623
CREATED:20250513T054406Z
LAST-MODIFIED:20250513T054406Z
UID:10001619-1784134800-1784142000@recoverystlouis.org
SUMMARY:Private group
DESCRIPTION:
URL:https://recoverystlouis.org/event/private-group/2026-07-15/
END:VEVENT
BEGIN:VEVENT
DTSTART;TZID=America/Denver:20260716T100000
DTEND;TZID=America/Denver:20260716T111500
DTSTAMP:20260420T221623
CREATED:20250513T054602Z
LAST-MODIFIED:20250530T165143Z
UID:10002139-1784196000-1784200500@recoverystlouis.org
SUMMARY:AA Group 179 Open-mixed In person/online
DESCRIPTION:Zoom 598 988 635\nPW 241200
URL:https://recoverystlouis.org/event/aa-group-179-open-mixed-in-person-online/2026-07-16/
END:VEVENT
BEGIN:VEVENT
DTSTART;TZID=America/Denver:20260716T190000
DTEND;TZID=America/Denver:20260716T200000
DTSTAMP:20260420T221623
CREATED:20250513T055622Z
LAST-MODIFIED:20250513T055622Z
UID:10004219-1784228400-1784232000@recoverystlouis.org
SUMMARY:Recovery Dharma Independent/in person only Open-mixed
DESCRIPTION:Contact\nMichelle T\n(314) 495-8026
URL:https://recoverystlouis.org/event/recovery-dharma-independent-in-person-only-open-mixed/2026-07-16/
END:VEVENT
BEGIN:VEVENT
DTSTART;TZID=America/Denver:20260717T070500
DTEND;TZID=America/Denver:20260717T074500
DTSTAMP:20260420T221623
CREATED:20250513T055108Z
LAST-MODIFIED:20250513T055108Z
UID:10002659-1784271900-1784274300@recoverystlouis.org
SUMMARY:AA Closed/ Men only Primary Purpose Mens
DESCRIPTION:
URL:https://recoverystlouis.org/event/aa-closed-men-only-primary-purpose-mens/2026-07-17/
END:VEVENT
BEGIN:VEVENT
DTSTART;TZID=America/Denver:20260717T174500
DTEND;TZID=America/Denver:20260717T184500
DTSTAMP:20260420T221623
CREATED:20250513T055756Z
LAST-MODIFIED:20250513T055756Z
UID:10004739-1784310300-1784313900@recoverystlouis.org
SUMMARY:AA Group 413- happier Hour Women’s-Open In person/online
DESCRIPTION:Zoom 263 787 324\nPW 279425 \nContact\nLeigh H\n(314) 276-6953
URL:https://recoverystlouis.org/event/aa-group-413-happier-hour-womens-open-in-person-online/2026-07-17/
END:VEVENT
END:VCALENDAR