BEGIN:VCALENDAR
VERSION:2.0
PRODID:-//Recovery St. Louis - ECPv6.15.17.1//NONSGML v1.0//EN
CALSCALE:GREGORIAN
METHOD:PUBLISH
X-WR-CALNAME:Recovery St. Louis
X-ORIGINAL-URL:https://recoverystlouis.org
X-WR-CALDESC:Events for Recovery St. Louis
REFRESH-INTERVAL;VALUE=DURATION:PT1H
X-Robots-Tag:noindex
X-PUBLISHED-TTL:PT1H
BEGIN:VTIMEZONE
TZID:America/Denver
BEGIN:DAYLIGHT
TZOFFSETFROM:-0700
TZOFFSETTO:-0600
TZNAME:MDT
DTSTART:20250309T090000
END:DAYLIGHT
BEGIN:STANDARD
TZOFFSETFROM:-0600
TZOFFSETTO:-0700
TZNAME:MST
DTSTART:20251102T080000
END:STANDARD
BEGIN:DAYLIGHT
TZOFFSETFROM:-0700
TZOFFSETTO:-0600
TZNAME:MDT
DTSTART:20260308T090000
END:DAYLIGHT
BEGIN:STANDARD
TZOFFSETFROM:-0600
TZOFFSETTO:-0700
TZNAME:MST
DTSTART:20261101T080000
END:STANDARD
BEGIN:DAYLIGHT
TZOFFSETFROM:-0700
TZOFFSETTO:-0600
TZNAME:MDT
DTSTART:20270314T090000
END:DAYLIGHT
BEGIN:STANDARD
TZOFFSETFROM:-0600
TZOFFSETTO:-0700
TZNAME:MST
DTSTART:20271107T080000
END:STANDARD
END:VTIMEZONE
BEGIN:VEVENT
DTSTART;TZID=America/Denver:20260218T170000
DTEND;TZID=America/Denver:20260218T190000
DTSTAMP:20260421T001948
CREATED:20250513T054406Z
LAST-MODIFIED:20250513T054406Z
UID:10001598-1771434000-1771441200@recoverystlouis.org
SUMMARY:Private group
DESCRIPTION:
URL:https://recoverystlouis.org/event/private-group/2026-02-18/
END:VEVENT
BEGIN:VEVENT
DTSTART;TZID=America/Denver:20260219T100000
DTEND;TZID=America/Denver:20260219T111500
DTSTAMP:20260421T001948
CREATED:20250513T054602Z
LAST-MODIFIED:20250530T165143Z
UID:10002118-1771495200-1771499700@recoverystlouis.org
SUMMARY:AA Group 179 Open-mixed In person/online
DESCRIPTION:Zoom 598 988 635\nPW 241200
URL:https://recoverystlouis.org/event/aa-group-179-open-mixed-in-person-online/2026-02-19/
END:VEVENT
BEGIN:VEVENT
DTSTART;TZID=America/Denver:20260219T190000
DTEND;TZID=America/Denver:20260219T200000
DTSTAMP:20260421T001948
CREATED:20250513T055622Z
LAST-MODIFIED:20250513T055622Z
UID:10004198-1771527600-1771531200@recoverystlouis.org
SUMMARY:Recovery Dharma Independent/in person only Open-mixed
DESCRIPTION:Contact\nMichelle T\n(314) 495-8026
URL:https://recoverystlouis.org/event/recovery-dharma-independent-in-person-only-open-mixed/2026-02-19/
END:VEVENT
BEGIN:VEVENT
DTSTART;TZID=America/Denver:20260220T070500
DTEND;TZID=America/Denver:20260220T074500
DTSTAMP:20260421T001948
CREATED:20250513T055108Z
LAST-MODIFIED:20250513T055108Z
UID:10002638-1771571100-1771573500@recoverystlouis.org
SUMMARY:AA Closed/ Men only Primary Purpose Mens
DESCRIPTION:
URL:https://recoverystlouis.org/event/aa-closed-men-only-primary-purpose-mens/2026-02-20/
END:VEVENT
BEGIN:VEVENT
DTSTART;TZID=America/Denver:20260220T174500
DTEND;TZID=America/Denver:20260220T184500
DTSTAMP:20260421T001948
CREATED:20250513T055756Z
LAST-MODIFIED:20250513T055756Z
UID:10004718-1771609500-1771613100@recoverystlouis.org
SUMMARY:AA Group 413- happier Hour Women’s-Open In person/online
DESCRIPTION:Zoom 263 787 324\nPW 279425 \nContact\nLeigh H\n(314) 276-6953
URL:https://recoverystlouis.org/event/aa-group-413-happier-hour-womens-open-in-person-online/2026-02-20/
END:VEVENT
BEGIN:VEVENT
DTSTART;TZID=America/Denver:20260222T090000
DTEND;TZID=America/Denver:20260222T101500
DTSTAMP:20260421T001948
CREATED:20250428T191821Z
LAST-MODIFIED:20250512T070411Z
UID:10000041-1771750800-1771755300@recoverystlouis.org
SUMMARY:AA Group 255-FIVE AND DIME Closed-Mixed In person/online
DESCRIPTION:Zoom:845 2025 1856\nPW: 173321 \nContact\nMichael Mac\n314-249-8149
URL:https://recoverystlouis.org/event/lorem-ipsum/2026-02-22/
END:VEVENT
BEGIN:VEVENT
DTSTART;TZID=America/Denver:20260222T110000
DTEND;TZID=America/Denver:20260222T120000
DTSTAMP:20260421T001948
CREATED:20250513T055407Z
LAST-MODIFIED:20250513T055407Z
UID:10003158-1771758000-1771761600@recoverystlouis.org
SUMMARY:OA Sunday Recovery Open-mixed In person/online
DESCRIPTION:Zoom:264 689 861\nPW:066708 \nContact\nCathy K (314) 538-1331
URL:https://recoverystlouis.org/event/oa-sunday-recovery-open-mixed-in-person-online/2026-02-22/
END:VEVENT
BEGIN:VEVENT
DTSTART;TZID=America/Denver:20260223T180000
DTEND;TZID=America/Denver:20260223T190000
DTSTAMP:20260421T001948
CREATED:20250512T071133Z
LAST-MODIFIED:20250512T071133Z
UID:10000561-1771869600-1771873200@recoverystlouis.org
SUMMARY:I AM RESPONSIBLE Women’s-closed In person-online
DESCRIPTION:Zoom:191 385 271\nPW: 085501 \nContact Clare P\n(314) 448-2101
URL:https://recoverystlouis.org/event/i-am-responsible-womens-closed-in-person-online/2026-02-23/
END:VEVENT
BEGIN:VEVENT
DTSTART;TZID=America/Denver:20260224T173000
DTEND;TZID=America/Denver:20260224T183000
DTSTAMP:20260421T001948
CREATED:20250513T054121Z
LAST-MODIFIED:20250513T054121Z
UID:10001079-1771954200-1771957800@recoverystlouis.org
SUMMARY:AA Secular Sobriety Open-mixed In person/online
DESCRIPTION:Zoom: 343 811 2984\nPW 770507
URL:https://recoverystlouis.org/event/aa-secular-sobriety-open-mixed-in-person-online/2026-02-24/
END:VEVENT
BEGIN:VEVENT
DTSTART;TZID=America/Denver:20260224T190000
DTEND;TZID=America/Denver:20260224T200000
DTSTAMP:20260421T001948
CREATED:20250513T055457Z
LAST-MODIFIED:20250513T055457Z
UID:10003679-1771959600-1771963200@recoverystlouis.org
SUMMARY:AA Burton’s Heroes Open -mixed In person/online
DESCRIPTION:
URL:https://recoverystlouis.org/event/aa-burtons-heroes-open-mixed-in-person-online/2026-02-24/
END:VEVENT
BEGIN:VEVENT
DTSTART;TZID=America/Denver:20260225T170000
DTEND;TZID=America/Denver:20260225T190000
DTSTAMP:20260421T001948
CREATED:20250513T054406Z
LAST-MODIFIED:20250513T054406Z
UID:10001599-1772038800-1772046000@recoverystlouis.org
SUMMARY:Private group
DESCRIPTION:
URL:https://recoverystlouis.org/event/private-group/2026-02-25/
END:VEVENT
BEGIN:VEVENT
DTSTART;TZID=America/Denver:20260226T100000
DTEND;TZID=America/Denver:20260226T111500
DTSTAMP:20260421T001948
CREATED:20250513T054602Z
LAST-MODIFIED:20250530T165143Z
UID:10002119-1772100000-1772104500@recoverystlouis.org
SUMMARY:AA Group 179 Open-mixed In person/online
DESCRIPTION:Zoom 598 988 635\nPW 241200
URL:https://recoverystlouis.org/event/aa-group-179-open-mixed-in-person-online/2026-02-26/
END:VEVENT
BEGIN:VEVENT
DTSTART;TZID=America/Denver:20260226T190000
DTEND;TZID=America/Denver:20260226T200000
DTSTAMP:20260421T001948
CREATED:20250513T055622Z
LAST-MODIFIED:20250513T055622Z
UID:10004199-1772132400-1772136000@recoverystlouis.org
SUMMARY:Recovery Dharma Independent/in person only Open-mixed
DESCRIPTION:Contact\nMichelle T\n(314) 495-8026
URL:https://recoverystlouis.org/event/recovery-dharma-independent-in-person-only-open-mixed/2026-02-26/
END:VEVENT
BEGIN:VEVENT
DTSTART;TZID=America/Denver:20260227T070500
DTEND;TZID=America/Denver:20260227T074500
DTSTAMP:20260421T001948
CREATED:20250513T055108Z
LAST-MODIFIED:20250513T055108Z
UID:10002639-1772175900-1772178300@recoverystlouis.org
SUMMARY:AA Closed/ Men only Primary Purpose Mens
DESCRIPTION:
URL:https://recoverystlouis.org/event/aa-closed-men-only-primary-purpose-mens/2026-02-27/
END:VEVENT
BEGIN:VEVENT
DTSTART;TZID=America/Denver:20260227T174500
DTEND;TZID=America/Denver:20260227T184500
DTSTAMP:20260421T001948
CREATED:20250513T055756Z
LAST-MODIFIED:20250513T055756Z
UID:10004719-1772214300-1772217900@recoverystlouis.org
SUMMARY:AA Group 413- happier Hour Women’s-Open In person/online
DESCRIPTION:Zoom 263 787 324\nPW 279425 \nContact\nLeigh H\n(314) 276-6953
URL:https://recoverystlouis.org/event/aa-group-413-happier-hour-womens-open-in-person-online/2026-02-27/
END:VEVENT
BEGIN:VEVENT
DTSTART;TZID=America/Denver:20260301T090000
DTEND;TZID=America/Denver:20260301T101500
DTSTAMP:20260421T001948
CREATED:20250428T191821Z
LAST-MODIFIED:20250512T070411Z
UID:10000042-1772355600-1772360100@recoverystlouis.org
SUMMARY:AA Group 255-FIVE AND DIME Closed-Mixed In person/online
DESCRIPTION:Zoom:845 2025 1856\nPW: 173321 \nContact\nMichael Mac\n314-249-8149
URL:https://recoverystlouis.org/event/lorem-ipsum/2026-03-01/
END:VEVENT
BEGIN:VEVENT
DTSTART;TZID=America/Denver:20260301T110000
DTEND;TZID=America/Denver:20260301T120000
DTSTAMP:20260421T001948
CREATED:20250513T055407Z
LAST-MODIFIED:20250513T055407Z
UID:10003159-1772362800-1772366400@recoverystlouis.org
SUMMARY:OA Sunday Recovery Open-mixed In person/online
DESCRIPTION:Zoom:264 689 861\nPW:066708 \nContact\nCathy K (314) 538-1331
URL:https://recoverystlouis.org/event/oa-sunday-recovery-open-mixed-in-person-online/2026-03-01/
END:VEVENT
BEGIN:VEVENT
DTSTART;TZID=America/Denver:20260302T180000
DTEND;TZID=America/Denver:20260302T190000
DTSTAMP:20260421T001948
CREATED:20250512T071133Z
LAST-MODIFIED:20250512T071133Z
UID:10000562-1772474400-1772478000@recoverystlouis.org
SUMMARY:I AM RESPONSIBLE Women’s-closed In person-online
DESCRIPTION:Zoom:191 385 271\nPW: 085501 \nContact Clare P\n(314) 448-2101
URL:https://recoverystlouis.org/event/i-am-responsible-womens-closed-in-person-online/2026-03-02/
END:VEVENT
BEGIN:VEVENT
DTSTART;TZID=America/Denver:20260303T173000
DTEND;TZID=America/Denver:20260303T183000
DTSTAMP:20260421T001948
CREATED:20250513T054121Z
LAST-MODIFIED:20250513T054121Z
UID:10001080-1772559000-1772562600@recoverystlouis.org
SUMMARY:AA Secular Sobriety Open-mixed In person/online
DESCRIPTION:Zoom: 343 811 2984\nPW 770507
URL:https://recoverystlouis.org/event/aa-secular-sobriety-open-mixed-in-person-online/2026-03-03/
END:VEVENT
BEGIN:VEVENT
DTSTART;TZID=America/Denver:20260303T190000
DTEND;TZID=America/Denver:20260303T200000
DTSTAMP:20260421T001948
CREATED:20250513T055457Z
LAST-MODIFIED:20250513T055457Z
UID:10003680-1772564400-1772568000@recoverystlouis.org
SUMMARY:AA Burton’s Heroes Open -mixed In person/online
DESCRIPTION:
URL:https://recoverystlouis.org/event/aa-burtons-heroes-open-mixed-in-person-online/2026-03-03/
END:VEVENT
BEGIN:VEVENT
DTSTART;TZID=America/Denver:20260304T170000
DTEND;TZID=America/Denver:20260304T190000
DTSTAMP:20260421T001948
CREATED:20250513T054406Z
LAST-MODIFIED:20250513T054406Z
UID:10001600-1772643600-1772650800@recoverystlouis.org
SUMMARY:Private group
DESCRIPTION:
URL:https://recoverystlouis.org/event/private-group/2026-03-04/
END:VEVENT
BEGIN:VEVENT
DTSTART;TZID=America/Denver:20260305T100000
DTEND;TZID=America/Denver:20260305T111500
DTSTAMP:20260421T001948
CREATED:20250513T054602Z
LAST-MODIFIED:20250530T165143Z
UID:10002120-1772704800-1772709300@recoverystlouis.org
SUMMARY:AA Group 179 Open-mixed In person/online
DESCRIPTION:Zoom 598 988 635\nPW 241200
URL:https://recoverystlouis.org/event/aa-group-179-open-mixed-in-person-online/2026-03-05/
END:VEVENT
BEGIN:VEVENT
DTSTART;TZID=America/Denver:20260305T190000
DTEND;TZID=America/Denver:20260305T200000
DTSTAMP:20260421T001948
CREATED:20250513T055622Z
LAST-MODIFIED:20250513T055622Z
UID:10004200-1772737200-1772740800@recoverystlouis.org
SUMMARY:Recovery Dharma Independent/in person only Open-mixed
DESCRIPTION:Contact\nMichelle T\n(314) 495-8026
URL:https://recoverystlouis.org/event/recovery-dharma-independent-in-person-only-open-mixed/2026-03-05/
END:VEVENT
BEGIN:VEVENT
DTSTART;TZID=America/Denver:20260306T070500
DTEND;TZID=America/Denver:20260306T074500
DTSTAMP:20260421T001948
CREATED:20250513T055108Z
LAST-MODIFIED:20250513T055108Z
UID:10002640-1772780700-1772783100@recoverystlouis.org
SUMMARY:AA Closed/ Men only Primary Purpose Mens
DESCRIPTION:
URL:https://recoverystlouis.org/event/aa-closed-men-only-primary-purpose-mens/2026-03-06/
END:VEVENT
BEGIN:VEVENT
DTSTART;TZID=America/Denver:20260306T174500
DTEND;TZID=America/Denver:20260306T184500
DTSTAMP:20260421T001948
CREATED:20250513T055756Z
LAST-MODIFIED:20250513T055756Z
UID:10004720-1772819100-1772822700@recoverystlouis.org
SUMMARY:AA Group 413- happier Hour Women’s-Open In person/online
DESCRIPTION:Zoom 263 787 324\nPW 279425 \nContact\nLeigh H\n(314) 276-6953
URL:https://recoverystlouis.org/event/aa-group-413-happier-hour-womens-open-in-person-online/2026-03-06/
END:VEVENT
BEGIN:VEVENT
DTSTART;TZID=America/Denver:20260308T090000
DTEND;TZID=America/Denver:20260308T101500
DTSTAMP:20260421T001948
CREATED:20250428T191821Z
LAST-MODIFIED:20250512T070411Z
UID:10000043-1772960400-1772964900@recoverystlouis.org
SUMMARY:AA Group 255-FIVE AND DIME Closed-Mixed In person/online
DESCRIPTION:Zoom:845 2025 1856\nPW: 173321 \nContact\nMichael Mac\n314-249-8149
URL:https://recoverystlouis.org/event/lorem-ipsum/2026-03-08/
END:VEVENT
BEGIN:VEVENT
DTSTART;TZID=America/Denver:20260308T110000
DTEND;TZID=America/Denver:20260308T120000
DTSTAMP:20260421T001948
CREATED:20250513T055407Z
LAST-MODIFIED:20250513T055407Z
UID:10003160-1772967600-1772971200@recoverystlouis.org
SUMMARY:OA Sunday Recovery Open-mixed In person/online
DESCRIPTION:Zoom:264 689 861\nPW:066708 \nContact\nCathy K (314) 538-1331
URL:https://recoverystlouis.org/event/oa-sunday-recovery-open-mixed-in-person-online/2026-03-08/
END:VEVENT
BEGIN:VEVENT
DTSTART;TZID=America/Denver:20260309T180000
DTEND;TZID=America/Denver:20260309T190000
DTSTAMP:20260421T001948
CREATED:20250512T071133Z
LAST-MODIFIED:20250512T071133Z
UID:10000563-1773079200-1773082800@recoverystlouis.org
SUMMARY:I AM RESPONSIBLE Women’s-closed In person-online
DESCRIPTION:Zoom:191 385 271\nPW: 085501 \nContact Clare P\n(314) 448-2101
URL:https://recoverystlouis.org/event/i-am-responsible-womens-closed-in-person-online/2026-03-09/
END:VEVENT
BEGIN:VEVENT
DTSTART;TZID=America/Denver:20260310T173000
DTEND;TZID=America/Denver:20260310T183000
DTSTAMP:20260421T001948
CREATED:20250513T054121Z
LAST-MODIFIED:20250513T054121Z
UID:10001081-1773163800-1773167400@recoverystlouis.org
SUMMARY:AA Secular Sobriety Open-mixed In person/online
DESCRIPTION:Zoom: 343 811 2984\nPW 770507
URL:https://recoverystlouis.org/event/aa-secular-sobriety-open-mixed-in-person-online/2026-03-10/
END:VEVENT
BEGIN:VEVENT
DTSTART;TZID=America/Denver:20260310T190000
DTEND;TZID=America/Denver:20260310T200000
DTSTAMP:20260421T001948
CREATED:20250513T055457Z
LAST-MODIFIED:20250513T055457Z
UID:10003681-1773169200-1773172800@recoverystlouis.org
SUMMARY:AA Burton’s Heroes Open -mixed In person/online
DESCRIPTION:
URL:https://recoverystlouis.org/event/aa-burtons-heroes-open-mixed-in-person-online/2026-03-10/
END:VEVENT
END:VCALENDAR