BEGIN:VCALENDAR
VERSION:2.0
PRODID:-//Recovery St. Louis - ECPv6.15.17.1//NONSGML v1.0//EN
CALSCALE:GREGORIAN
METHOD:PUBLISH
X-WR-CALNAME:Recovery St. Louis
X-ORIGINAL-URL:https://recoverystlouis.org
X-WR-CALDESC:Events for Recovery St. Louis
REFRESH-INTERVAL;VALUE=DURATION:PT1H
X-Robots-Tag:noindex
X-PUBLISHED-TTL:PT1H
BEGIN:VTIMEZONE
TZID:America/Denver
BEGIN:DAYLIGHT
TZOFFSETFROM:-0700
TZOFFSETTO:-0600
TZNAME:MDT
DTSTART:20250309T090000
END:DAYLIGHT
BEGIN:STANDARD
TZOFFSETFROM:-0600
TZOFFSETTO:-0700
TZNAME:MST
DTSTART:20251102T080000
END:STANDARD
BEGIN:DAYLIGHT
TZOFFSETFROM:-0700
TZOFFSETTO:-0600
TZNAME:MDT
DTSTART:20260308T090000
END:DAYLIGHT
BEGIN:STANDARD
TZOFFSETFROM:-0600
TZOFFSETTO:-0700
TZNAME:MST
DTSTART:20261101T080000
END:STANDARD
BEGIN:DAYLIGHT
TZOFFSETFROM:-0700
TZOFFSETTO:-0600
TZNAME:MDT
DTSTART:20270314T090000
END:DAYLIGHT
BEGIN:STANDARD
TZOFFSETFROM:-0600
TZOFFSETTO:-0700
TZNAME:MST
DTSTART:20271107T080000
END:STANDARD
BEGIN:DAYLIGHT
TZOFFSETFROM:-0700
TZOFFSETTO:-0600
TZNAME:MDT
DTSTART:20280312T090000
END:DAYLIGHT
BEGIN:STANDARD
TZOFFSETFROM:-0600
TZOFFSETTO:-0700
TZNAME:MST
DTSTART:20281105T080000
END:STANDARD
END:VTIMEZONE
BEGIN:VEVENT
DTSTART;TZID=America/Denver:20270113T170000
DTEND;TZID=America/Denver:20270113T190000
DTSTAMP:20260421T192258
CREATED:20250513T054406Z
LAST-MODIFIED:20250513T054406Z
UID:10001645-1799859600-1799866800@recoverystlouis.org
SUMMARY:Private group
DESCRIPTION:
URL:https://recoverystlouis.org/event/private-group/2027-01-13/
END:VEVENT
BEGIN:VEVENT
DTSTART;TZID=America/Denver:20270112T190000
DTEND;TZID=America/Denver:20270112T200000
DTSTAMP:20260421T192258
CREATED:20250513T055457Z
LAST-MODIFIED:20250513T055457Z
UID:10003725-1799780400-1799784000@recoverystlouis.org
SUMMARY:AA Burton’s Heroes Open -mixed In person/online
DESCRIPTION:
URL:https://recoverystlouis.org/event/aa-burtons-heroes-open-mixed-in-person-online/2027-01-12/
END:VEVENT
BEGIN:VEVENT
DTSTART;TZID=America/Denver:20270112T173000
DTEND;TZID=America/Denver:20270112T183000
DTSTAMP:20260421T192258
CREATED:20250513T054121Z
LAST-MODIFIED:20250513T054121Z
UID:10001125-1799775000-1799778600@recoverystlouis.org
SUMMARY:AA Secular Sobriety Open-mixed In person/online
DESCRIPTION:Zoom: 343 811 2984\nPW 770507
URL:https://recoverystlouis.org/event/aa-secular-sobriety-open-mixed-in-person-online/2027-01-12/
END:VEVENT
BEGIN:VEVENT
DTSTART;TZID=America/Denver:20270111T180000
DTEND;TZID=America/Denver:20270111T190000
DTSTAMP:20260421T192258
CREATED:20250512T071133Z
LAST-MODIFIED:20250512T071133Z
UID:10000607-1799690400-1799694000@recoverystlouis.org
SUMMARY:I AM RESPONSIBLE Women’s-closed In person-online
DESCRIPTION:Zoom:191 385 271\nPW: 085501 \nContact Clare P\n(314) 448-2101
URL:https://recoverystlouis.org/event/i-am-responsible-womens-closed-in-person-online/2027-01-11/
END:VEVENT
BEGIN:VEVENT
DTSTART;TZID=America/Denver:20270110T110000
DTEND;TZID=America/Denver:20270110T120000
DTSTAMP:20260421T192258
CREATED:20250513T055407Z
LAST-MODIFIED:20250513T055407Z
UID:10003204-1799578800-1799582400@recoverystlouis.org
SUMMARY:OA Sunday Recovery Open-mixed In person/online
DESCRIPTION:Zoom:264 689 861\nPW:066708 \nContact\nCathy K (314) 538-1331
URL:https://recoverystlouis.org/event/oa-sunday-recovery-open-mixed-in-person-online/2027-01-10/
END:VEVENT
BEGIN:VEVENT
DTSTART;TZID=America/Denver:20270110T090000
DTEND;TZID=America/Denver:20270110T101500
DTSTAMP:20260421T192258
CREATED:20250428T191821Z
LAST-MODIFIED:20250512T070411Z
UID:10000087-1799571600-1799576100@recoverystlouis.org
SUMMARY:AA Group 255-FIVE AND DIME Closed-Mixed In person/online
DESCRIPTION:Zoom:845 2025 1856\nPW: 173321 \nContact\nMichael Mac\n314-249-8149
URL:https://recoverystlouis.org/event/lorem-ipsum/2027-01-10/
END:VEVENT
BEGIN:VEVENT
DTSTART;TZID=America/Denver:20270108T174500
DTEND;TZID=America/Denver:20270108T184500
DTSTAMP:20260421T192258
CREATED:20250513T055756Z
LAST-MODIFIED:20250513T055756Z
UID:10004764-1799430300-1799433900@recoverystlouis.org
SUMMARY:AA Group 413- happier Hour Women’s-Open In person/online
DESCRIPTION:Zoom 263 787 324\nPW 279425 \nContact\nLeigh H\n(314) 276-6953
URL:https://recoverystlouis.org/event/aa-group-413-happier-hour-womens-open-in-person-online/2027-01-08/
END:VEVENT
BEGIN:VEVENT
DTSTART;TZID=America/Denver:20270108T070500
DTEND;TZID=America/Denver:20270108T074500
DTSTAMP:20260421T192258
CREATED:20250513T055108Z
LAST-MODIFIED:20250513T055108Z
UID:10002684-1799391900-1799394300@recoverystlouis.org
SUMMARY:AA Closed/ Men only Primary Purpose Mens
DESCRIPTION:
URL:https://recoverystlouis.org/event/aa-closed-men-only-primary-purpose-mens/2027-01-08/
END:VEVENT
BEGIN:VEVENT
DTSTART;TZID=America/Denver:20270107T190000
DTEND;TZID=America/Denver:20270107T200000
DTSTAMP:20260421T192258
CREATED:20250513T055622Z
LAST-MODIFIED:20250513T055622Z
UID:10004244-1799348400-1799352000@recoverystlouis.org
SUMMARY:Recovery Dharma Independent/in person only Open-mixed
DESCRIPTION:Contact\nMichelle T\n(314) 495-8026
URL:https://recoverystlouis.org/event/recovery-dharma-independent-in-person-only-open-mixed/2027-01-07/
END:VEVENT
BEGIN:VEVENT
DTSTART;TZID=America/Denver:20270107T100000
DTEND;TZID=America/Denver:20270107T111500
DTSTAMP:20260421T192258
CREATED:20250513T054602Z
LAST-MODIFIED:20250530T165143Z
UID:10002164-1799316000-1799320500@recoverystlouis.org
SUMMARY:AA Group 179 Open-mixed In person/online
DESCRIPTION:Zoom 598 988 635\nPW 241200
URL:https://recoverystlouis.org/event/aa-group-179-open-mixed-in-person-online/2027-01-07/
END:VEVENT
BEGIN:VEVENT
DTSTART;TZID=America/Denver:20270106T170000
DTEND;TZID=America/Denver:20270106T190000
DTSTAMP:20260421T192258
CREATED:20250513T054406Z
LAST-MODIFIED:20250513T054406Z
UID:10001644-1799254800-1799262000@recoverystlouis.org
SUMMARY:Private group
DESCRIPTION:
URL:https://recoverystlouis.org/event/private-group/2027-01-06/
END:VEVENT
BEGIN:VEVENT
DTSTART;TZID=America/Denver:20270105T190000
DTEND;TZID=America/Denver:20270105T200000
DTSTAMP:20260421T192258
CREATED:20250513T055457Z
LAST-MODIFIED:20250513T055457Z
UID:10003724-1799175600-1799179200@recoverystlouis.org
SUMMARY:AA Burton’s Heroes Open -mixed In person/online
DESCRIPTION:
URL:https://recoverystlouis.org/event/aa-burtons-heroes-open-mixed-in-person-online/2027-01-05/
END:VEVENT
BEGIN:VEVENT
DTSTART;TZID=America/Denver:20270105T173000
DTEND;TZID=America/Denver:20270105T183000
DTSTAMP:20260421T192258
CREATED:20250513T054121Z
LAST-MODIFIED:20250513T054121Z
UID:10001124-1799170200-1799173800@recoverystlouis.org
SUMMARY:AA Secular Sobriety Open-mixed In person/online
DESCRIPTION:Zoom: 343 811 2984\nPW 770507
URL:https://recoverystlouis.org/event/aa-secular-sobriety-open-mixed-in-person-online/2027-01-05/
END:VEVENT
BEGIN:VEVENT
DTSTART;TZID=America/Denver:20270104T180000
DTEND;TZID=America/Denver:20270104T190000
DTSTAMP:20260421T192258
CREATED:20250512T071133Z
LAST-MODIFIED:20250512T071133Z
UID:10000606-1799085600-1799089200@recoverystlouis.org
SUMMARY:I AM RESPONSIBLE Women’s-closed In person-online
DESCRIPTION:Zoom:191 385 271\nPW: 085501 \nContact Clare P\n(314) 448-2101
URL:https://recoverystlouis.org/event/i-am-responsible-womens-closed-in-person-online/2027-01-04/
END:VEVENT
BEGIN:VEVENT
DTSTART;TZID=America/Denver:20270103T110000
DTEND;TZID=America/Denver:20270103T120000
DTSTAMP:20260421T192258
CREATED:20250513T055407Z
LAST-MODIFIED:20250513T055407Z
UID:10003203-1798974000-1798977600@recoverystlouis.org
SUMMARY:OA Sunday Recovery Open-mixed In person/online
DESCRIPTION:Zoom:264 689 861\nPW:066708 \nContact\nCathy K (314) 538-1331
URL:https://recoverystlouis.org/event/oa-sunday-recovery-open-mixed-in-person-online/2027-01-03/
END:VEVENT
BEGIN:VEVENT
DTSTART;TZID=America/Denver:20270103T090000
DTEND;TZID=America/Denver:20270103T101500
DTSTAMP:20260421T192258
CREATED:20250428T191821Z
LAST-MODIFIED:20250512T070411Z
UID:10000086-1798966800-1798971300@recoverystlouis.org
SUMMARY:AA Group 255-FIVE AND DIME Closed-Mixed In person/online
DESCRIPTION:Zoom:845 2025 1856\nPW: 173321 \nContact\nMichael Mac\n314-249-8149
URL:https://recoverystlouis.org/event/lorem-ipsum/2027-01-03/
END:VEVENT
BEGIN:VEVENT
DTSTART;TZID=America/Denver:20270101T174500
DTEND;TZID=America/Denver:20270101T184500
DTSTAMP:20260421T192258
CREATED:20250513T055756Z
LAST-MODIFIED:20250513T055756Z
UID:10004763-1798825500-1798829100@recoverystlouis.org
SUMMARY:AA Group 413- happier Hour Women’s-Open In person/online
DESCRIPTION:Zoom 263 787 324\nPW 279425 \nContact\nLeigh H\n(314) 276-6953
URL:https://recoverystlouis.org/event/aa-group-413-happier-hour-womens-open-in-person-online/2027-01-01/
END:VEVENT
BEGIN:VEVENT
DTSTART;TZID=America/Denver:20270101T070500
DTEND;TZID=America/Denver:20270101T074500
DTSTAMP:20260421T192258
CREATED:20250513T055108Z
LAST-MODIFIED:20250513T055108Z
UID:10002683-1798787100-1798789500@recoverystlouis.org
SUMMARY:AA Closed/ Men only Primary Purpose Mens
DESCRIPTION:
URL:https://recoverystlouis.org/event/aa-closed-men-only-primary-purpose-mens/2027-01-01/
END:VEVENT
BEGIN:VEVENT
DTSTART;TZID=America/Denver:20261231T190000
DTEND;TZID=America/Denver:20261231T200000
DTSTAMP:20260421T192258
CREATED:20250513T055622Z
LAST-MODIFIED:20250513T055622Z
UID:10004243-1798743600-1798747200@recoverystlouis.org
SUMMARY:Recovery Dharma Independent/in person only Open-mixed
DESCRIPTION:Contact\nMichelle T\n(314) 495-8026
URL:https://recoverystlouis.org/event/recovery-dharma-independent-in-person-only-open-mixed/2026-12-31/
END:VEVENT
BEGIN:VEVENT
DTSTART;TZID=America/Denver:20261231T100000
DTEND;TZID=America/Denver:20261231T111500
DTSTAMP:20260421T192258
CREATED:20250513T054602Z
LAST-MODIFIED:20250530T165143Z
UID:10002163-1798711200-1798715700@recoverystlouis.org
SUMMARY:AA Group 179 Open-mixed In person/online
DESCRIPTION:Zoom 598 988 635\nPW 241200
URL:https://recoverystlouis.org/event/aa-group-179-open-mixed-in-person-online/2026-12-31/
END:VEVENT
BEGIN:VEVENT
DTSTART;TZID=America/Denver:20261230T170000
DTEND;TZID=America/Denver:20261230T190000
DTSTAMP:20260421T192258
CREATED:20250513T054406Z
LAST-MODIFIED:20250513T054406Z
UID:10001643-1798650000-1798657200@recoverystlouis.org
SUMMARY:Private group
DESCRIPTION:
URL:https://recoverystlouis.org/event/private-group/2026-12-30/
END:VEVENT
BEGIN:VEVENT
DTSTART;TZID=America/Denver:20261229T190000
DTEND;TZID=America/Denver:20261229T200000
DTSTAMP:20260421T192258
CREATED:20250513T055457Z
LAST-MODIFIED:20250513T055457Z
UID:10003723-1798570800-1798574400@recoverystlouis.org
SUMMARY:AA Burton’s Heroes Open -mixed In person/online
DESCRIPTION:
URL:https://recoverystlouis.org/event/aa-burtons-heroes-open-mixed-in-person-online/2026-12-29/
END:VEVENT
BEGIN:VEVENT
DTSTART;TZID=America/Denver:20261229T173000
DTEND;TZID=America/Denver:20261229T183000
DTSTAMP:20260421T192258
CREATED:20250513T054121Z
LAST-MODIFIED:20250513T054121Z
UID:10001123-1798565400-1798569000@recoverystlouis.org
SUMMARY:AA Secular Sobriety Open-mixed In person/online
DESCRIPTION:Zoom: 343 811 2984\nPW 770507
URL:https://recoverystlouis.org/event/aa-secular-sobriety-open-mixed-in-person-online/2026-12-29/
END:VEVENT
BEGIN:VEVENT
DTSTART;TZID=America/Denver:20261228T180000
DTEND;TZID=America/Denver:20261228T190000
DTSTAMP:20260421T192258
CREATED:20250512T071133Z
LAST-MODIFIED:20250512T071133Z
UID:10000605-1798480800-1798484400@recoverystlouis.org
SUMMARY:I AM RESPONSIBLE Women’s-closed In person-online
DESCRIPTION:Zoom:191 385 271\nPW: 085501 \nContact Clare P\n(314) 448-2101
URL:https://recoverystlouis.org/event/i-am-responsible-womens-closed-in-person-online/2026-12-28/
END:VEVENT
BEGIN:VEVENT
DTSTART;TZID=America/Denver:20261227T110000
DTEND;TZID=America/Denver:20261227T120000
DTSTAMP:20260421T192258
CREATED:20250513T055407Z
LAST-MODIFIED:20250513T055407Z
UID:10003202-1798369200-1798372800@recoverystlouis.org
SUMMARY:OA Sunday Recovery Open-mixed In person/online
DESCRIPTION:Zoom:264 689 861\nPW:066708 \nContact\nCathy K (314) 538-1331
URL:https://recoverystlouis.org/event/oa-sunday-recovery-open-mixed-in-person-online/2026-12-27/
END:VEVENT
BEGIN:VEVENT
DTSTART;TZID=America/Denver:20261227T090000
DTEND;TZID=America/Denver:20261227T101500
DTSTAMP:20260421T192258
CREATED:20250428T191821Z
LAST-MODIFIED:20250512T070411Z
UID:10000085-1798362000-1798366500@recoverystlouis.org
SUMMARY:AA Group 255-FIVE AND DIME Closed-Mixed In person/online
DESCRIPTION:Zoom:845 2025 1856\nPW: 173321 \nContact\nMichael Mac\n314-249-8149
URL:https://recoverystlouis.org/event/lorem-ipsum/2026-12-27/
END:VEVENT
BEGIN:VEVENT
DTSTART;TZID=America/Denver:20261225T174500
DTEND;TZID=America/Denver:20261225T184500
DTSTAMP:20260421T192258
CREATED:20250513T055756Z
LAST-MODIFIED:20250513T055756Z
UID:10004762-1798220700-1798224300@recoverystlouis.org
SUMMARY:AA Group 413- happier Hour Women’s-Open In person/online
DESCRIPTION:Zoom 263 787 324\nPW 279425 \nContact\nLeigh H\n(314) 276-6953
URL:https://recoverystlouis.org/event/aa-group-413-happier-hour-womens-open-in-person-online/2026-12-25/
END:VEVENT
BEGIN:VEVENT
DTSTART;TZID=America/Denver:20261225T070500
DTEND;TZID=America/Denver:20261225T074500
DTSTAMP:20260421T192258
CREATED:20250513T055108Z
LAST-MODIFIED:20250513T055108Z
UID:10002682-1798182300-1798184700@recoverystlouis.org
SUMMARY:AA Closed/ Men only Primary Purpose Mens
DESCRIPTION:
URL:https://recoverystlouis.org/event/aa-closed-men-only-primary-purpose-mens/2026-12-25/
END:VEVENT
BEGIN:VEVENT
DTSTART;TZID=America/Denver:20261224T190000
DTEND;TZID=America/Denver:20261224T200000
DTSTAMP:20260421T192258
CREATED:20250513T055622Z
LAST-MODIFIED:20250513T055622Z
UID:10004242-1798138800-1798142400@recoverystlouis.org
SUMMARY:Recovery Dharma Independent/in person only Open-mixed
DESCRIPTION:Contact\nMichelle T\n(314) 495-8026
URL:https://recoverystlouis.org/event/recovery-dharma-independent-in-person-only-open-mixed/2026-12-24/
END:VEVENT
BEGIN:VEVENT
DTSTART;TZID=America/Denver:20261224T100000
DTEND;TZID=America/Denver:20261224T111500
DTSTAMP:20260421T192258
CREATED:20250513T054602Z
LAST-MODIFIED:20250530T165143Z
UID:10002162-1798106400-1798110900@recoverystlouis.org
SUMMARY:AA Group 179 Open-mixed In person/online
DESCRIPTION:Zoom 598 988 635\nPW 241200
URL:https://recoverystlouis.org/event/aa-group-179-open-mixed-in-person-online/2026-12-24/
END:VEVENT
END:VCALENDAR