BEGIN:VCALENDAR
VERSION:2.0
PRODID:-//Recovery St. Louis - ECPv6.15.17.1//NONSGML v1.0//EN
CALSCALE:GREGORIAN
METHOD:PUBLISH
X-WR-CALNAME:Recovery St. Louis
X-ORIGINAL-URL:https://recoverystlouis.org
X-WR-CALDESC:Events for Recovery St. Louis
REFRESH-INTERVAL;VALUE=DURATION:PT1H
X-Robots-Tag:noindex
X-PUBLISHED-TTL:PT1H
BEGIN:VTIMEZONE
TZID:America/Denver
BEGIN:DAYLIGHT
TZOFFSETFROM:-0700
TZOFFSETTO:-0600
TZNAME:MDT
DTSTART:20240310T090000
END:DAYLIGHT
BEGIN:STANDARD
TZOFFSETFROM:-0600
TZOFFSETTO:-0700
TZNAME:MST
DTSTART:20241103T080000
END:STANDARD
BEGIN:DAYLIGHT
TZOFFSETFROM:-0700
TZOFFSETTO:-0600
TZNAME:MDT
DTSTART:20250309T090000
END:DAYLIGHT
BEGIN:STANDARD
TZOFFSETFROM:-0600
TZOFFSETTO:-0700
TZNAME:MST
DTSTART:20251102T080000
END:STANDARD
BEGIN:DAYLIGHT
TZOFFSETFROM:-0700
TZOFFSETTO:-0600
TZNAME:MDT
DTSTART:20260308T090000
END:DAYLIGHT
BEGIN:STANDARD
TZOFFSETFROM:-0600
TZOFFSETTO:-0700
TZNAME:MST
DTSTART:20261101T080000
END:STANDARD
END:VTIMEZONE
BEGIN:VEVENT
DTSTART;TZID=America/Denver:20250912T070500
DTEND;TZID=America/Denver:20250912T074500
DTSTAMP:20260422T164552
CREATED:20250513T055108Z
LAST-MODIFIED:20250513T055108Z
UID:10002615-1757660700-1757663100@recoverystlouis.org
SUMMARY:AA Closed/ Men only Primary Purpose Mens
DESCRIPTION:
URL:https://recoverystlouis.org/event/aa-closed-men-only-primary-purpose-mens/2025-09-12/
END:VEVENT
BEGIN:VEVENT
DTSTART;TZID=America/Denver:20250911T190000
DTEND;TZID=America/Denver:20250911T200000
DTSTAMP:20260422T164552
CREATED:20250513T055622Z
LAST-MODIFIED:20250513T055622Z
UID:10004175-1757617200-1757620800@recoverystlouis.org
SUMMARY:Recovery Dharma Independent/in person only Open-mixed
DESCRIPTION:Contact\nMichelle T\n(314) 495-8026
URL:https://recoverystlouis.org/event/recovery-dharma-independent-in-person-only-open-mixed/2025-09-11/
END:VEVENT
BEGIN:VEVENT
DTSTART;TZID=America/Denver:20250911T100000
DTEND;TZID=America/Denver:20250911T111500
DTSTAMP:20260422T164552
CREATED:20250513T054602Z
LAST-MODIFIED:20250530T165143Z
UID:10002095-1757584800-1757589300@recoverystlouis.org
SUMMARY:AA Group 179 Open-mixed In person/online
DESCRIPTION:Zoom 598 988 635\nPW 241200
URL:https://recoverystlouis.org/event/aa-group-179-open-mixed-in-person-online/2025-09-11/
END:VEVENT
BEGIN:VEVENT
DTSTART;TZID=America/Denver:20250910T170000
DTEND;TZID=America/Denver:20250910T190000
DTSTAMP:20260422T164552
CREATED:20250513T054406Z
LAST-MODIFIED:20250513T054406Z
UID:10001575-1757523600-1757530800@recoverystlouis.org
SUMMARY:Private group
DESCRIPTION:
URL:https://recoverystlouis.org/event/private-group/2025-09-10/
END:VEVENT
BEGIN:VEVENT
DTSTART;TZID=America/Denver:20250909T190000
DTEND;TZID=America/Denver:20250909T200000
DTSTAMP:20260422T164552
CREATED:20250513T055457Z
LAST-MODIFIED:20250513T055457Z
UID:10003655-1757444400-1757448000@recoverystlouis.org
SUMMARY:AA Burton’s Heroes Open -mixed In person/online
DESCRIPTION:
URL:https://recoverystlouis.org/event/aa-burtons-heroes-open-mixed-in-person-online/2025-09-09/
END:VEVENT
BEGIN:VEVENT
DTSTART;TZID=America/Denver:20250909T173000
DTEND;TZID=America/Denver:20250909T183000
DTSTAMP:20260422T164552
CREATED:20250513T054121Z
LAST-MODIFIED:20250513T054121Z
UID:10001055-1757439000-1757442600@recoverystlouis.org
SUMMARY:AA Secular Sobriety Open-mixed In person/online
DESCRIPTION:Zoom: 343 811 2984\nPW 770507
URL:https://recoverystlouis.org/event/aa-secular-sobriety-open-mixed-in-person-online/2025-09-09/
END:VEVENT
BEGIN:VEVENT
DTSTART;TZID=America/Denver:20250908T180000
DTEND;TZID=America/Denver:20250908T190000
DTSTAMP:20260422T164552
CREATED:20250512T071133Z
LAST-MODIFIED:20250512T071133Z
UID:10000537-1757354400-1757358000@recoverystlouis.org
SUMMARY:I AM RESPONSIBLE Women’s-closed In person-online
DESCRIPTION:Zoom:191 385 271\nPW: 085501 \nContact Clare P\n(314) 448-2101
URL:https://recoverystlouis.org/event/i-am-responsible-womens-closed-in-person-online/2025-09-08/
END:VEVENT
BEGIN:VEVENT
DTSTART;TZID=America/Denver:20250907T110000
DTEND;TZID=America/Denver:20250907T120000
DTSTAMP:20260422T164552
CREATED:20250513T055407Z
LAST-MODIFIED:20250513T055407Z
UID:10003134-1757242800-1757246400@recoverystlouis.org
SUMMARY:OA Sunday Recovery Open-mixed In person/online
DESCRIPTION:Zoom:264 689 861\nPW:066708 \nContact\nCathy K (314) 538-1331
URL:https://recoverystlouis.org/event/oa-sunday-recovery-open-mixed-in-person-online/2025-09-07/
END:VEVENT
BEGIN:VEVENT
DTSTART;TZID=America/Denver:20250907T090000
DTEND;TZID=America/Denver:20250907T101500
DTSTAMP:20260422T164552
CREATED:20250428T191821Z
LAST-MODIFIED:20250512T070411Z
UID:10000017-1757235600-1757240100@recoverystlouis.org
SUMMARY:AA Group 255-FIVE AND DIME Closed-Mixed In person/online
DESCRIPTION:Zoom:845 2025 1856\nPW: 173321 \nContact\nMichael Mac\n314-249-8149
URL:https://recoverystlouis.org/event/lorem-ipsum/2025-09-07/
END:VEVENT
BEGIN:VEVENT
DTSTART;TZID=America/Denver:20250905T174500
DTEND;TZID=America/Denver:20250905T184500
DTSTAMP:20260422T164552
CREATED:20250513T055756Z
LAST-MODIFIED:20250513T055756Z
UID:10004694-1757094300-1757097900@recoverystlouis.org
SUMMARY:AA Group 413- happier Hour Women’s-Open In person/online
DESCRIPTION:Zoom 263 787 324\nPW 279425 \nContact\nLeigh H\n(314) 276-6953
URL:https://recoverystlouis.org/event/aa-group-413-happier-hour-womens-open-in-person-online/2025-09-05/
END:VEVENT
BEGIN:VEVENT
DTSTART;TZID=America/Denver:20250905T070500
DTEND;TZID=America/Denver:20250905T074500
DTSTAMP:20260422T164552
CREATED:20250513T055108Z
LAST-MODIFIED:20250513T055108Z
UID:10002614-1757055900-1757058300@recoverystlouis.org
SUMMARY:AA Closed/ Men only Primary Purpose Mens
DESCRIPTION:
URL:https://recoverystlouis.org/event/aa-closed-men-only-primary-purpose-mens/2025-09-05/
END:VEVENT
BEGIN:VEVENT
DTSTART;TZID=America/Denver:20250904T190000
DTEND;TZID=America/Denver:20250904T200000
DTSTAMP:20260422T164552
CREATED:20250513T055622Z
LAST-MODIFIED:20250513T055622Z
UID:10004174-1757012400-1757016000@recoverystlouis.org
SUMMARY:Recovery Dharma Independent/in person only Open-mixed
DESCRIPTION:Contact\nMichelle T\n(314) 495-8026
URL:https://recoverystlouis.org/event/recovery-dharma-independent-in-person-only-open-mixed/2025-09-04/
END:VEVENT
BEGIN:VEVENT
DTSTART;TZID=America/Denver:20250904T100000
DTEND;TZID=America/Denver:20250904T111500
DTSTAMP:20260422T164552
CREATED:20250513T054602Z
LAST-MODIFIED:20250530T165143Z
UID:10002094-1756980000-1756984500@recoverystlouis.org
SUMMARY:AA Group 179 Open-mixed In person/online
DESCRIPTION:Zoom 598 988 635\nPW 241200
URL:https://recoverystlouis.org/event/aa-group-179-open-mixed-in-person-online/2025-09-04/
END:VEVENT
BEGIN:VEVENT
DTSTART;TZID=America/Denver:20250903T170000
DTEND;TZID=America/Denver:20250903T190000
DTSTAMP:20260422T164552
CREATED:20250513T054406Z
LAST-MODIFIED:20250513T054406Z
UID:10001574-1756918800-1756926000@recoverystlouis.org
SUMMARY:Private group
DESCRIPTION:
URL:https://recoverystlouis.org/event/private-group/2025-09-03/
END:VEVENT
BEGIN:VEVENT
DTSTART;TZID=America/Denver:20250902T190000
DTEND;TZID=America/Denver:20250902T200000
DTSTAMP:20260422T164552
CREATED:20250513T055457Z
LAST-MODIFIED:20250513T055457Z
UID:10003654-1756839600-1756843200@recoverystlouis.org
SUMMARY:AA Burton’s Heroes Open -mixed In person/online
DESCRIPTION:
URL:https://recoverystlouis.org/event/aa-burtons-heroes-open-mixed-in-person-online/2025-09-02/
END:VEVENT
BEGIN:VEVENT
DTSTART;TZID=America/Denver:20250902T173000
DTEND;TZID=America/Denver:20250902T183000
DTSTAMP:20260422T164552
CREATED:20250513T054121Z
LAST-MODIFIED:20250513T054121Z
UID:10001054-1756834200-1756837800@recoverystlouis.org
SUMMARY:AA Secular Sobriety Open-mixed In person/online
DESCRIPTION:Zoom: 343 811 2984\nPW 770507
URL:https://recoverystlouis.org/event/aa-secular-sobriety-open-mixed-in-person-online/2025-09-02/
END:VEVENT
BEGIN:VEVENT
DTSTART;TZID=America/Denver:20250901T180000
DTEND;TZID=America/Denver:20250901T190000
DTSTAMP:20260422T164552
CREATED:20250512T071133Z
LAST-MODIFIED:20250512T071133Z
UID:10000536-1756749600-1756753200@recoverystlouis.org
SUMMARY:I AM RESPONSIBLE Women’s-closed In person-online
DESCRIPTION:Zoom:191 385 271\nPW: 085501 \nContact Clare P\n(314) 448-2101
URL:https://recoverystlouis.org/event/i-am-responsible-womens-closed-in-person-online/2025-09-01/
END:VEVENT
BEGIN:VEVENT
DTSTART;TZID=America/Denver:20250831T110000
DTEND;TZID=America/Denver:20250831T120000
DTSTAMP:20260422T164552
CREATED:20250513T055407Z
LAST-MODIFIED:20250513T055407Z
UID:10003133-1756638000-1756641600@recoverystlouis.org
SUMMARY:OA Sunday Recovery Open-mixed In person/online
DESCRIPTION:Zoom:264 689 861\nPW:066708 \nContact\nCathy K (314) 538-1331
URL:https://recoverystlouis.org/event/oa-sunday-recovery-open-mixed-in-person-online/2025-08-31/
END:VEVENT
BEGIN:VEVENT
DTSTART;TZID=America/Denver:20250831T090000
DTEND;TZID=America/Denver:20250831T101500
DTSTAMP:20260422T164552
CREATED:20250428T191821Z
LAST-MODIFIED:20250512T070411Z
UID:10000016-1756630800-1756635300@recoverystlouis.org
SUMMARY:AA Group 255-FIVE AND DIME Closed-Mixed In person/online
DESCRIPTION:Zoom:845 2025 1856\nPW: 173321 \nContact\nMichael Mac\n314-249-8149
URL:https://recoverystlouis.org/event/lorem-ipsum/2025-08-31/
END:VEVENT
BEGIN:VEVENT
DTSTART;TZID=America/Denver:20250829T174500
DTEND;TZID=America/Denver:20250829T184500
DTSTAMP:20260422T164552
CREATED:20250513T055756Z
LAST-MODIFIED:20250513T055756Z
UID:10004693-1756489500-1756493100@recoverystlouis.org
SUMMARY:AA Group 413- happier Hour Women’s-Open In person/online
DESCRIPTION:Zoom 263 787 324\nPW 279425 \nContact\nLeigh H\n(314) 276-6953
URL:https://recoverystlouis.org/event/aa-group-413-happier-hour-womens-open-in-person-online/2025-08-29/
END:VEVENT
BEGIN:VEVENT
DTSTART;TZID=America/Denver:20250829T070500
DTEND;TZID=America/Denver:20250829T074500
DTSTAMP:20260422T164552
CREATED:20250513T055108Z
LAST-MODIFIED:20250513T055108Z
UID:10002613-1756451100-1756453500@recoverystlouis.org
SUMMARY:AA Closed/ Men only Primary Purpose Mens
DESCRIPTION:
URL:https://recoverystlouis.org/event/aa-closed-men-only-primary-purpose-mens/2025-08-29/
END:VEVENT
BEGIN:VEVENT
DTSTART;TZID=America/Denver:20250828T190000
DTEND;TZID=America/Denver:20250828T200000
DTSTAMP:20260422T164552
CREATED:20250513T055622Z
LAST-MODIFIED:20250513T055622Z
UID:10004173-1756407600-1756411200@recoverystlouis.org
SUMMARY:Recovery Dharma Independent/in person only Open-mixed
DESCRIPTION:Contact\nMichelle T\n(314) 495-8026
URL:https://recoverystlouis.org/event/recovery-dharma-independent-in-person-only-open-mixed/2025-08-28/
END:VEVENT
BEGIN:VEVENT
DTSTART;TZID=America/Denver:20250828T100000
DTEND;TZID=America/Denver:20250828T111500
DTSTAMP:20260422T164552
CREATED:20250513T054602Z
LAST-MODIFIED:20250530T165143Z
UID:10002093-1756375200-1756379700@recoverystlouis.org
SUMMARY:AA Group 179 Open-mixed In person/online
DESCRIPTION:Zoom 598 988 635\nPW 241200
URL:https://recoverystlouis.org/event/aa-group-179-open-mixed-in-person-online/2025-08-28/
END:VEVENT
BEGIN:VEVENT
DTSTART;TZID=America/Denver:20250827T170000
DTEND;TZID=America/Denver:20250827T190000
DTSTAMP:20260422T164552
CREATED:20250513T054406Z
LAST-MODIFIED:20250513T054406Z
UID:10001573-1756314000-1756321200@recoverystlouis.org
SUMMARY:Private group
DESCRIPTION:
URL:https://recoverystlouis.org/event/private-group/2025-08-27/
END:VEVENT
BEGIN:VEVENT
DTSTART;TZID=America/Denver:20250826T190000
DTEND;TZID=America/Denver:20250826T200000
DTSTAMP:20260422T164552
CREATED:20250513T055457Z
LAST-MODIFIED:20250513T055457Z
UID:10003653-1756234800-1756238400@recoverystlouis.org
SUMMARY:AA Burton’s Heroes Open -mixed In person/online
DESCRIPTION:
URL:https://recoverystlouis.org/event/aa-burtons-heroes-open-mixed-in-person-online/2025-08-26/
END:VEVENT
BEGIN:VEVENT
DTSTART;TZID=America/Denver:20250826T173000
DTEND;TZID=America/Denver:20250826T183000
DTSTAMP:20260422T164552
CREATED:20250513T054121Z
LAST-MODIFIED:20250513T054121Z
UID:10001053-1756229400-1756233000@recoverystlouis.org
SUMMARY:AA Secular Sobriety Open-mixed In person/online
DESCRIPTION:Zoom: 343 811 2984\nPW 770507
URL:https://recoverystlouis.org/event/aa-secular-sobriety-open-mixed-in-person-online/2025-08-26/
END:VEVENT
BEGIN:VEVENT
DTSTART;TZID=America/Denver:20250825T180000
DTEND;TZID=America/Denver:20250825T190000
DTSTAMP:20260422T164552
CREATED:20250512T071133Z
LAST-MODIFIED:20250512T071133Z
UID:10000535-1756144800-1756148400@recoverystlouis.org
SUMMARY:I AM RESPONSIBLE Women’s-closed In person-online
DESCRIPTION:Zoom:191 385 271\nPW: 085501 \nContact Clare P\n(314) 448-2101
URL:https://recoverystlouis.org/event/i-am-responsible-womens-closed-in-person-online/2025-08-25/
END:VEVENT
BEGIN:VEVENT
DTSTART;TZID=America/Denver:20250824T110000
DTEND;TZID=America/Denver:20250824T120000
DTSTAMP:20260422T164552
CREATED:20250513T055407Z
LAST-MODIFIED:20250513T055407Z
UID:10003132-1756033200-1756036800@recoverystlouis.org
SUMMARY:OA Sunday Recovery Open-mixed In person/online
DESCRIPTION:Zoom:264 689 861\nPW:066708 \nContact\nCathy K (314) 538-1331
URL:https://recoverystlouis.org/event/oa-sunday-recovery-open-mixed-in-person-online/2025-08-24/
END:VEVENT
BEGIN:VEVENT
DTSTART;TZID=America/Denver:20250824T090000
DTEND;TZID=America/Denver:20250824T101500
DTSTAMP:20260422T164552
CREATED:20250428T191821Z
LAST-MODIFIED:20250512T070411Z
UID:10000015-1756026000-1756030500@recoverystlouis.org
SUMMARY:AA Group 255-FIVE AND DIME Closed-Mixed In person/online
DESCRIPTION:Zoom:845 2025 1856\nPW: 173321 \nContact\nMichael Mac\n314-249-8149
URL:https://recoverystlouis.org/event/lorem-ipsum/2025-08-24/
END:VEVENT
BEGIN:VEVENT
DTSTART;TZID=America/Denver:20250822T174500
DTEND;TZID=America/Denver:20250822T184500
DTSTAMP:20260422T164552
CREATED:20250513T055756Z
LAST-MODIFIED:20250513T055756Z
UID:10004692-1755884700-1755888300@recoverystlouis.org
SUMMARY:AA Group 413- happier Hour Women’s-Open In person/online
DESCRIPTION:Zoom 263 787 324\nPW 279425 \nContact\nLeigh H\n(314) 276-6953
URL:https://recoverystlouis.org/event/aa-group-413-happier-hour-womens-open-in-person-online/2025-08-22/
END:VEVENT
END:VCALENDAR