BEGIN:VCALENDAR
VERSION:2.0
PRODID:-//Recovery St. Louis - ECPv6.15.17.1//NONSGML v1.0//EN
CALSCALE:GREGORIAN
METHOD:PUBLISH
X-WR-CALNAME:Recovery St. Louis
X-ORIGINAL-URL:https://recoverystlouis.org
X-WR-CALDESC:Events for Recovery St. Louis
REFRESH-INTERVAL;VALUE=DURATION:PT1H
X-Robots-Tag:noindex
X-PUBLISHED-TTL:PT1H
BEGIN:VTIMEZONE
TZID:America/Denver
BEGIN:DAYLIGHT
TZOFFSETFROM:-0700
TZOFFSETTO:-0600
TZNAME:MDT
DTSTART:20240310T090000
END:DAYLIGHT
BEGIN:STANDARD
TZOFFSETFROM:-0600
TZOFFSETTO:-0700
TZNAME:MST
DTSTART:20241103T080000
END:STANDARD
BEGIN:DAYLIGHT
TZOFFSETFROM:-0700
TZOFFSETTO:-0600
TZNAME:MDT
DTSTART:20250309T090000
END:DAYLIGHT
BEGIN:STANDARD
TZOFFSETFROM:-0600
TZOFFSETTO:-0700
TZNAME:MST
DTSTART:20251102T080000
END:STANDARD
BEGIN:DAYLIGHT
TZOFFSETFROM:-0700
TZOFFSETTO:-0600
TZNAME:MDT
DTSTART:20260308T090000
END:DAYLIGHT
BEGIN:STANDARD
TZOFFSETFROM:-0600
TZOFFSETTO:-0700
TZNAME:MST
DTSTART:20261101T080000
END:STANDARD
END:VTIMEZONE
BEGIN:VEVENT
DTSTART;TZID=America/Denver:20250805T173000
DTEND;TZID=America/Denver:20250805T183000
DTSTAMP:20260422T160455
CREATED:20250513T054121Z
LAST-MODIFIED:20250513T054121Z
UID:10001050-1754415000-1754418600@recoverystlouis.org
SUMMARY:AA Secular Sobriety Open-mixed In person/online
DESCRIPTION:Zoom: 343 811 2984\nPW 770507
URL:https://recoverystlouis.org/event/aa-secular-sobriety-open-mixed-in-person-online/2025-08-05/
END:VEVENT
BEGIN:VEVENT
DTSTART;TZID=America/Denver:20250804T180000
DTEND;TZID=America/Denver:20250804T190000
DTSTAMP:20260422T160455
CREATED:20250512T071133Z
LAST-MODIFIED:20250512T071133Z
UID:10000532-1754330400-1754334000@recoverystlouis.org
SUMMARY:I AM RESPONSIBLE Women’s-closed In person-online
DESCRIPTION:Zoom:191 385 271\nPW: 085501 \nContact Clare P\n(314) 448-2101
URL:https://recoverystlouis.org/event/i-am-responsible-womens-closed-in-person-online/2025-08-04/
END:VEVENT
BEGIN:VEVENT
DTSTART;TZID=America/Denver:20250803T110000
DTEND;TZID=America/Denver:20250803T120000
DTSTAMP:20260422T160455
CREATED:20250513T055407Z
LAST-MODIFIED:20250513T055407Z
UID:10003129-1754218800-1754222400@recoverystlouis.org
SUMMARY:OA Sunday Recovery Open-mixed In person/online
DESCRIPTION:Zoom:264 689 861\nPW:066708 \nContact\nCathy K (314) 538-1331
URL:https://recoverystlouis.org/event/oa-sunday-recovery-open-mixed-in-person-online/2025-08-03/
END:VEVENT
BEGIN:VEVENT
DTSTART;TZID=America/Denver:20250803T090000
DTEND;TZID=America/Denver:20250803T101500
DTSTAMP:20260422T160455
CREATED:20250428T191821Z
LAST-MODIFIED:20250512T070411Z
UID:10000012-1754211600-1754216100@recoverystlouis.org
SUMMARY:AA Group 255-FIVE AND DIME Closed-Mixed In person/online
DESCRIPTION:Zoom:845 2025 1856\nPW: 173321 \nContact\nMichael Mac\n314-249-8149
URL:https://recoverystlouis.org/event/lorem-ipsum/2025-08-03/
END:VEVENT
BEGIN:VEVENT
DTSTART;TZID=America/Denver:20250801T174500
DTEND;TZID=America/Denver:20250801T184500
DTSTAMP:20260422T160455
CREATED:20250513T055756Z
LAST-MODIFIED:20250513T055756Z
UID:10004689-1754070300-1754073900@recoverystlouis.org
SUMMARY:AA Group 413- happier Hour Women’s-Open In person/online
DESCRIPTION:Zoom 263 787 324\nPW 279425 \nContact\nLeigh H\n(314) 276-6953
URL:https://recoverystlouis.org/event/aa-group-413-happier-hour-womens-open-in-person-online/2025-08-01/
END:VEVENT
BEGIN:VEVENT
DTSTART;TZID=America/Denver:20250801T070500
DTEND;TZID=America/Denver:20250801T074500
DTSTAMP:20260422T160455
CREATED:20250513T055108Z
LAST-MODIFIED:20250513T055108Z
UID:10002609-1754031900-1754034300@recoverystlouis.org
SUMMARY:AA Closed/ Men only Primary Purpose Mens
DESCRIPTION:
URL:https://recoverystlouis.org/event/aa-closed-men-only-primary-purpose-mens/2025-08-01/
END:VEVENT
BEGIN:VEVENT
DTSTART;TZID=America/Denver:20250731T190000
DTEND;TZID=America/Denver:20250731T200000
DTSTAMP:20260422T160455
CREATED:20250513T055622Z
LAST-MODIFIED:20250513T055622Z
UID:10004169-1753988400-1753992000@recoverystlouis.org
SUMMARY:Recovery Dharma Independent/in person only Open-mixed
DESCRIPTION:Contact\nMichelle T\n(314) 495-8026
URL:https://recoverystlouis.org/event/recovery-dharma-independent-in-person-only-open-mixed/2025-07-31/
END:VEVENT
BEGIN:VEVENT
DTSTART;TZID=America/Denver:20250731T100000
DTEND;TZID=America/Denver:20250731T111500
DTSTAMP:20260422T160455
CREATED:20250513T054602Z
LAST-MODIFIED:20250530T165143Z
UID:10002089-1753956000-1753960500@recoverystlouis.org
SUMMARY:AA Group 179 Open-mixed In person/online
DESCRIPTION:Zoom 598 988 635\nPW 241200
URL:https://recoverystlouis.org/event/aa-group-179-open-mixed-in-person-online/2025-07-31/
END:VEVENT
BEGIN:VEVENT
DTSTART;TZID=America/Denver:20250730T170000
DTEND;TZID=America/Denver:20250730T190000
DTSTAMP:20260422T160455
CREATED:20250513T054406Z
LAST-MODIFIED:20250513T054406Z
UID:10001569-1753894800-1753902000@recoverystlouis.org
SUMMARY:Private group
DESCRIPTION:
URL:https://recoverystlouis.org/event/private-group/2025-07-30/
END:VEVENT
BEGIN:VEVENT
DTSTART;TZID=America/Denver:20250729T190000
DTEND;TZID=America/Denver:20250729T200000
DTSTAMP:20260422T160455
CREATED:20250513T055457Z
LAST-MODIFIED:20250513T055457Z
UID:10003649-1753815600-1753819200@recoverystlouis.org
SUMMARY:AA Burton’s Heroes Open -mixed In person/online
DESCRIPTION:
URL:https://recoverystlouis.org/event/aa-burtons-heroes-open-mixed-in-person-online/2025-07-29/
END:VEVENT
BEGIN:VEVENT
DTSTART;TZID=America/Denver:20250729T173000
DTEND;TZID=America/Denver:20250729T183000
DTSTAMP:20260422T160455
CREATED:20250513T054121Z
LAST-MODIFIED:20250513T054121Z
UID:10001049-1753810200-1753813800@recoverystlouis.org
SUMMARY:AA Secular Sobriety Open-mixed In person/online
DESCRIPTION:Zoom: 343 811 2984\nPW 770507
URL:https://recoverystlouis.org/event/aa-secular-sobriety-open-mixed-in-person-online/2025-07-29/
END:VEVENT
BEGIN:VEVENT
DTSTART;TZID=America/Denver:20250728T180000
DTEND;TZID=America/Denver:20250728T190000
DTSTAMP:20260422T160455
CREATED:20250512T071133Z
LAST-MODIFIED:20250512T071133Z
UID:10000531-1753725600-1753729200@recoverystlouis.org
SUMMARY:I AM RESPONSIBLE Women’s-closed In person-online
DESCRIPTION:Zoom:191 385 271\nPW: 085501 \nContact Clare P\n(314) 448-2101
URL:https://recoverystlouis.org/event/i-am-responsible-womens-closed-in-person-online/2025-07-28/
END:VEVENT
BEGIN:VEVENT
DTSTART;TZID=America/Denver:20250727T110000
DTEND;TZID=America/Denver:20250727T120000
DTSTAMP:20260422T160455
CREATED:20250513T055407Z
LAST-MODIFIED:20250513T055407Z
UID:10003128-1753614000-1753617600@recoverystlouis.org
SUMMARY:OA Sunday Recovery Open-mixed In person/online
DESCRIPTION:Zoom:264 689 861\nPW:066708 \nContact\nCathy K (314) 538-1331
URL:https://recoverystlouis.org/event/oa-sunday-recovery-open-mixed-in-person-online/2025-07-27/
END:VEVENT
BEGIN:VEVENT
DTSTART;TZID=America/Denver:20250727T090000
DTEND;TZID=America/Denver:20250727T101500
DTSTAMP:20260422T160455
CREATED:20250428T191821Z
LAST-MODIFIED:20250512T070411Z
UID:10000011-1753606800-1753611300@recoverystlouis.org
SUMMARY:AA Group 255-FIVE AND DIME Closed-Mixed In person/online
DESCRIPTION:Zoom:845 2025 1856\nPW: 173321 \nContact\nMichael Mac\n314-249-8149
URL:https://recoverystlouis.org/event/lorem-ipsum/2025-07-27/
END:VEVENT
BEGIN:VEVENT
DTSTART;TZID=America/Denver:20250725T174500
DTEND;TZID=America/Denver:20250725T184500
DTSTAMP:20260422T160455
CREATED:20250513T055756Z
LAST-MODIFIED:20250513T055756Z
UID:10004688-1753465500-1753469100@recoverystlouis.org
SUMMARY:AA Group 413- happier Hour Women’s-Open In person/online
DESCRIPTION:Zoom 263 787 324\nPW 279425 \nContact\nLeigh H\n(314) 276-6953
URL:https://recoverystlouis.org/event/aa-group-413-happier-hour-womens-open-in-person-online/2025-07-25/
END:VEVENT
BEGIN:VEVENT
DTSTART;TZID=America/Denver:20250725T070500
DTEND;TZID=America/Denver:20250725T074500
DTSTAMP:20260422T160455
CREATED:20250513T055108Z
LAST-MODIFIED:20250513T055108Z
UID:10002608-1753427100-1753429500@recoverystlouis.org
SUMMARY:AA Closed/ Men only Primary Purpose Mens
DESCRIPTION:
URL:https://recoverystlouis.org/event/aa-closed-men-only-primary-purpose-mens/2025-07-25/
END:VEVENT
BEGIN:VEVENT
DTSTART;TZID=America/Denver:20250724T190000
DTEND;TZID=America/Denver:20250724T200000
DTSTAMP:20260422T160455
CREATED:20250513T055622Z
LAST-MODIFIED:20250513T055622Z
UID:10004168-1753383600-1753387200@recoverystlouis.org
SUMMARY:Recovery Dharma Independent/in person only Open-mixed
DESCRIPTION:Contact\nMichelle T\n(314) 495-8026
URL:https://recoverystlouis.org/event/recovery-dharma-independent-in-person-only-open-mixed/2025-07-24/
END:VEVENT
BEGIN:VEVENT
DTSTART;TZID=America/Denver:20250724T100000
DTEND;TZID=America/Denver:20250724T111500
DTSTAMP:20260422T160455
CREATED:20250513T054602Z
LAST-MODIFIED:20250530T165143Z
UID:10002088-1753351200-1753355700@recoverystlouis.org
SUMMARY:AA Group 179 Open-mixed In person/online
DESCRIPTION:Zoom 598 988 635\nPW 241200
URL:https://recoverystlouis.org/event/aa-group-179-open-mixed-in-person-online/2025-07-24/
END:VEVENT
BEGIN:VEVENT
DTSTART;TZID=America/Denver:20250723T170000
DTEND;TZID=America/Denver:20250723T190000
DTSTAMP:20260422T160455
CREATED:20250513T054406Z
LAST-MODIFIED:20250513T054406Z
UID:10001568-1753290000-1753297200@recoverystlouis.org
SUMMARY:Private group
DESCRIPTION:
URL:https://recoverystlouis.org/event/private-group/2025-07-23/
END:VEVENT
BEGIN:VEVENT
DTSTART;TZID=America/Denver:20250722T190000
DTEND;TZID=America/Denver:20250722T200000
DTSTAMP:20260422T160455
CREATED:20250513T055457Z
LAST-MODIFIED:20250513T055457Z
UID:10003648-1753210800-1753214400@recoverystlouis.org
SUMMARY:AA Burton’s Heroes Open -mixed In person/online
DESCRIPTION:
URL:https://recoverystlouis.org/event/aa-burtons-heroes-open-mixed-in-person-online/2025-07-22/
END:VEVENT
BEGIN:VEVENT
DTSTART;TZID=America/Denver:20250722T173000
DTEND;TZID=America/Denver:20250722T183000
DTSTAMP:20260422T160455
CREATED:20250513T054121Z
LAST-MODIFIED:20250513T054121Z
UID:10001048-1753205400-1753209000@recoverystlouis.org
SUMMARY:AA Secular Sobriety Open-mixed In person/online
DESCRIPTION:Zoom: 343 811 2984\nPW 770507
URL:https://recoverystlouis.org/event/aa-secular-sobriety-open-mixed-in-person-online/2025-07-22/
END:VEVENT
BEGIN:VEVENT
DTSTART;TZID=America/Denver:20250721T180000
DTEND;TZID=America/Denver:20250721T190000
DTSTAMP:20260422T160455
CREATED:20250512T071133Z
LAST-MODIFIED:20250512T071133Z
UID:10000530-1753120800-1753124400@recoverystlouis.org
SUMMARY:I AM RESPONSIBLE Women’s-closed In person-online
DESCRIPTION:Zoom:191 385 271\nPW: 085501 \nContact Clare P\n(314) 448-2101
URL:https://recoverystlouis.org/event/i-am-responsible-womens-closed-in-person-online/2025-07-21/
END:VEVENT
BEGIN:VEVENT
DTSTART;TZID=America/Denver:20250720T110000
DTEND;TZID=America/Denver:20250720T120000
DTSTAMP:20260422T160455
CREATED:20250513T055407Z
LAST-MODIFIED:20250513T055407Z
UID:10003127-1753009200-1753012800@recoverystlouis.org
SUMMARY:OA Sunday Recovery Open-mixed In person/online
DESCRIPTION:Zoom:264 689 861\nPW:066708 \nContact\nCathy K (314) 538-1331
URL:https://recoverystlouis.org/event/oa-sunday-recovery-open-mixed-in-person-online/2025-07-20/
END:VEVENT
BEGIN:VEVENT
DTSTART;TZID=America/Denver:20250720T090000
DTEND;TZID=America/Denver:20250720T101500
DTSTAMP:20260422T160455
CREATED:20250428T191821Z
LAST-MODIFIED:20250512T070411Z
UID:10000010-1753002000-1753006500@recoverystlouis.org
SUMMARY:AA Group 255-FIVE AND DIME Closed-Mixed In person/online
DESCRIPTION:Zoom:845 2025 1856\nPW: 173321 \nContact\nMichael Mac\n314-249-8149
URL:https://recoverystlouis.org/event/lorem-ipsum/2025-07-20/
END:VEVENT
BEGIN:VEVENT
DTSTART;TZID=America/Denver:20250718T174500
DTEND;TZID=America/Denver:20250718T184500
DTSTAMP:20260422T160456
CREATED:20250513T055756Z
LAST-MODIFIED:20250513T055756Z
UID:10004687-1752860700-1752864300@recoverystlouis.org
SUMMARY:AA Group 413- happier Hour Women’s-Open In person/online
DESCRIPTION:Zoom 263 787 324\nPW 279425 \nContact\nLeigh H\n(314) 276-6953
URL:https://recoverystlouis.org/event/aa-group-413-happier-hour-womens-open-in-person-online/2025-07-18/
END:VEVENT
BEGIN:VEVENT
DTSTART;TZID=America/Denver:20250718T070500
DTEND;TZID=America/Denver:20250718T074500
DTSTAMP:20260422T160456
CREATED:20250513T055108Z
LAST-MODIFIED:20250513T055108Z
UID:10002607-1752822300-1752824700@recoverystlouis.org
SUMMARY:AA Closed/ Men only Primary Purpose Mens
DESCRIPTION:
URL:https://recoverystlouis.org/event/aa-closed-men-only-primary-purpose-mens/2025-07-18/
END:VEVENT
BEGIN:VEVENT
DTSTART;TZID=America/Denver:20250717T190000
DTEND;TZID=America/Denver:20250717T200000
DTSTAMP:20260422T160456
CREATED:20250513T055622Z
LAST-MODIFIED:20250513T055622Z
UID:10004167-1752778800-1752782400@recoverystlouis.org
SUMMARY:Recovery Dharma Independent/in person only Open-mixed
DESCRIPTION:Contact\nMichelle T\n(314) 495-8026
URL:https://recoverystlouis.org/event/recovery-dharma-independent-in-person-only-open-mixed/2025-07-17/
END:VEVENT
BEGIN:VEVENT
DTSTART;TZID=America/Denver:20250717T100000
DTEND;TZID=America/Denver:20250717T111500
DTSTAMP:20260422T160456
CREATED:20250513T054602Z
LAST-MODIFIED:20250530T165143Z
UID:10002087-1752746400-1752750900@recoverystlouis.org
SUMMARY:AA Group 179 Open-mixed In person/online
DESCRIPTION:Zoom 598 988 635\nPW 241200
URL:https://recoverystlouis.org/event/aa-group-179-open-mixed-in-person-online/2025-07-17/
END:VEVENT
BEGIN:VEVENT
DTSTART;TZID=America/Denver:20250716T170000
DTEND;TZID=America/Denver:20250716T190000
DTSTAMP:20260422T160456
CREATED:20250513T054406Z
LAST-MODIFIED:20250513T054406Z
UID:10001567-1752685200-1752692400@recoverystlouis.org
SUMMARY:Private group
DESCRIPTION:
URL:https://recoverystlouis.org/event/private-group/2025-07-16/
END:VEVENT
BEGIN:VEVENT
DTSTART;TZID=America/Denver:20250715T190000
DTEND;TZID=America/Denver:20250715T200000
DTSTAMP:20260422T160456
CREATED:20250513T055457Z
LAST-MODIFIED:20250513T055457Z
UID:10003647-1752606000-1752609600@recoverystlouis.org
SUMMARY:AA Burton’s Heroes Open -mixed In person/online
DESCRIPTION:
URL:https://recoverystlouis.org/event/aa-burtons-heroes-open-mixed-in-person-online/2025-07-15/
END:VEVENT
END:VCALENDAR