BEGIN:VCALENDAR
VERSION:2.0
PRODID:-//Recovery St. Louis - ECPv6.15.17.1//NONSGML v1.0//EN
CALSCALE:GREGORIAN
METHOD:PUBLISH
X-WR-CALNAME:Recovery St. Louis
X-ORIGINAL-URL:https://recoverystlouis.org
X-WR-CALDESC:Events for Recovery St. Louis
REFRESH-INTERVAL;VALUE=DURATION:PT1H
X-Robots-Tag:noindex
X-PUBLISHED-TTL:PT1H
BEGIN:VTIMEZONE
TZID:America/Denver
BEGIN:DAYLIGHT
TZOFFSETFROM:-0700
TZOFFSETTO:-0600
TZNAME:MDT
DTSTART:20260308T090000
END:DAYLIGHT
BEGIN:STANDARD
TZOFFSETFROM:-0600
TZOFFSETTO:-0700
TZNAME:MST
DTSTART:20261101T080000
END:STANDARD
BEGIN:DAYLIGHT
TZOFFSETFROM:-0700
TZOFFSETTO:-0600
TZNAME:MDT
DTSTART:20270314T090000
END:DAYLIGHT
BEGIN:STANDARD
TZOFFSETFROM:-0600
TZOFFSETTO:-0700
TZNAME:MST
DTSTART:20271107T080000
END:STANDARD
BEGIN:DAYLIGHT
TZOFFSETFROM:-0700
TZOFFSETTO:-0600
TZNAME:MDT
DTSTART:20280312T090000
END:DAYLIGHT
BEGIN:STANDARD
TZOFFSETFROM:-0600
TZOFFSETTO:-0700
TZNAME:MST
DTSTART:20281105T080000
END:STANDARD
END:VTIMEZONE
BEGIN:VEVENT
DTSTART;TZID=America/Denver:20270131T090000
DTEND;TZID=America/Denver:20270131T101500
DTSTAMP:20260422T163904
CREATED:20250428T191821Z
LAST-MODIFIED:20250512T070411Z
UID:10000090-1801386000-1801390500@recoverystlouis.org
SUMMARY:AA Group 255-FIVE AND DIME Closed-Mixed In person/online
DESCRIPTION:Zoom:845 2025 1856\nPW: 173321 \nContact\nMichael Mac\n314-249-8149
URL:https://recoverystlouis.org/event/lorem-ipsum/2027-01-31/
END:VEVENT
BEGIN:VEVENT
DTSTART;TZID=America/Denver:20270131T110000
DTEND;TZID=America/Denver:20270131T120000
DTSTAMP:20260422T163904
CREATED:20250513T055407Z
LAST-MODIFIED:20250513T055407Z
UID:10003207-1801393200-1801396800@recoverystlouis.org
SUMMARY:OA Sunday Recovery Open-mixed In person/online
DESCRIPTION:Zoom:264 689 861\nPW:066708 \nContact\nCathy K (314) 538-1331
URL:https://recoverystlouis.org/event/oa-sunday-recovery-open-mixed-in-person-online/2027-01-31/
END:VEVENT
BEGIN:VEVENT
DTSTART;TZID=America/Denver:20270201T180000
DTEND;TZID=America/Denver:20270201T190000
DTSTAMP:20260422T163904
CREATED:20250512T071133Z
LAST-MODIFIED:20250512T071133Z
UID:10000610-1801504800-1801508400@recoverystlouis.org
SUMMARY:I AM RESPONSIBLE Women’s-closed In person-online
DESCRIPTION:Zoom:191 385 271\nPW: 085501 \nContact Clare P\n(314) 448-2101
URL:https://recoverystlouis.org/event/i-am-responsible-womens-closed-in-person-online/2027-02-01/
END:VEVENT
BEGIN:VEVENT
DTSTART;TZID=America/Denver:20270202T173000
DTEND;TZID=America/Denver:20270202T183000
DTSTAMP:20260422T163904
CREATED:20250513T054121Z
LAST-MODIFIED:20250513T054121Z
UID:10001128-1801589400-1801593000@recoverystlouis.org
SUMMARY:AA Secular Sobriety Open-mixed In person/online
DESCRIPTION:Zoom: 343 811 2984\nPW 770507
URL:https://recoverystlouis.org/event/aa-secular-sobriety-open-mixed-in-person-online/2027-02-02/
END:VEVENT
BEGIN:VEVENT
DTSTART;TZID=America/Denver:20270202T190000
DTEND;TZID=America/Denver:20270202T200000
DTSTAMP:20260422T163904
CREATED:20250513T055457Z
LAST-MODIFIED:20250513T055457Z
UID:10003728-1801594800-1801598400@recoverystlouis.org
SUMMARY:AA Burton’s Heroes Open -mixed In person/online
DESCRIPTION:
URL:https://recoverystlouis.org/event/aa-burtons-heroes-open-mixed-in-person-online/2027-02-02/
END:VEVENT
BEGIN:VEVENT
DTSTART;TZID=America/Denver:20270203T170000
DTEND;TZID=America/Denver:20270203T190000
DTSTAMP:20260422T163904
CREATED:20250513T054406Z
LAST-MODIFIED:20250513T054406Z
UID:10001648-1801674000-1801681200@recoverystlouis.org
SUMMARY:Private group
DESCRIPTION:
URL:https://recoverystlouis.org/event/private-group/2027-02-03/
END:VEVENT
BEGIN:VEVENT
DTSTART;TZID=America/Denver:20270204T100000
DTEND;TZID=America/Denver:20270204T111500
DTSTAMP:20260422T163904
CREATED:20250513T054602Z
LAST-MODIFIED:20250530T165143Z
UID:10002168-1801735200-1801739700@recoverystlouis.org
SUMMARY:AA Group 179 Open-mixed In person/online
DESCRIPTION:Zoom 598 988 635\nPW 241200
URL:https://recoverystlouis.org/event/aa-group-179-open-mixed-in-person-online/2027-02-04/
END:VEVENT
BEGIN:VEVENT
DTSTART;TZID=America/Denver:20270204T190000
DTEND;TZID=America/Denver:20270204T200000
DTSTAMP:20260422T163904
CREATED:20250513T055622Z
LAST-MODIFIED:20250513T055622Z
UID:10004248-1801767600-1801771200@recoverystlouis.org
SUMMARY:Recovery Dharma Independent/in person only Open-mixed
DESCRIPTION:Contact\nMichelle T\n(314) 495-8026
URL:https://recoverystlouis.org/event/recovery-dharma-independent-in-person-only-open-mixed/2027-02-04/
END:VEVENT
BEGIN:VEVENT
DTSTART;TZID=America/Denver:20270205T070500
DTEND;TZID=America/Denver:20270205T074500
DTSTAMP:20260422T163904
CREATED:20250513T055108Z
LAST-MODIFIED:20250513T055108Z
UID:10002688-1801811100-1801813500@recoverystlouis.org
SUMMARY:AA Closed/ Men only Primary Purpose Mens
DESCRIPTION:
URL:https://recoverystlouis.org/event/aa-closed-men-only-primary-purpose-mens/2027-02-05/
END:VEVENT
BEGIN:VEVENT
DTSTART;TZID=America/Denver:20270205T174500
DTEND;TZID=America/Denver:20270205T184500
DTSTAMP:20260422T163904
CREATED:20250513T055756Z
LAST-MODIFIED:20250513T055756Z
UID:10004768-1801849500-1801853100@recoverystlouis.org
SUMMARY:AA Group 413- happier Hour Women’s-Open In person/online
DESCRIPTION:Zoom 263 787 324\nPW 279425 \nContact\nLeigh H\n(314) 276-6953
URL:https://recoverystlouis.org/event/aa-group-413-happier-hour-womens-open-in-person-online/2027-02-05/
END:VEVENT
BEGIN:VEVENT
DTSTART;TZID=America/Denver:20270207T090000
DTEND;TZID=America/Denver:20270207T101500
DTSTAMP:20260422T163904
CREATED:20250428T191821Z
LAST-MODIFIED:20250512T070411Z
UID:10000091-1801990800-1801995300@recoverystlouis.org
SUMMARY:AA Group 255-FIVE AND DIME Closed-Mixed In person/online
DESCRIPTION:Zoom:845 2025 1856\nPW: 173321 \nContact\nMichael Mac\n314-249-8149
URL:https://recoverystlouis.org/event/lorem-ipsum/2027-02-07/
END:VEVENT
BEGIN:VEVENT
DTSTART;TZID=America/Denver:20270207T110000
DTEND;TZID=America/Denver:20270207T120000
DTSTAMP:20260422T163904
CREATED:20250513T055407Z
LAST-MODIFIED:20250513T055407Z
UID:10003208-1801998000-1802001600@recoverystlouis.org
SUMMARY:OA Sunday Recovery Open-mixed In person/online
DESCRIPTION:Zoom:264 689 861\nPW:066708 \nContact\nCathy K (314) 538-1331
URL:https://recoverystlouis.org/event/oa-sunday-recovery-open-mixed-in-person-online/2027-02-07/
END:VEVENT
BEGIN:VEVENT
DTSTART;TZID=America/Denver:20270208T180000
DTEND;TZID=America/Denver:20270208T190000
DTSTAMP:20260422T163904
CREATED:20250512T071133Z
LAST-MODIFIED:20250512T071133Z
UID:10000611-1802109600-1802113200@recoverystlouis.org
SUMMARY:I AM RESPONSIBLE Women’s-closed In person-online
DESCRIPTION:Zoom:191 385 271\nPW: 085501 \nContact Clare P\n(314) 448-2101
URL:https://recoverystlouis.org/event/i-am-responsible-womens-closed-in-person-online/2027-02-08/
END:VEVENT
BEGIN:VEVENT
DTSTART;TZID=America/Denver:20270209T173000
DTEND;TZID=America/Denver:20270209T183000
DTSTAMP:20260422T163904
CREATED:20250513T054121Z
LAST-MODIFIED:20250513T054121Z
UID:10001129-1802194200-1802197800@recoverystlouis.org
SUMMARY:AA Secular Sobriety Open-mixed In person/online
DESCRIPTION:Zoom: 343 811 2984\nPW 770507
URL:https://recoverystlouis.org/event/aa-secular-sobriety-open-mixed-in-person-online/2027-02-09/
END:VEVENT
BEGIN:VEVENT
DTSTART;TZID=America/Denver:20270209T190000
DTEND;TZID=America/Denver:20270209T200000
DTSTAMP:20260422T163904
CREATED:20250513T055457Z
LAST-MODIFIED:20250513T055457Z
UID:10003729-1802199600-1802203200@recoverystlouis.org
SUMMARY:AA Burton’s Heroes Open -mixed In person/online
DESCRIPTION:
URL:https://recoverystlouis.org/event/aa-burtons-heroes-open-mixed-in-person-online/2027-02-09/
END:VEVENT
BEGIN:VEVENT
DTSTART;TZID=America/Denver:20270210T170000
DTEND;TZID=America/Denver:20270210T190000
DTSTAMP:20260422T163904
CREATED:20250513T054406Z
LAST-MODIFIED:20250513T054406Z
UID:10001649-1802278800-1802286000@recoverystlouis.org
SUMMARY:Private group
DESCRIPTION:
URL:https://recoverystlouis.org/event/private-group/2027-02-10/
END:VEVENT
BEGIN:VEVENT
DTSTART;TZID=America/Denver:20270211T100000
DTEND;TZID=America/Denver:20270211T111500
DTSTAMP:20260422T163904
CREATED:20250513T054602Z
LAST-MODIFIED:20250530T165143Z
UID:10002169-1802340000-1802344500@recoverystlouis.org
SUMMARY:AA Group 179 Open-mixed In person/online
DESCRIPTION:Zoom 598 988 635\nPW 241200
URL:https://recoverystlouis.org/event/aa-group-179-open-mixed-in-person-online/2027-02-11/
END:VEVENT
BEGIN:VEVENT
DTSTART;TZID=America/Denver:20270211T190000
DTEND;TZID=America/Denver:20270211T200000
DTSTAMP:20260422T163904
CREATED:20250513T055622Z
LAST-MODIFIED:20250513T055622Z
UID:10004249-1802372400-1802376000@recoverystlouis.org
SUMMARY:Recovery Dharma Independent/in person only Open-mixed
DESCRIPTION:Contact\nMichelle T\n(314) 495-8026
URL:https://recoverystlouis.org/event/recovery-dharma-independent-in-person-only-open-mixed/2027-02-11/
END:VEVENT
BEGIN:VEVENT
DTSTART;TZID=America/Denver:20270212T070500
DTEND;TZID=America/Denver:20270212T074500
DTSTAMP:20260422T163904
CREATED:20250513T055108Z
LAST-MODIFIED:20250513T055108Z
UID:10002689-1802415900-1802418300@recoverystlouis.org
SUMMARY:AA Closed/ Men only Primary Purpose Mens
DESCRIPTION:
URL:https://recoverystlouis.org/event/aa-closed-men-only-primary-purpose-mens/2027-02-12/
END:VEVENT
BEGIN:VEVENT
DTSTART;TZID=America/Denver:20270212T174500
DTEND;TZID=America/Denver:20270212T184500
DTSTAMP:20260422T163904
CREATED:20250513T055756Z
LAST-MODIFIED:20250513T055756Z
UID:10004769-1802454300-1802457900@recoverystlouis.org
SUMMARY:AA Group 413- happier Hour Women’s-Open In person/online
DESCRIPTION:Zoom 263 787 324\nPW 279425 \nContact\nLeigh H\n(314) 276-6953
URL:https://recoverystlouis.org/event/aa-group-413-happier-hour-womens-open-in-person-online/2027-02-12/
END:VEVENT
BEGIN:VEVENT
DTSTART;TZID=America/Denver:20270214T090000
DTEND;TZID=America/Denver:20270214T101500
DTSTAMP:20260422T163904
CREATED:20250428T191821Z
LAST-MODIFIED:20250512T070411Z
UID:10000092-1802595600-1802600100@recoverystlouis.org
SUMMARY:AA Group 255-FIVE AND DIME Closed-Mixed In person/online
DESCRIPTION:Zoom:845 2025 1856\nPW: 173321 \nContact\nMichael Mac\n314-249-8149
URL:https://recoverystlouis.org/event/lorem-ipsum/2027-02-14/
END:VEVENT
BEGIN:VEVENT
DTSTART;TZID=America/Denver:20270214T110000
DTEND;TZID=America/Denver:20270214T120000
DTSTAMP:20260422T163904
CREATED:20250513T055407Z
LAST-MODIFIED:20250513T055407Z
UID:10003209-1802602800-1802606400@recoverystlouis.org
SUMMARY:OA Sunday Recovery Open-mixed In person/online
DESCRIPTION:Zoom:264 689 861\nPW:066708 \nContact\nCathy K (314) 538-1331
URL:https://recoverystlouis.org/event/oa-sunday-recovery-open-mixed-in-person-online/2027-02-14/
END:VEVENT
BEGIN:VEVENT
DTSTART;TZID=America/Denver:20270215T180000
DTEND;TZID=America/Denver:20270215T190000
DTSTAMP:20260422T163904
CREATED:20250512T071133Z
LAST-MODIFIED:20250512T071133Z
UID:10000612-1802714400-1802718000@recoverystlouis.org
SUMMARY:I AM RESPONSIBLE Women’s-closed In person-online
DESCRIPTION:Zoom:191 385 271\nPW: 085501 \nContact Clare P\n(314) 448-2101
URL:https://recoverystlouis.org/event/i-am-responsible-womens-closed-in-person-online/2027-02-15/
END:VEVENT
BEGIN:VEVENT
DTSTART;TZID=America/Denver:20270216T173000
DTEND;TZID=America/Denver:20270216T183000
DTSTAMP:20260422T163904
CREATED:20250513T054121Z
LAST-MODIFIED:20250513T054121Z
UID:10001130-1802799000-1802802600@recoverystlouis.org
SUMMARY:AA Secular Sobriety Open-mixed In person/online
DESCRIPTION:Zoom: 343 811 2984\nPW 770507
URL:https://recoverystlouis.org/event/aa-secular-sobriety-open-mixed-in-person-online/2027-02-16/
END:VEVENT
BEGIN:VEVENT
DTSTART;TZID=America/Denver:20270216T190000
DTEND;TZID=America/Denver:20270216T200000
DTSTAMP:20260422T163904
CREATED:20250513T055457Z
LAST-MODIFIED:20250513T055457Z
UID:10003730-1802804400-1802808000@recoverystlouis.org
SUMMARY:AA Burton’s Heroes Open -mixed In person/online
DESCRIPTION:
URL:https://recoverystlouis.org/event/aa-burtons-heroes-open-mixed-in-person-online/2027-02-16/
END:VEVENT
BEGIN:VEVENT
DTSTART;TZID=America/Denver:20270217T170000
DTEND;TZID=America/Denver:20270217T190000
DTSTAMP:20260422T163904
CREATED:20250513T054406Z
LAST-MODIFIED:20250513T054406Z
UID:10001650-1802883600-1802890800@recoverystlouis.org
SUMMARY:Private group
DESCRIPTION:
URL:https://recoverystlouis.org/event/private-group/2027-02-17/
END:VEVENT
BEGIN:VEVENT
DTSTART;TZID=America/Denver:20270218T100000
DTEND;TZID=America/Denver:20270218T111500
DTSTAMP:20260422T163904
CREATED:20250513T054602Z
LAST-MODIFIED:20250530T165143Z
UID:10002170-1802944800-1802949300@recoverystlouis.org
SUMMARY:AA Group 179 Open-mixed In person/online
DESCRIPTION:Zoom 598 988 635\nPW 241200
URL:https://recoverystlouis.org/event/aa-group-179-open-mixed-in-person-online/2027-02-18/
END:VEVENT
BEGIN:VEVENT
DTSTART;TZID=America/Denver:20270218T190000
DTEND;TZID=America/Denver:20270218T200000
DTSTAMP:20260422T163904
CREATED:20250513T055622Z
LAST-MODIFIED:20250513T055622Z
UID:10004250-1802977200-1802980800@recoverystlouis.org
SUMMARY:Recovery Dharma Independent/in person only Open-mixed
DESCRIPTION:Contact\nMichelle T\n(314) 495-8026
URL:https://recoverystlouis.org/event/recovery-dharma-independent-in-person-only-open-mixed/2027-02-18/
END:VEVENT
BEGIN:VEVENT
DTSTART;TZID=America/Denver:20270219T070500
DTEND;TZID=America/Denver:20270219T074500
DTSTAMP:20260422T163904
CREATED:20250513T055108Z
LAST-MODIFIED:20250513T055108Z
UID:10002690-1803020700-1803023100@recoverystlouis.org
SUMMARY:AA Closed/ Men only Primary Purpose Mens
DESCRIPTION:
URL:https://recoverystlouis.org/event/aa-closed-men-only-primary-purpose-mens/2027-02-19/
END:VEVENT
BEGIN:VEVENT
DTSTART;TZID=America/Denver:20270219T174500
DTEND;TZID=America/Denver:20270219T184500
DTSTAMP:20260422T163904
CREATED:20250513T055756Z
LAST-MODIFIED:20250513T055756Z
UID:10004770-1803059100-1803062700@recoverystlouis.org
SUMMARY:AA Group 413- happier Hour Women’s-Open In person/online
DESCRIPTION:Zoom 263 787 324\nPW 279425 \nContact\nLeigh H\n(314) 276-6953
URL:https://recoverystlouis.org/event/aa-group-413-happier-hour-womens-open-in-person-online/2027-02-19/
END:VEVENT
END:VCALENDAR