BEGIN:VCALENDAR
VERSION:2.0
PRODID:-//Recovery St. Louis - ECPv6.15.17.1//NONSGML v1.0//EN
CALSCALE:GREGORIAN
METHOD:PUBLISH
X-ORIGINAL-URL:https://recoverystlouis.org
X-WR-CALDESC:Events for Recovery St. Louis
REFRESH-INTERVAL;VALUE=DURATION:PT1H
X-Robots-Tag:noindex
X-PUBLISHED-TTL:PT1H
BEGIN:VTIMEZONE
TZID:America/Denver
BEGIN:DAYLIGHT
TZOFFSETFROM:-0700
TZOFFSETTO:-0600
TZNAME:MDT
DTSTART:20280312T090000
END:DAYLIGHT
BEGIN:STANDARD
TZOFFSETFROM:-0600
TZOFFSETTO:-0700
TZNAME:MST
DTSTART:20281105T080000
END:STANDARD
BEGIN:DAYLIGHT
TZOFFSETFROM:-0700
TZOFFSETTO:-0600
TZNAME:MDT
DTSTART:20290311T090000
END:DAYLIGHT
BEGIN:STANDARD
TZOFFSETFROM:-0600
TZOFFSETTO:-0700
TZNAME:MST
DTSTART:20291104T080000
END:STANDARD
BEGIN:DAYLIGHT
TZOFFSETFROM:-0700
TZOFFSETTO:-0600
TZNAME:MDT
DTSTART:20300310T090000
END:DAYLIGHT
BEGIN:STANDARD
TZOFFSETFROM:-0600
TZOFFSETTO:-0700
TZNAME:MST
DTSTART:20301103T080000
END:STANDARD
END:VTIMEZONE
BEGIN:VEVENT
DTSTART;TZID=America/Denver:20291012T070500
DTEND;TZID=America/Denver:20291012T074500
DTSTAMP:20260424T205246
CREATED:20250513T055108Z
LAST-MODIFIED:20250513T055108Z
UID:10002828-1886483100-1886485500@recoverystlouis.org
SUMMARY:AA Closed/ Men only Primary Purpose Mens
DESCRIPTION:
URL:https://recoverystlouis.org/event/aa-closed-men-only-primary-purpose-mens/2029-10-12/
END:VEVENT
BEGIN:VEVENT
DTSTART;TZID=America/Denver:20291012T174500
DTEND;TZID=America/Denver:20291012T184500
DTSTAMP:20260424T205246
CREATED:20250513T055756Z
LAST-MODIFIED:20250513T055756Z
UID:10004908-1886521500-1886525100@recoverystlouis.org
SUMMARY:AA Group 413- happier Hour Women’s-Open In person/online
DESCRIPTION:Zoom 263 787 324\nPW 279425 \nContact\nLeigh H\n(314) 276-6953
URL:https://recoverystlouis.org/event/aa-group-413-happier-hour-womens-open-in-person-online/2029-10-12/
END:VEVENT
BEGIN:VEVENT
DTSTART;TZID=America/Denver:20291014T090000
DTEND;TZID=America/Denver:20291014T101500
DTSTAMP:20260424T205246
CREATED:20250428T191821Z
LAST-MODIFIED:20250512T070411Z
UID:10000231-1886662800-1886667300@recoverystlouis.org
SUMMARY:AA Group 255-FIVE AND DIME Closed-Mixed In person/online
DESCRIPTION:Zoom:845 2025 1856\nPW: 173321 \nContact\nMichael Mac\n314-249-8149
URL:https://recoverystlouis.org/event/lorem-ipsum/2029-10-14/
END:VEVENT
BEGIN:VEVENT
DTSTART;TZID=America/Denver:20291014T110000
DTEND;TZID=America/Denver:20291014T120000
DTSTAMP:20260424T205246
CREATED:20250513T055407Z
LAST-MODIFIED:20250513T055407Z
UID:10003348-1886670000-1886673600@recoverystlouis.org
SUMMARY:OA Sunday Recovery Open-mixed In person/online
DESCRIPTION:Zoom:264 689 861\nPW:066708 \nContact\nCathy K (314) 538-1331
URL:https://recoverystlouis.org/event/oa-sunday-recovery-open-mixed-in-person-online/2029-10-14/
END:VEVENT
BEGIN:VEVENT
DTSTART;TZID=America/Denver:20291015T180000
DTEND;TZID=America/Denver:20291015T190000
DTSTAMP:20260424T205246
CREATED:20250512T071133Z
LAST-MODIFIED:20250512T071133Z
UID:10000751-1886781600-1886785200@recoverystlouis.org
SUMMARY:I AM RESPONSIBLE Women’s-closed In person-online
DESCRIPTION:Zoom:191 385 271\nPW: 085501 \nContact Clare P\n(314) 448-2101
URL:https://recoverystlouis.org/event/i-am-responsible-womens-closed-in-person-online/2029-10-15/
END:VEVENT
BEGIN:VEVENT
DTSTART;TZID=America/Denver:20291016T173000
DTEND;TZID=America/Denver:20291016T183000
DTSTAMP:20260424T205246
CREATED:20250513T054121Z
LAST-MODIFIED:20250513T054121Z
UID:10001269-1886866200-1886869800@recoverystlouis.org
SUMMARY:AA Secular Sobriety Open-mixed In person/online
DESCRIPTION:Zoom: 343 811 2984\nPW 770507
URL:https://recoverystlouis.org/event/aa-secular-sobriety-open-mixed-in-person-online/2029-10-16/
END:VEVENT
BEGIN:VEVENT
DTSTART;TZID=America/Denver:20291016T190000
DTEND;TZID=America/Denver:20291016T200000
DTSTAMP:20260424T205246
CREATED:20250513T055457Z
LAST-MODIFIED:20250513T055457Z
UID:10003869-1886871600-1886875200@recoverystlouis.org
SUMMARY:AA Burton’s Heroes Open -mixed In person/online
DESCRIPTION:
URL:https://recoverystlouis.org/event/aa-burtons-heroes-open-mixed-in-person-online/2029-10-16/
END:VEVENT
BEGIN:VEVENT
DTSTART;TZID=America/Denver:20291017T170000
DTEND;TZID=America/Denver:20291017T190000
DTSTAMP:20260424T205246
CREATED:20250513T054406Z
LAST-MODIFIED:20250513T054406Z
UID:10001789-1886950800-1886958000@recoverystlouis.org
SUMMARY:Private group
DESCRIPTION:
URL:https://recoverystlouis.org/event/private-group/2029-10-17/
END:VEVENT
BEGIN:VEVENT
DTSTART;TZID=America/Denver:20291018T100000
DTEND;TZID=America/Denver:20291018T111500
DTSTAMP:20260424T205246
CREATED:20250513T054602Z
LAST-MODIFIED:20250530T165143Z
UID:10002309-1887012000-1887016500@recoverystlouis.org
SUMMARY:AA Group 179 Open-mixed In person/online
DESCRIPTION:Zoom 598 988 635\nPW 241200
URL:https://recoverystlouis.org/event/aa-group-179-open-mixed-in-person-online/2029-10-18/
END:VEVENT
BEGIN:VEVENT
DTSTART;TZID=America/Denver:20291018T190000
DTEND;TZID=America/Denver:20291018T200000
DTSTAMP:20260424T205246
CREATED:20250513T055622Z
LAST-MODIFIED:20250513T055622Z
UID:10004389-1887044400-1887048000@recoverystlouis.org
SUMMARY:Recovery Dharma Independent/in person only Open-mixed
DESCRIPTION:Contact\nMichelle T\n(314) 495-8026
URL:https://recoverystlouis.org/event/recovery-dharma-independent-in-person-only-open-mixed/2029-10-18/
END:VEVENT
BEGIN:VEVENT
DTSTART;TZID=America/Denver:20291019T070500
DTEND;TZID=America/Denver:20291019T074500
DTSTAMP:20260424T205246
CREATED:20250513T055108Z
LAST-MODIFIED:20250513T055108Z
UID:10002829-1887087900-1887090300@recoverystlouis.org
SUMMARY:AA Closed/ Men only Primary Purpose Mens
DESCRIPTION:
URL:https://recoverystlouis.org/event/aa-closed-men-only-primary-purpose-mens/2029-10-19/
END:VEVENT
BEGIN:VEVENT
DTSTART;TZID=America/Denver:20291019T174500
DTEND;TZID=America/Denver:20291019T184500
DTSTAMP:20260424T205246
CREATED:20250513T055756Z
LAST-MODIFIED:20250513T055756Z
UID:10004909-1887126300-1887129900@recoverystlouis.org
SUMMARY:AA Group 413- happier Hour Women’s-Open In person/online
DESCRIPTION:Zoom 263 787 324\nPW 279425 \nContact\nLeigh H\n(314) 276-6953
URL:https://recoverystlouis.org/event/aa-group-413-happier-hour-womens-open-in-person-online/2029-10-19/
END:VEVENT
BEGIN:VEVENT
DTSTART;TZID=America/Denver:20291021T090000
DTEND;TZID=America/Denver:20291021T101500
DTSTAMP:20260424T205246
CREATED:20250428T191821Z
LAST-MODIFIED:20250512T070411Z
UID:10000232-1887267600-1887272100@recoverystlouis.org
SUMMARY:AA Group 255-FIVE AND DIME Closed-Mixed In person/online
DESCRIPTION:Zoom:845 2025 1856\nPW: 173321 \nContact\nMichael Mac\n314-249-8149
URL:https://recoverystlouis.org/event/lorem-ipsum/2029-10-21/
END:VEVENT
BEGIN:VEVENT
DTSTART;TZID=America/Denver:20291021T110000
DTEND;TZID=America/Denver:20291021T120000
DTSTAMP:20260424T205246
CREATED:20250513T055407Z
LAST-MODIFIED:20250513T055407Z
UID:10003349-1887274800-1887278400@recoverystlouis.org
SUMMARY:OA Sunday Recovery Open-mixed In person/online
DESCRIPTION:Zoom:264 689 861\nPW:066708 \nContact\nCathy K (314) 538-1331
URL:https://recoverystlouis.org/event/oa-sunday-recovery-open-mixed-in-person-online/2029-10-21/
END:VEVENT
BEGIN:VEVENT
DTSTART;TZID=America/Denver:20291022T180000
DTEND;TZID=America/Denver:20291022T190000
DTSTAMP:20260424T205246
CREATED:20250512T071133Z
LAST-MODIFIED:20250512T071133Z
UID:10000752-1887386400-1887390000@recoverystlouis.org
SUMMARY:I AM RESPONSIBLE Women’s-closed In person-online
DESCRIPTION:Zoom:191 385 271\nPW: 085501 \nContact Clare P\n(314) 448-2101
URL:https://recoverystlouis.org/event/i-am-responsible-womens-closed-in-person-online/2029-10-22/
END:VEVENT
BEGIN:VEVENT
DTSTART;TZID=America/Denver:20291023T173000
DTEND;TZID=America/Denver:20291023T183000
DTSTAMP:20260424T205246
CREATED:20250513T054121Z
LAST-MODIFIED:20250513T054121Z
UID:10001270-1887471000-1887474600@recoverystlouis.org
SUMMARY:AA Secular Sobriety Open-mixed In person/online
DESCRIPTION:Zoom: 343 811 2984\nPW 770507
URL:https://recoverystlouis.org/event/aa-secular-sobriety-open-mixed-in-person-online/2029-10-23/
END:VEVENT
BEGIN:VEVENT
DTSTART;TZID=America/Denver:20291023T190000
DTEND;TZID=America/Denver:20291023T200000
DTSTAMP:20260424T205246
CREATED:20250513T055457Z
LAST-MODIFIED:20250513T055457Z
UID:10003870-1887476400-1887480000@recoverystlouis.org
SUMMARY:AA Burton’s Heroes Open -mixed In person/online
DESCRIPTION:
URL:https://recoverystlouis.org/event/aa-burtons-heroes-open-mixed-in-person-online/2029-10-23/
END:VEVENT
BEGIN:VEVENT
DTSTART;TZID=America/Denver:20291024T170000
DTEND;TZID=America/Denver:20291024T190000
DTSTAMP:20260424T205246
CREATED:20250513T054406Z
LAST-MODIFIED:20250513T054406Z
UID:10001790-1887555600-1887562800@recoverystlouis.org
SUMMARY:Private group
DESCRIPTION:
URL:https://recoverystlouis.org/event/private-group/2029-10-24/
END:VEVENT
BEGIN:VEVENT
DTSTART;TZID=America/Denver:20291025T100000
DTEND;TZID=America/Denver:20291025T111500
DTSTAMP:20260424T205246
CREATED:20250513T054602Z
LAST-MODIFIED:20250530T165143Z
UID:10002310-1887616800-1887621300@recoverystlouis.org
SUMMARY:AA Group 179 Open-mixed In person/online
DESCRIPTION:Zoom 598 988 635\nPW 241200
URL:https://recoverystlouis.org/event/aa-group-179-open-mixed-in-person-online/2029-10-25/
END:VEVENT
BEGIN:VEVENT
DTSTART;TZID=America/Denver:20291025T190000
DTEND;TZID=America/Denver:20291025T200000
DTSTAMP:20260424T205246
CREATED:20250513T055622Z
LAST-MODIFIED:20250513T055622Z
UID:10004390-1887649200-1887652800@recoverystlouis.org
SUMMARY:Recovery Dharma Independent/in person only Open-mixed
DESCRIPTION:Contact\nMichelle T\n(314) 495-8026
URL:https://recoverystlouis.org/event/recovery-dharma-independent-in-person-only-open-mixed/2029-10-25/
END:VEVENT
BEGIN:VEVENT
DTSTART;TZID=America/Denver:20291026T070500
DTEND;TZID=America/Denver:20291026T074500
DTSTAMP:20260424T205246
CREATED:20250513T055108Z
LAST-MODIFIED:20250513T055108Z
UID:10002830-1887692700-1887695100@recoverystlouis.org
SUMMARY:AA Closed/ Men only Primary Purpose Mens
DESCRIPTION:
URL:https://recoverystlouis.org/event/aa-closed-men-only-primary-purpose-mens/2029-10-26/
END:VEVENT
BEGIN:VEVENT
DTSTART;TZID=America/Denver:20291026T174500
DTEND;TZID=America/Denver:20291026T184500
DTSTAMP:20260424T205246
CREATED:20250513T055756Z
LAST-MODIFIED:20250513T055756Z
UID:10004910-1887731100-1887734700@recoverystlouis.org
SUMMARY:AA Group 413- happier Hour Women’s-Open In person/online
DESCRIPTION:Zoom 263 787 324\nPW 279425 \nContact\nLeigh H\n(314) 276-6953
URL:https://recoverystlouis.org/event/aa-group-413-happier-hour-womens-open-in-person-online/2029-10-26/
END:VEVENT
BEGIN:VEVENT
DTSTART;TZID=America/Denver:20291028T090000
DTEND;TZID=America/Denver:20291028T101500
DTSTAMP:20260424T205246
CREATED:20250428T191821Z
LAST-MODIFIED:20250512T070411Z
UID:10000233-1887872400-1887876900@recoverystlouis.org
SUMMARY:AA Group 255-FIVE AND DIME Closed-Mixed In person/online
DESCRIPTION:Zoom:845 2025 1856\nPW: 173321 \nContact\nMichael Mac\n314-249-8149
URL:https://recoverystlouis.org/event/lorem-ipsum/2029-10-28/
END:VEVENT
BEGIN:VEVENT
DTSTART;TZID=America/Denver:20291028T110000
DTEND;TZID=America/Denver:20291028T120000
DTSTAMP:20260424T205246
CREATED:20250513T055407Z
LAST-MODIFIED:20250513T055407Z
UID:10003350-1887879600-1887883200@recoverystlouis.org
SUMMARY:OA Sunday Recovery Open-mixed In person/online
DESCRIPTION:Zoom:264 689 861\nPW:066708 \nContact\nCathy K (314) 538-1331
URL:https://recoverystlouis.org/event/oa-sunday-recovery-open-mixed-in-person-online/2029-10-28/
END:VEVENT
BEGIN:VEVENT
DTSTART;TZID=America/Denver:20291029T180000
DTEND;TZID=America/Denver:20291029T190000
DTSTAMP:20260424T205246
CREATED:20250512T071133Z
LAST-MODIFIED:20250512T071133Z
UID:10000753-1887991200-1887994800@recoverystlouis.org
SUMMARY:I AM RESPONSIBLE Women’s-closed In person-online
DESCRIPTION:Zoom:191 385 271\nPW: 085501 \nContact Clare P\n(314) 448-2101
URL:https://recoverystlouis.org/event/i-am-responsible-womens-closed-in-person-online/2029-10-29/
END:VEVENT
BEGIN:VEVENT
DTSTART;TZID=America/Denver:20291030T173000
DTEND;TZID=America/Denver:20291030T183000
DTSTAMP:20260424T205246
CREATED:20250513T054121Z
LAST-MODIFIED:20250513T054121Z
UID:10001271-1888075800-1888079400@recoverystlouis.org
SUMMARY:AA Secular Sobriety Open-mixed In person/online
DESCRIPTION:Zoom: 343 811 2984\nPW 770507
URL:https://recoverystlouis.org/event/aa-secular-sobriety-open-mixed-in-person-online/2029-10-30/
END:VEVENT
BEGIN:VEVENT
DTSTART;TZID=America/Denver:20291030T190000
DTEND;TZID=America/Denver:20291030T200000
DTSTAMP:20260424T205246
CREATED:20250513T055457Z
LAST-MODIFIED:20250513T055457Z
UID:10003871-1888081200-1888084800@recoverystlouis.org
SUMMARY:AA Burton’s Heroes Open -mixed In person/online
DESCRIPTION:
URL:https://recoverystlouis.org/event/aa-burtons-heroes-open-mixed-in-person-online/2029-10-30/
END:VEVENT
BEGIN:VEVENT
DTSTART;TZID=America/Denver:20291031T170000
DTEND;TZID=America/Denver:20291031T190000
DTSTAMP:20260424T205247
CREATED:20250513T054406Z
LAST-MODIFIED:20250513T054406Z
UID:10001791-1888160400-1888167600@recoverystlouis.org
SUMMARY:Private group
DESCRIPTION:
URL:https://recoverystlouis.org/event/private-group/2029-10-31/
END:VEVENT
BEGIN:VEVENT
DTSTART;TZID=America/Denver:20291101T100000
DTEND;TZID=America/Denver:20291101T111500
DTSTAMP:20260424T205247
CREATED:20250513T054602Z
LAST-MODIFIED:20250530T165143Z
UID:10002311-1888221600-1888226100@recoverystlouis.org
SUMMARY:AA Group 179 Open-mixed In person/online
DESCRIPTION:Zoom 598 988 635\nPW 241200
URL:https://recoverystlouis.org/event/aa-group-179-open-mixed-in-person-online/2029-11-01/
END:VEVENT
BEGIN:VEVENT
DTSTART;TZID=America/Denver:20291101T190000
DTEND;TZID=America/Denver:20291101T200000
DTSTAMP:20260424T205247
CREATED:20250513T055622Z
LAST-MODIFIED:20250513T055622Z
UID:10004391-1888254000-1888257600@recoverystlouis.org
SUMMARY:Recovery Dharma Independent/in person only Open-mixed
DESCRIPTION:Contact\nMichelle T\n(314) 495-8026
URL:https://recoverystlouis.org/event/recovery-dharma-independent-in-person-only-open-mixed/2029-11-01/
END:VEVENT
END:VCALENDAR