BEGIN:VCALENDAR
VERSION:2.0
PRODID:-//Recovery St. Louis - ECPv6.15.17.1//NONSGML v1.0//EN
CALSCALE:GREGORIAN
METHOD:PUBLISH
X-ORIGINAL-URL:https://recoverystlouis.org
X-WR-CALDESC:Events for Recovery St. Louis
REFRESH-INTERVAL;VALUE=DURATION:PT1H
X-Robots-Tag:noindex
X-PUBLISHED-TTL:PT1H
BEGIN:VTIMEZONE
TZID:America/Denver
BEGIN:DAYLIGHT
TZOFFSETFROM:-0700
TZOFFSETTO:-0600
TZNAME:MDT
DTSTART:20270314T090000
END:DAYLIGHT
BEGIN:STANDARD
TZOFFSETFROM:-0600
TZOFFSETTO:-0700
TZNAME:MST
DTSTART:20271107T080000
END:STANDARD
BEGIN:DAYLIGHT
TZOFFSETFROM:-0700
TZOFFSETTO:-0600
TZNAME:MDT
DTSTART:20280312T090000
END:DAYLIGHT
BEGIN:STANDARD
TZOFFSETFROM:-0600
TZOFFSETTO:-0700
TZNAME:MST
DTSTART:20281105T080000
END:STANDARD
BEGIN:DAYLIGHT
TZOFFSETFROM:-0700
TZOFFSETTO:-0600
TZNAME:MDT
DTSTART:20290311T090000
END:DAYLIGHT
BEGIN:STANDARD
TZOFFSETFROM:-0600
TZOFFSETTO:-0700
TZNAME:MST
DTSTART:20291104T080000
END:STANDARD
END:VTIMEZONE
BEGIN:VEVENT
DTSTART;TZID=America/Denver:20280823T170000
DTEND;TZID=America/Denver:20280823T190000
DTSTAMP:20260423T181125
CREATED:20250513T054406Z
LAST-MODIFIED:20250513T054406Z
UID:10001729-1850662800-1850670000@recoverystlouis.org
SUMMARY:Private group
DESCRIPTION:
URL:https://recoverystlouis.org/event/private-group/2028-08-23/
END:VEVENT
BEGIN:VEVENT
DTSTART;TZID=America/Denver:20280824T100000
DTEND;TZID=America/Denver:20280824T111500
DTSTAMP:20260423T181125
CREATED:20250513T054602Z
LAST-MODIFIED:20250530T165143Z
UID:10002249-1850724000-1850728500@recoverystlouis.org
SUMMARY:AA Group 179 Open-mixed In person/online
DESCRIPTION:Zoom 598 988 635\nPW 241200
URL:https://recoverystlouis.org/event/aa-group-179-open-mixed-in-person-online/2028-08-24/
END:VEVENT
BEGIN:VEVENT
DTSTART;TZID=America/Denver:20280824T190000
DTEND;TZID=America/Denver:20280824T200000
DTSTAMP:20260423T181125
CREATED:20250513T055622Z
LAST-MODIFIED:20250513T055622Z
UID:10004329-1850756400-1850760000@recoverystlouis.org
SUMMARY:Recovery Dharma Independent/in person only Open-mixed
DESCRIPTION:Contact\nMichelle T\n(314) 495-8026
URL:https://recoverystlouis.org/event/recovery-dharma-independent-in-person-only-open-mixed/2028-08-24/
END:VEVENT
BEGIN:VEVENT
DTSTART;TZID=America/Denver:20280825T070500
DTEND;TZID=America/Denver:20280825T074500
DTSTAMP:20260423T181125
CREATED:20250513T055108Z
LAST-MODIFIED:20250513T055108Z
UID:10002769-1850799900-1850802300@recoverystlouis.org
SUMMARY:AA Closed/ Men only Primary Purpose Mens
DESCRIPTION:
URL:https://recoverystlouis.org/event/aa-closed-men-only-primary-purpose-mens/2028-08-25/
END:VEVENT
BEGIN:VEVENT
DTSTART;TZID=America/Denver:20280825T174500
DTEND;TZID=America/Denver:20280825T184500
DTSTAMP:20260423T181125
CREATED:20250513T055756Z
LAST-MODIFIED:20250513T055756Z
UID:10004849-1850838300-1850841900@recoverystlouis.org
SUMMARY:AA Group 413- happier Hour Women’s-Open In person/online
DESCRIPTION:Zoom 263 787 324\nPW 279425 \nContact\nLeigh H\n(314) 276-6953
URL:https://recoverystlouis.org/event/aa-group-413-happier-hour-womens-open-in-person-online/2028-08-25/
END:VEVENT
BEGIN:VEVENT
DTSTART;TZID=America/Denver:20280827T090000
DTEND;TZID=America/Denver:20280827T101500
DTSTAMP:20260423T181125
CREATED:20250428T191821Z
LAST-MODIFIED:20250512T070411Z
UID:10000172-1850979600-1850984100@recoverystlouis.org
SUMMARY:AA Group 255-FIVE AND DIME Closed-Mixed In person/online
DESCRIPTION:Zoom:845 2025 1856\nPW: 173321 \nContact\nMichael Mac\n314-249-8149
URL:https://recoverystlouis.org/event/lorem-ipsum/2028-08-27/
END:VEVENT
BEGIN:VEVENT
DTSTART;TZID=America/Denver:20280827T110000
DTEND;TZID=America/Denver:20280827T120000
DTSTAMP:20260423T181125
CREATED:20250513T055407Z
LAST-MODIFIED:20250513T055407Z
UID:10003289-1850986800-1850990400@recoverystlouis.org
SUMMARY:OA Sunday Recovery Open-mixed In person/online
DESCRIPTION:Zoom:264 689 861\nPW:066708 \nContact\nCathy K (314) 538-1331
URL:https://recoverystlouis.org/event/oa-sunday-recovery-open-mixed-in-person-online/2028-08-27/
END:VEVENT
BEGIN:VEVENT
DTSTART;TZID=America/Denver:20280828T180000
DTEND;TZID=America/Denver:20280828T190000
DTSTAMP:20260423T181125
CREATED:20250512T071133Z
LAST-MODIFIED:20250512T071133Z
UID:10000692-1851098400-1851102000@recoverystlouis.org
SUMMARY:I AM RESPONSIBLE Women’s-closed In person-online
DESCRIPTION:Zoom:191 385 271\nPW: 085501 \nContact Clare P\n(314) 448-2101
URL:https://recoverystlouis.org/event/i-am-responsible-womens-closed-in-person-online/2028-08-28/
END:VEVENT
BEGIN:VEVENT
DTSTART;TZID=America/Denver:20280829T173000
DTEND;TZID=America/Denver:20280829T183000
DTSTAMP:20260423T181125
CREATED:20250513T054121Z
LAST-MODIFIED:20250513T054121Z
UID:10001210-1851183000-1851186600@recoverystlouis.org
SUMMARY:AA Secular Sobriety Open-mixed In person/online
DESCRIPTION:Zoom: 343 811 2984\nPW 770507
URL:https://recoverystlouis.org/event/aa-secular-sobriety-open-mixed-in-person-online/2028-08-29/
END:VEVENT
BEGIN:VEVENT
DTSTART;TZID=America/Denver:20280829T190000
DTEND;TZID=America/Denver:20280829T200000
DTSTAMP:20260423T181125
CREATED:20250513T055457Z
LAST-MODIFIED:20250513T055457Z
UID:10003810-1851188400-1851192000@recoverystlouis.org
SUMMARY:AA Burton’s Heroes Open -mixed In person/online
DESCRIPTION:
URL:https://recoverystlouis.org/event/aa-burtons-heroes-open-mixed-in-person-online/2028-08-29/
END:VEVENT
BEGIN:VEVENT
DTSTART;TZID=America/Denver:20280830T170000
DTEND;TZID=America/Denver:20280830T190000
DTSTAMP:20260423T181125
CREATED:20250513T054406Z
LAST-MODIFIED:20250513T054406Z
UID:10001730-1851267600-1851274800@recoverystlouis.org
SUMMARY:Private group
DESCRIPTION:
URL:https://recoverystlouis.org/event/private-group/2028-08-30/
END:VEVENT
BEGIN:VEVENT
DTSTART;TZID=America/Denver:20280831T100000
DTEND;TZID=America/Denver:20280831T111500
DTSTAMP:20260423T181125
CREATED:20250513T054602Z
LAST-MODIFIED:20250530T165143Z
UID:10002250-1851328800-1851333300@recoverystlouis.org
SUMMARY:AA Group 179 Open-mixed In person/online
DESCRIPTION:Zoom 598 988 635\nPW 241200
URL:https://recoverystlouis.org/event/aa-group-179-open-mixed-in-person-online/2028-08-31/
END:VEVENT
BEGIN:VEVENT
DTSTART;TZID=America/Denver:20280831T190000
DTEND;TZID=America/Denver:20280831T200000
DTSTAMP:20260423T181125
CREATED:20250513T055622Z
LAST-MODIFIED:20250513T055622Z
UID:10004330-1851361200-1851364800@recoverystlouis.org
SUMMARY:Recovery Dharma Independent/in person only Open-mixed
DESCRIPTION:Contact\nMichelle T\n(314) 495-8026
URL:https://recoverystlouis.org/event/recovery-dharma-independent-in-person-only-open-mixed/2028-08-31/
END:VEVENT
BEGIN:VEVENT
DTSTART;TZID=America/Denver:20280901T070500
DTEND;TZID=America/Denver:20280901T074500
DTSTAMP:20260423T181125
CREATED:20250513T055108Z
LAST-MODIFIED:20250513T055108Z
UID:10002770-1851404700-1851407100@recoverystlouis.org
SUMMARY:AA Closed/ Men only Primary Purpose Mens
DESCRIPTION:
URL:https://recoverystlouis.org/event/aa-closed-men-only-primary-purpose-mens/2028-09-01/
END:VEVENT
BEGIN:VEVENT
DTSTART;TZID=America/Denver:20280901T174500
DTEND;TZID=America/Denver:20280901T184500
DTSTAMP:20260423T181125
CREATED:20250513T055756Z
LAST-MODIFIED:20250513T055756Z
UID:10004850-1851443100-1851446700@recoverystlouis.org
SUMMARY:AA Group 413- happier Hour Women’s-Open In person/online
DESCRIPTION:Zoom 263 787 324\nPW 279425 \nContact\nLeigh H\n(314) 276-6953
URL:https://recoverystlouis.org/event/aa-group-413-happier-hour-womens-open-in-person-online/2028-09-01/
END:VEVENT
BEGIN:VEVENT
DTSTART;TZID=America/Denver:20280903T090000
DTEND;TZID=America/Denver:20280903T101500
DTSTAMP:20260423T181125
CREATED:20250428T191821Z
LAST-MODIFIED:20250512T070411Z
UID:10000173-1851584400-1851588900@recoverystlouis.org
SUMMARY:AA Group 255-FIVE AND DIME Closed-Mixed In person/online
DESCRIPTION:Zoom:845 2025 1856\nPW: 173321 \nContact\nMichael Mac\n314-249-8149
URL:https://recoverystlouis.org/event/lorem-ipsum/2028-09-03/
END:VEVENT
BEGIN:VEVENT
DTSTART;TZID=America/Denver:20280903T110000
DTEND;TZID=America/Denver:20280903T120000
DTSTAMP:20260423T181125
CREATED:20250513T055407Z
LAST-MODIFIED:20250513T055407Z
UID:10003290-1851591600-1851595200@recoverystlouis.org
SUMMARY:OA Sunday Recovery Open-mixed In person/online
DESCRIPTION:Zoom:264 689 861\nPW:066708 \nContact\nCathy K (314) 538-1331
URL:https://recoverystlouis.org/event/oa-sunday-recovery-open-mixed-in-person-online/2028-09-03/
END:VEVENT
BEGIN:VEVENT
DTSTART;TZID=America/Denver:20280904T180000
DTEND;TZID=America/Denver:20280904T190000
DTSTAMP:20260423T181125
CREATED:20250512T071133Z
LAST-MODIFIED:20250512T071133Z
UID:10000693-1851703200-1851706800@recoverystlouis.org
SUMMARY:I AM RESPONSIBLE Women’s-closed In person-online
DESCRIPTION:Zoom:191 385 271\nPW: 085501 \nContact Clare P\n(314) 448-2101
URL:https://recoverystlouis.org/event/i-am-responsible-womens-closed-in-person-online/2028-09-04/
END:VEVENT
BEGIN:VEVENT
DTSTART;TZID=America/Denver:20280905T173000
DTEND;TZID=America/Denver:20280905T183000
DTSTAMP:20260423T181125
CREATED:20250513T054121Z
LAST-MODIFIED:20250513T054121Z
UID:10001211-1851787800-1851791400@recoverystlouis.org
SUMMARY:AA Secular Sobriety Open-mixed In person/online
DESCRIPTION:Zoom: 343 811 2984\nPW 770507
URL:https://recoverystlouis.org/event/aa-secular-sobriety-open-mixed-in-person-online/2028-09-05/
END:VEVENT
BEGIN:VEVENT
DTSTART;TZID=America/Denver:20280905T190000
DTEND;TZID=America/Denver:20280905T200000
DTSTAMP:20260423T181125
CREATED:20250513T055457Z
LAST-MODIFIED:20250513T055457Z
UID:10003811-1851793200-1851796800@recoverystlouis.org
SUMMARY:AA Burton’s Heroes Open -mixed In person/online
DESCRIPTION:
URL:https://recoverystlouis.org/event/aa-burtons-heroes-open-mixed-in-person-online/2028-09-05/
END:VEVENT
BEGIN:VEVENT
DTSTART;TZID=America/Denver:20280906T170000
DTEND;TZID=America/Denver:20280906T190000
DTSTAMP:20260423T181125
CREATED:20250513T054406Z
LAST-MODIFIED:20250513T054406Z
UID:10001731-1851872400-1851879600@recoverystlouis.org
SUMMARY:Private group
DESCRIPTION:
URL:https://recoverystlouis.org/event/private-group/2028-09-06/
END:VEVENT
BEGIN:VEVENT
DTSTART;TZID=America/Denver:20280907T100000
DTEND;TZID=America/Denver:20280907T111500
DTSTAMP:20260423T181125
CREATED:20250513T054602Z
LAST-MODIFIED:20250530T165143Z
UID:10002251-1851933600-1851938100@recoverystlouis.org
SUMMARY:AA Group 179 Open-mixed In person/online
DESCRIPTION:Zoom 598 988 635\nPW 241200
URL:https://recoverystlouis.org/event/aa-group-179-open-mixed-in-person-online/2028-09-07/
END:VEVENT
BEGIN:VEVENT
DTSTART;TZID=America/Denver:20280907T190000
DTEND;TZID=America/Denver:20280907T200000
DTSTAMP:20260423T181125
CREATED:20250513T055622Z
LAST-MODIFIED:20250513T055622Z
UID:10004331-1851966000-1851969600@recoverystlouis.org
SUMMARY:Recovery Dharma Independent/in person only Open-mixed
DESCRIPTION:Contact\nMichelle T\n(314) 495-8026
URL:https://recoverystlouis.org/event/recovery-dharma-independent-in-person-only-open-mixed/2028-09-07/
END:VEVENT
BEGIN:VEVENT
DTSTART;TZID=America/Denver:20280908T070500
DTEND;TZID=America/Denver:20280908T074500
DTSTAMP:20260423T181125
CREATED:20250513T055108Z
LAST-MODIFIED:20250513T055108Z
UID:10002771-1852009500-1852011900@recoverystlouis.org
SUMMARY:AA Closed/ Men only Primary Purpose Mens
DESCRIPTION:
URL:https://recoverystlouis.org/event/aa-closed-men-only-primary-purpose-mens/2028-09-08/
END:VEVENT
BEGIN:VEVENT
DTSTART;TZID=America/Denver:20280908T174500
DTEND;TZID=America/Denver:20280908T184500
DTSTAMP:20260423T181125
CREATED:20250513T055756Z
LAST-MODIFIED:20250513T055756Z
UID:10004851-1852047900-1852051500@recoverystlouis.org
SUMMARY:AA Group 413- happier Hour Women’s-Open In person/online
DESCRIPTION:Zoom 263 787 324\nPW 279425 \nContact\nLeigh H\n(314) 276-6953
URL:https://recoverystlouis.org/event/aa-group-413-happier-hour-womens-open-in-person-online/2028-09-08/
END:VEVENT
BEGIN:VEVENT
DTSTART;TZID=America/Denver:20280910T090000
DTEND;TZID=America/Denver:20280910T101500
DTSTAMP:20260423T181125
CREATED:20250428T191821Z
LAST-MODIFIED:20250512T070411Z
UID:10000174-1852189200-1852193700@recoverystlouis.org
SUMMARY:AA Group 255-FIVE AND DIME Closed-Mixed In person/online
DESCRIPTION:Zoom:845 2025 1856\nPW: 173321 \nContact\nMichael Mac\n314-249-8149
URL:https://recoverystlouis.org/event/lorem-ipsum/2028-09-10/
END:VEVENT
BEGIN:VEVENT
DTSTART;TZID=America/Denver:20280910T110000
DTEND;TZID=America/Denver:20280910T120000
DTSTAMP:20260423T181125
CREATED:20250513T055407Z
LAST-MODIFIED:20250513T055407Z
UID:10003291-1852196400-1852200000@recoverystlouis.org
SUMMARY:OA Sunday Recovery Open-mixed In person/online
DESCRIPTION:Zoom:264 689 861\nPW:066708 \nContact\nCathy K (314) 538-1331
URL:https://recoverystlouis.org/event/oa-sunday-recovery-open-mixed-in-person-online/2028-09-10/
END:VEVENT
BEGIN:VEVENT
DTSTART;TZID=America/Denver:20280911T180000
DTEND;TZID=America/Denver:20280911T190000
DTSTAMP:20260423T181125
CREATED:20250512T071133Z
LAST-MODIFIED:20250512T071133Z
UID:10000694-1852308000-1852311600@recoverystlouis.org
SUMMARY:I AM RESPONSIBLE Women’s-closed In person-online
DESCRIPTION:Zoom:191 385 271\nPW: 085501 \nContact Clare P\n(314) 448-2101
URL:https://recoverystlouis.org/event/i-am-responsible-womens-closed-in-person-online/2028-09-11/
END:VEVENT
BEGIN:VEVENT
DTSTART;TZID=America/Denver:20280912T173000
DTEND;TZID=America/Denver:20280912T183000
DTSTAMP:20260423T181125
CREATED:20250513T054121Z
LAST-MODIFIED:20250513T054121Z
UID:10001212-1852392600-1852396200@recoverystlouis.org
SUMMARY:AA Secular Sobriety Open-mixed In person/online
DESCRIPTION:Zoom: 343 811 2984\nPW 770507
URL:https://recoverystlouis.org/event/aa-secular-sobriety-open-mixed-in-person-online/2028-09-12/
END:VEVENT
BEGIN:VEVENT
DTSTART;TZID=America/Denver:20280912T190000
DTEND;TZID=America/Denver:20280912T200000
DTSTAMP:20260423T181125
CREATED:20250513T055457Z
LAST-MODIFIED:20250513T055457Z
UID:10003812-1852398000-1852401600@recoverystlouis.org
SUMMARY:AA Burton’s Heroes Open -mixed In person/online
DESCRIPTION:
URL:https://recoverystlouis.org/event/aa-burtons-heroes-open-mixed-in-person-online/2028-09-12/
END:VEVENT
END:VCALENDAR