BEGIN:VCALENDAR
VERSION:2.0
PRODID:-//Recovery St. Louis - ECPv6.15.17.1//NONSGML v1.0//EN
CALSCALE:GREGORIAN
METHOD:PUBLISH
X-WR-CALNAME:Recovery St. Louis
X-ORIGINAL-URL:https://recoverystlouis.org
X-WR-CALDESC:Events for Recovery St. Louis
REFRESH-INTERVAL;VALUE=DURATION:PT1H
X-Robots-Tag:noindex
X-PUBLISHED-TTL:PT1H
BEGIN:VTIMEZONE
TZID:America/Denver
BEGIN:DAYLIGHT
TZOFFSETFROM:-0700
TZOFFSETTO:-0600
TZNAME:MDT
DTSTART:20280312T090000
END:DAYLIGHT
BEGIN:STANDARD
TZOFFSETFROM:-0600
TZOFFSETTO:-0700
TZNAME:MST
DTSTART:20281105T080000
END:STANDARD
BEGIN:DAYLIGHT
TZOFFSETFROM:-0700
TZOFFSETTO:-0600
TZNAME:MDT
DTSTART:20290311T090000
END:DAYLIGHT
BEGIN:STANDARD
TZOFFSETFROM:-0600
TZOFFSETTO:-0700
TZNAME:MST
DTSTART:20291104T080000
END:STANDARD
BEGIN:DAYLIGHT
TZOFFSETFROM:-0700
TZOFFSETTO:-0600
TZNAME:MDT
DTSTART:20300310T090000
END:DAYLIGHT
BEGIN:STANDARD
TZOFFSETFROM:-0600
TZOFFSETTO:-0700
TZNAME:MST
DTSTART:20301103T080000
END:STANDARD
END:VTIMEZONE
BEGIN:VEVENT
DTSTART;TZID=America/Denver:20291104T090000
DTEND;TZID=America/Denver:20291104T101500
DTSTAMP:20260424T210401
CREATED:20250428T191821Z
LAST-MODIFIED:20250512T070411Z
UID:10000234-1888477200-1888481700@recoverystlouis.org
SUMMARY:AA Group 255-FIVE AND DIME Closed-Mixed In person/online
DESCRIPTION:Zoom:845 2025 1856\nPW: 173321 \nContact\nMichael Mac\n314-249-8149
URL:https://recoverystlouis.org/event/lorem-ipsum/2029-11-04/
END:VEVENT
BEGIN:VEVENT
DTSTART;TZID=America/Denver:20291104T110000
DTEND;TZID=America/Denver:20291104T120000
DTSTAMP:20260424T210401
CREATED:20250513T055407Z
LAST-MODIFIED:20250513T055407Z
UID:10003351-1888484400-1888488000@recoverystlouis.org
SUMMARY:OA Sunday Recovery Open-mixed In person/online
DESCRIPTION:Zoom:264 689 861\nPW:066708 \nContact\nCathy K (314) 538-1331
URL:https://recoverystlouis.org/event/oa-sunday-recovery-open-mixed-in-person-online/2029-11-04/
END:VEVENT
BEGIN:VEVENT
DTSTART;TZID=America/Denver:20291105T180000
DTEND;TZID=America/Denver:20291105T190000
DTSTAMP:20260424T210401
CREATED:20250512T071133Z
LAST-MODIFIED:20250512T071133Z
UID:10000754-1888596000-1888599600@recoverystlouis.org
SUMMARY:I AM RESPONSIBLE Women’s-closed In person-online
DESCRIPTION:Zoom:191 385 271\nPW: 085501 \nContact Clare P\n(314) 448-2101
URL:https://recoverystlouis.org/event/i-am-responsible-womens-closed-in-person-online/2029-11-05/
END:VEVENT
BEGIN:VEVENT
DTSTART;TZID=America/Denver:20291106T173000
DTEND;TZID=America/Denver:20291106T183000
DTSTAMP:20260424T210401
CREATED:20250513T054121Z
LAST-MODIFIED:20250513T054121Z
UID:10001272-1888680600-1888684200@recoverystlouis.org
SUMMARY:AA Secular Sobriety Open-mixed In person/online
DESCRIPTION:Zoom: 343 811 2984\nPW 770507
URL:https://recoverystlouis.org/event/aa-secular-sobriety-open-mixed-in-person-online/2029-11-06/
END:VEVENT
BEGIN:VEVENT
DTSTART;TZID=America/Denver:20291106T190000
DTEND;TZID=America/Denver:20291106T200000
DTSTAMP:20260424T210401
CREATED:20250513T055457Z
LAST-MODIFIED:20250513T055457Z
UID:10003872-1888686000-1888689600@recoverystlouis.org
SUMMARY:AA Burton’s Heroes Open -mixed In person/online
DESCRIPTION:
URL:https://recoverystlouis.org/event/aa-burtons-heroes-open-mixed-in-person-online/2029-11-06/
END:VEVENT
BEGIN:VEVENT
DTSTART;TZID=America/Denver:20291107T170000
DTEND;TZID=America/Denver:20291107T190000
DTSTAMP:20260424T210401
CREATED:20250513T054406Z
LAST-MODIFIED:20250513T054406Z
UID:10001792-1888765200-1888772400@recoverystlouis.org
SUMMARY:Private group
DESCRIPTION:
URL:https://recoverystlouis.org/event/private-group/2029-11-07/
END:VEVENT
BEGIN:VEVENT
DTSTART;TZID=America/Denver:20291108T100000
DTEND;TZID=America/Denver:20291108T111500
DTSTAMP:20260424T210401
CREATED:20250513T054602Z
LAST-MODIFIED:20250530T165143Z
UID:10002312-1888826400-1888830900@recoverystlouis.org
SUMMARY:AA Group 179 Open-mixed In person/online
DESCRIPTION:Zoom 598 988 635\nPW 241200
URL:https://recoverystlouis.org/event/aa-group-179-open-mixed-in-person-online/2029-11-08/
END:VEVENT
BEGIN:VEVENT
DTSTART;TZID=America/Denver:20291108T190000
DTEND;TZID=America/Denver:20291108T200000
DTSTAMP:20260424T210401
CREATED:20250513T055622Z
LAST-MODIFIED:20250513T055622Z
UID:10004392-1888858800-1888862400@recoverystlouis.org
SUMMARY:Recovery Dharma Independent/in person only Open-mixed
DESCRIPTION:Contact\nMichelle T\n(314) 495-8026
URL:https://recoverystlouis.org/event/recovery-dharma-independent-in-person-only-open-mixed/2029-11-08/
END:VEVENT
BEGIN:VEVENT
DTSTART;TZID=America/Denver:20291109T070500
DTEND;TZID=America/Denver:20291109T074500
DTSTAMP:20260424T210401
CREATED:20250513T055108Z
LAST-MODIFIED:20250513T055108Z
UID:10002832-1888902300-1888904700@recoverystlouis.org
SUMMARY:AA Closed/ Men only Primary Purpose Mens
DESCRIPTION:
URL:https://recoverystlouis.org/event/aa-closed-men-only-primary-purpose-mens/2029-11-09/
END:VEVENT
BEGIN:VEVENT
DTSTART;TZID=America/Denver:20291109T174500
DTEND;TZID=America/Denver:20291109T184500
DTSTAMP:20260424T210401
CREATED:20250513T055756Z
LAST-MODIFIED:20250513T055756Z
UID:10004912-1888940700-1888944300@recoverystlouis.org
SUMMARY:AA Group 413- happier Hour Women’s-Open In person/online
DESCRIPTION:Zoom 263 787 324\nPW 279425 \nContact\nLeigh H\n(314) 276-6953
URL:https://recoverystlouis.org/event/aa-group-413-happier-hour-womens-open-in-person-online/2029-11-09/
END:VEVENT
BEGIN:VEVENT
DTSTART;TZID=America/Denver:20291111T090000
DTEND;TZID=America/Denver:20291111T101500
DTSTAMP:20260424T210401
CREATED:20250428T191821Z
LAST-MODIFIED:20250512T070411Z
UID:10000235-1889082000-1889086500@recoverystlouis.org
SUMMARY:AA Group 255-FIVE AND DIME Closed-Mixed In person/online
DESCRIPTION:Zoom:845 2025 1856\nPW: 173321 \nContact\nMichael Mac\n314-249-8149
URL:https://recoverystlouis.org/event/lorem-ipsum/2029-11-11/
END:VEVENT
BEGIN:VEVENT
DTSTART;TZID=America/Denver:20291111T110000
DTEND;TZID=America/Denver:20291111T120000
DTSTAMP:20260424T210401
CREATED:20250513T055407Z
LAST-MODIFIED:20250513T055407Z
UID:10003352-1889089200-1889092800@recoverystlouis.org
SUMMARY:OA Sunday Recovery Open-mixed In person/online
DESCRIPTION:Zoom:264 689 861\nPW:066708 \nContact\nCathy K (314) 538-1331
URL:https://recoverystlouis.org/event/oa-sunday-recovery-open-mixed-in-person-online/2029-11-11/
END:VEVENT
BEGIN:VEVENT
DTSTART;TZID=America/Denver:20291112T180000
DTEND;TZID=America/Denver:20291112T190000
DTSTAMP:20260424T210401
CREATED:20250512T071133Z
LAST-MODIFIED:20250512T071133Z
UID:10000755-1889200800-1889204400@recoverystlouis.org
SUMMARY:I AM RESPONSIBLE Women’s-closed In person-online
DESCRIPTION:Zoom:191 385 271\nPW: 085501 \nContact Clare P\n(314) 448-2101
URL:https://recoverystlouis.org/event/i-am-responsible-womens-closed-in-person-online/2029-11-12/
END:VEVENT
BEGIN:VEVENT
DTSTART;TZID=America/Denver:20291113T173000
DTEND;TZID=America/Denver:20291113T183000
DTSTAMP:20260424T210401
CREATED:20250513T054121Z
LAST-MODIFIED:20250513T054121Z
UID:10001273-1889285400-1889289000@recoverystlouis.org
SUMMARY:AA Secular Sobriety Open-mixed In person/online
DESCRIPTION:Zoom: 343 811 2984\nPW 770507
URL:https://recoverystlouis.org/event/aa-secular-sobriety-open-mixed-in-person-online/2029-11-13/
END:VEVENT
BEGIN:VEVENT
DTSTART;TZID=America/Denver:20291113T190000
DTEND;TZID=America/Denver:20291113T200000
DTSTAMP:20260424T210401
CREATED:20250513T055457Z
LAST-MODIFIED:20250513T055457Z
UID:10003873-1889290800-1889294400@recoverystlouis.org
SUMMARY:AA Burton’s Heroes Open -mixed In person/online
DESCRIPTION:
URL:https://recoverystlouis.org/event/aa-burtons-heroes-open-mixed-in-person-online/2029-11-13/
END:VEVENT
BEGIN:VEVENT
DTSTART;TZID=America/Denver:20291114T170000
DTEND;TZID=America/Denver:20291114T190000
DTSTAMP:20260424T210401
CREATED:20250513T054406Z
LAST-MODIFIED:20250513T054406Z
UID:10001793-1889370000-1889377200@recoverystlouis.org
SUMMARY:Private group
DESCRIPTION:
URL:https://recoverystlouis.org/event/private-group/2029-11-14/
END:VEVENT
BEGIN:VEVENT
DTSTART;TZID=America/Denver:20291115T100000
DTEND;TZID=America/Denver:20291115T111500
DTSTAMP:20260424T210401
CREATED:20250513T054602Z
LAST-MODIFIED:20250530T165143Z
UID:10002313-1889431200-1889435700@recoverystlouis.org
SUMMARY:AA Group 179 Open-mixed In person/online
DESCRIPTION:Zoom 598 988 635\nPW 241200
URL:https://recoverystlouis.org/event/aa-group-179-open-mixed-in-person-online/2029-11-15/
END:VEVENT
BEGIN:VEVENT
DTSTART;TZID=America/Denver:20291115T190000
DTEND;TZID=America/Denver:20291115T200000
DTSTAMP:20260424T210401
CREATED:20250513T055622Z
LAST-MODIFIED:20250513T055622Z
UID:10004393-1889463600-1889467200@recoverystlouis.org
SUMMARY:Recovery Dharma Independent/in person only Open-mixed
DESCRIPTION:Contact\nMichelle T\n(314) 495-8026
URL:https://recoverystlouis.org/event/recovery-dharma-independent-in-person-only-open-mixed/2029-11-15/
END:VEVENT
BEGIN:VEVENT
DTSTART;TZID=America/Denver:20291116T070500
DTEND;TZID=America/Denver:20291116T074500
DTSTAMP:20260424T210401
CREATED:20250513T055108Z
LAST-MODIFIED:20250513T055108Z
UID:10002833-1889507100-1889509500@recoverystlouis.org
SUMMARY:AA Closed/ Men only Primary Purpose Mens
DESCRIPTION:
URL:https://recoverystlouis.org/event/aa-closed-men-only-primary-purpose-mens/2029-11-16/
END:VEVENT
BEGIN:VEVENT
DTSTART;TZID=America/Denver:20291116T174500
DTEND;TZID=America/Denver:20291116T184500
DTSTAMP:20260424T210401
CREATED:20250513T055756Z
LAST-MODIFIED:20250513T055756Z
UID:10004913-1889545500-1889549100@recoverystlouis.org
SUMMARY:AA Group 413- happier Hour Women’s-Open In person/online
DESCRIPTION:Zoom 263 787 324\nPW 279425 \nContact\nLeigh H\n(314) 276-6953
URL:https://recoverystlouis.org/event/aa-group-413-happier-hour-womens-open-in-person-online/2029-11-16/
END:VEVENT
BEGIN:VEVENT
DTSTART;TZID=America/Denver:20291118T090000
DTEND;TZID=America/Denver:20291118T101500
DTSTAMP:20260424T210401
CREATED:20250428T191821Z
LAST-MODIFIED:20250512T070411Z
UID:10000236-1889686800-1889691300@recoverystlouis.org
SUMMARY:AA Group 255-FIVE AND DIME Closed-Mixed In person/online
DESCRIPTION:Zoom:845 2025 1856\nPW: 173321 \nContact\nMichael Mac\n314-249-8149
URL:https://recoverystlouis.org/event/lorem-ipsum/2029-11-18/
END:VEVENT
BEGIN:VEVENT
DTSTART;TZID=America/Denver:20291118T110000
DTEND;TZID=America/Denver:20291118T120000
DTSTAMP:20260424T210401
CREATED:20250513T055407Z
LAST-MODIFIED:20250513T055407Z
UID:10003353-1889694000-1889697600@recoverystlouis.org
SUMMARY:OA Sunday Recovery Open-mixed In person/online
DESCRIPTION:Zoom:264 689 861\nPW:066708 \nContact\nCathy K (314) 538-1331
URL:https://recoverystlouis.org/event/oa-sunday-recovery-open-mixed-in-person-online/2029-11-18/
END:VEVENT
BEGIN:VEVENT
DTSTART;TZID=America/Denver:20291119T180000
DTEND;TZID=America/Denver:20291119T190000
DTSTAMP:20260424T210401
CREATED:20250512T071133Z
LAST-MODIFIED:20250512T071133Z
UID:10000756-1889805600-1889809200@recoverystlouis.org
SUMMARY:I AM RESPONSIBLE Women’s-closed In person-online
DESCRIPTION:Zoom:191 385 271\nPW: 085501 \nContact Clare P\n(314) 448-2101
URL:https://recoverystlouis.org/event/i-am-responsible-womens-closed-in-person-online/2029-11-19/
END:VEVENT
BEGIN:VEVENT
DTSTART;TZID=America/Denver:20291120T173000
DTEND;TZID=America/Denver:20291120T183000
DTSTAMP:20260424T210401
CREATED:20250513T054121Z
LAST-MODIFIED:20250513T054121Z
UID:10001274-1889890200-1889893800@recoverystlouis.org
SUMMARY:AA Secular Sobriety Open-mixed In person/online
DESCRIPTION:Zoom: 343 811 2984\nPW 770507
URL:https://recoverystlouis.org/event/aa-secular-sobriety-open-mixed-in-person-online/2029-11-20/
END:VEVENT
BEGIN:VEVENT
DTSTART;TZID=America/Denver:20291120T190000
DTEND;TZID=America/Denver:20291120T200000
DTSTAMP:20260424T210401
CREATED:20250513T055457Z
LAST-MODIFIED:20250513T055457Z
UID:10003874-1889895600-1889899200@recoverystlouis.org
SUMMARY:AA Burton’s Heroes Open -mixed In person/online
DESCRIPTION:
URL:https://recoverystlouis.org/event/aa-burtons-heroes-open-mixed-in-person-online/2029-11-20/
END:VEVENT
BEGIN:VEVENT
DTSTART;TZID=America/Denver:20291121T170000
DTEND;TZID=America/Denver:20291121T190000
DTSTAMP:20260424T210402
CREATED:20250513T054406Z
LAST-MODIFIED:20250513T054406Z
UID:10001794-1889974800-1889982000@recoverystlouis.org
SUMMARY:Private group
DESCRIPTION:
URL:https://recoverystlouis.org/event/private-group/2029-11-21/
END:VEVENT
BEGIN:VEVENT
DTSTART;TZID=America/Denver:20291122T100000
DTEND;TZID=America/Denver:20291122T111500
DTSTAMP:20260424T210402
CREATED:20250513T054602Z
LAST-MODIFIED:20250530T165143Z
UID:10002314-1890036000-1890040500@recoverystlouis.org
SUMMARY:AA Group 179 Open-mixed In person/online
DESCRIPTION:Zoom 598 988 635\nPW 241200
URL:https://recoverystlouis.org/event/aa-group-179-open-mixed-in-person-online/2029-11-22/
END:VEVENT
BEGIN:VEVENT
DTSTART;TZID=America/Denver:20291122T190000
DTEND;TZID=America/Denver:20291122T200000
DTSTAMP:20260424T210402
CREATED:20250513T055622Z
LAST-MODIFIED:20250513T055622Z
UID:10004394-1890068400-1890072000@recoverystlouis.org
SUMMARY:Recovery Dharma Independent/in person only Open-mixed
DESCRIPTION:Contact\nMichelle T\n(314) 495-8026
URL:https://recoverystlouis.org/event/recovery-dharma-independent-in-person-only-open-mixed/2029-11-22/
END:VEVENT
BEGIN:VEVENT
DTSTART;TZID=America/Denver:20291123T070500
DTEND;TZID=America/Denver:20291123T074500
DTSTAMP:20260424T210402
CREATED:20250513T055108Z
LAST-MODIFIED:20250513T055108Z
UID:10002834-1890111900-1890114300@recoverystlouis.org
SUMMARY:AA Closed/ Men only Primary Purpose Mens
DESCRIPTION:
URL:https://recoverystlouis.org/event/aa-closed-men-only-primary-purpose-mens/2029-11-23/
END:VEVENT
BEGIN:VEVENT
DTSTART;TZID=America/Denver:20291123T174500
DTEND;TZID=America/Denver:20291123T184500
DTSTAMP:20260424T210402
CREATED:20250513T055756Z
LAST-MODIFIED:20250513T055756Z
UID:10004914-1890150300-1890153900@recoverystlouis.org
SUMMARY:AA Group 413- happier Hour Women’s-Open In person/online
DESCRIPTION:Zoom 263 787 324\nPW 279425 \nContact\nLeigh H\n(314) 276-6953
URL:https://recoverystlouis.org/event/aa-group-413-happier-hour-womens-open-in-person-online/2029-11-23/
END:VEVENT
END:VCALENDAR