BEGIN:VCALENDAR
VERSION:2.0
PRODID:-//Recovery St. Louis - ECPv6.15.17.1//NONSGML v1.0//EN
CALSCALE:GREGORIAN
METHOD:PUBLISH
X-WR-CALNAME:Recovery St. Louis
X-ORIGINAL-URL:https://recoverystlouis.org
X-WR-CALDESC:Events for Recovery St. Louis
REFRESH-INTERVAL;VALUE=DURATION:PT1H
X-Robots-Tag:noindex
X-PUBLISHED-TTL:PT1H
BEGIN:VTIMEZONE
TZID:America/Denver
BEGIN:DAYLIGHT
TZOFFSETFROM:-0700
TZOFFSETTO:-0600
TZNAME:MDT
DTSTART:20280312T090000
END:DAYLIGHT
BEGIN:STANDARD
TZOFFSETFROM:-0600
TZOFFSETTO:-0700
TZNAME:MST
DTSTART:20281105T080000
END:STANDARD
BEGIN:DAYLIGHT
TZOFFSETFROM:-0700
TZOFFSETTO:-0600
TZNAME:MDT
DTSTART:20290311T090000
END:DAYLIGHT
BEGIN:STANDARD
TZOFFSETFROM:-0600
TZOFFSETTO:-0700
TZNAME:MST
DTSTART:20291104T080000
END:STANDARD
BEGIN:DAYLIGHT
TZOFFSETFROM:-0700
TZOFFSETTO:-0600
TZNAME:MDT
DTSTART:20300310T090000
END:DAYLIGHT
BEGIN:STANDARD
TZOFFSETFROM:-0600
TZOFFSETTO:-0700
TZNAME:MST
DTSTART:20301103T080000
END:STANDARD
END:VTIMEZONE
BEGIN:VEVENT
DTSTART;TZID=America/Denver:20290404T170000
DTEND;TZID=America/Denver:20290404T190000
DTSTAMP:20260424T095626
CREATED:20250513T054406Z
LAST-MODIFIED:20250513T054406Z
UID:10001761-1870016400-1870023600@recoverystlouis.org
SUMMARY:Private group
DESCRIPTION:
URL:https://recoverystlouis.org/event/private-group/2029-04-04/
END:VEVENT
BEGIN:VEVENT
DTSTART;TZID=America/Denver:20290405T100000
DTEND;TZID=America/Denver:20290405T111500
DTSTAMP:20260424T095626
CREATED:20250513T054602Z
LAST-MODIFIED:20250530T165143Z
UID:10002281-1870077600-1870082100@recoverystlouis.org
SUMMARY:AA Group 179 Open-mixed In person/online
DESCRIPTION:Zoom 598 988 635\nPW 241200
URL:https://recoverystlouis.org/event/aa-group-179-open-mixed-in-person-online/2029-04-05/
END:VEVENT
BEGIN:VEVENT
DTSTART;TZID=America/Denver:20290405T190000
DTEND;TZID=America/Denver:20290405T200000
DTSTAMP:20260424T095626
CREATED:20250513T055622Z
LAST-MODIFIED:20250513T055622Z
UID:10004361-1870110000-1870113600@recoverystlouis.org
SUMMARY:Recovery Dharma Independent/in person only Open-mixed
DESCRIPTION:Contact\nMichelle T\n(314) 495-8026
URL:https://recoverystlouis.org/event/recovery-dharma-independent-in-person-only-open-mixed/2029-04-05/
END:VEVENT
BEGIN:VEVENT
DTSTART;TZID=America/Denver:20290406T070500
DTEND;TZID=America/Denver:20290406T074500
DTSTAMP:20260424T095626
CREATED:20250513T055108Z
LAST-MODIFIED:20250513T055108Z
UID:10002801-1870153500-1870155900@recoverystlouis.org
SUMMARY:AA Closed/ Men only Primary Purpose Mens
DESCRIPTION:
URL:https://recoverystlouis.org/event/aa-closed-men-only-primary-purpose-mens/2029-04-06/
END:VEVENT
BEGIN:VEVENT
DTSTART;TZID=America/Denver:20290406T174500
DTEND;TZID=America/Denver:20290406T184500
DTSTAMP:20260424T095626
CREATED:20250513T055756Z
LAST-MODIFIED:20250513T055756Z
UID:10004881-1870191900-1870195500@recoverystlouis.org
SUMMARY:AA Group 413- happier Hour Women’s-Open In person/online
DESCRIPTION:Zoom 263 787 324\nPW 279425 \nContact\nLeigh H\n(314) 276-6953
URL:https://recoverystlouis.org/event/aa-group-413-happier-hour-womens-open-in-person-online/2029-04-06/
END:VEVENT
BEGIN:VEVENT
DTSTART;TZID=America/Denver:20290408T090000
DTEND;TZID=America/Denver:20290408T101500
DTSTAMP:20260424T095626
CREATED:20250428T191821Z
LAST-MODIFIED:20250512T070411Z
UID:10000204-1870333200-1870337700@recoverystlouis.org
SUMMARY:AA Group 255-FIVE AND DIME Closed-Mixed In person/online
DESCRIPTION:Zoom:845 2025 1856\nPW: 173321 \nContact\nMichael Mac\n314-249-8149
URL:https://recoverystlouis.org/event/lorem-ipsum/2029-04-08/
END:VEVENT
BEGIN:VEVENT
DTSTART;TZID=America/Denver:20290408T110000
DTEND;TZID=America/Denver:20290408T120000
DTSTAMP:20260424T095626
CREATED:20250513T055407Z
LAST-MODIFIED:20250513T055407Z
UID:10003321-1870340400-1870344000@recoverystlouis.org
SUMMARY:OA Sunday Recovery Open-mixed In person/online
DESCRIPTION:Zoom:264 689 861\nPW:066708 \nContact\nCathy K (314) 538-1331
URL:https://recoverystlouis.org/event/oa-sunday-recovery-open-mixed-in-person-online/2029-04-08/
END:VEVENT
BEGIN:VEVENT
DTSTART;TZID=America/Denver:20290409T180000
DTEND;TZID=America/Denver:20290409T190000
DTSTAMP:20260424T095626
CREATED:20250512T071133Z
LAST-MODIFIED:20250512T071133Z
UID:10000724-1870452000-1870455600@recoverystlouis.org
SUMMARY:I AM RESPONSIBLE Women’s-closed In person-online
DESCRIPTION:Zoom:191 385 271\nPW: 085501 \nContact Clare P\n(314) 448-2101
URL:https://recoverystlouis.org/event/i-am-responsible-womens-closed-in-person-online/2029-04-09/
END:VEVENT
BEGIN:VEVENT
DTSTART;TZID=America/Denver:20290410T173000
DTEND;TZID=America/Denver:20290410T183000
DTSTAMP:20260424T095627
CREATED:20250513T054121Z
LAST-MODIFIED:20250513T054121Z
UID:10001242-1870536600-1870540200@recoverystlouis.org
SUMMARY:AA Secular Sobriety Open-mixed In person/online
DESCRIPTION:Zoom: 343 811 2984\nPW 770507
URL:https://recoverystlouis.org/event/aa-secular-sobriety-open-mixed-in-person-online/2029-04-10/
END:VEVENT
BEGIN:VEVENT
DTSTART;TZID=America/Denver:20290410T190000
DTEND;TZID=America/Denver:20290410T200000
DTSTAMP:20260424T095627
CREATED:20250513T055457Z
LAST-MODIFIED:20250513T055457Z
UID:10003842-1870542000-1870545600@recoverystlouis.org
SUMMARY:AA Burton’s Heroes Open -mixed In person/online
DESCRIPTION:
URL:https://recoverystlouis.org/event/aa-burtons-heroes-open-mixed-in-person-online/2029-04-10/
END:VEVENT
BEGIN:VEVENT
DTSTART;TZID=America/Denver:20290411T170000
DTEND;TZID=America/Denver:20290411T190000
DTSTAMP:20260424T095627
CREATED:20250513T054406Z
LAST-MODIFIED:20250513T054406Z
UID:10001762-1870621200-1870628400@recoverystlouis.org
SUMMARY:Private group
DESCRIPTION:
URL:https://recoverystlouis.org/event/private-group/2029-04-11/
END:VEVENT
BEGIN:VEVENT
DTSTART;TZID=America/Denver:20290412T100000
DTEND;TZID=America/Denver:20290412T111500
DTSTAMP:20260424T095627
CREATED:20250513T054602Z
LAST-MODIFIED:20250530T165143Z
UID:10002282-1870682400-1870686900@recoverystlouis.org
SUMMARY:AA Group 179 Open-mixed In person/online
DESCRIPTION:Zoom 598 988 635\nPW 241200
URL:https://recoverystlouis.org/event/aa-group-179-open-mixed-in-person-online/2029-04-12/
END:VEVENT
BEGIN:VEVENT
DTSTART;TZID=America/Denver:20290412T190000
DTEND;TZID=America/Denver:20290412T200000
DTSTAMP:20260424T095627
CREATED:20250513T055622Z
LAST-MODIFIED:20250513T055622Z
UID:10004362-1870714800-1870718400@recoverystlouis.org
SUMMARY:Recovery Dharma Independent/in person only Open-mixed
DESCRIPTION:Contact\nMichelle T\n(314) 495-8026
URL:https://recoverystlouis.org/event/recovery-dharma-independent-in-person-only-open-mixed/2029-04-12/
END:VEVENT
BEGIN:VEVENT
DTSTART;TZID=America/Denver:20290413T070500
DTEND;TZID=America/Denver:20290413T074500
DTSTAMP:20260424T095627
CREATED:20250513T055108Z
LAST-MODIFIED:20250513T055108Z
UID:10002802-1870758300-1870760700@recoverystlouis.org
SUMMARY:AA Closed/ Men only Primary Purpose Mens
DESCRIPTION:
URL:https://recoverystlouis.org/event/aa-closed-men-only-primary-purpose-mens/2029-04-13/
END:VEVENT
BEGIN:VEVENT
DTSTART;TZID=America/Denver:20290413T174500
DTEND;TZID=America/Denver:20290413T184500
DTSTAMP:20260424T095627
CREATED:20250513T055756Z
LAST-MODIFIED:20250513T055756Z
UID:10004882-1870796700-1870800300@recoverystlouis.org
SUMMARY:AA Group 413- happier Hour Women’s-Open In person/online
DESCRIPTION:Zoom 263 787 324\nPW 279425 \nContact\nLeigh H\n(314) 276-6953
URL:https://recoverystlouis.org/event/aa-group-413-happier-hour-womens-open-in-person-online/2029-04-13/
END:VEVENT
BEGIN:VEVENT
DTSTART;TZID=America/Denver:20290415T090000
DTEND;TZID=America/Denver:20290415T101500
DTSTAMP:20260424T095627
CREATED:20250428T191821Z
LAST-MODIFIED:20250512T070411Z
UID:10000205-1870938000-1870942500@recoverystlouis.org
SUMMARY:AA Group 255-FIVE AND DIME Closed-Mixed In person/online
DESCRIPTION:Zoom:845 2025 1856\nPW: 173321 \nContact\nMichael Mac\n314-249-8149
URL:https://recoverystlouis.org/event/lorem-ipsum/2029-04-15/
END:VEVENT
BEGIN:VEVENT
DTSTART;TZID=America/Denver:20290415T110000
DTEND;TZID=America/Denver:20290415T120000
DTSTAMP:20260424T095627
CREATED:20250513T055407Z
LAST-MODIFIED:20250513T055407Z
UID:10003322-1870945200-1870948800@recoverystlouis.org
SUMMARY:OA Sunday Recovery Open-mixed In person/online
DESCRIPTION:Zoom:264 689 861\nPW:066708 \nContact\nCathy K (314) 538-1331
URL:https://recoverystlouis.org/event/oa-sunday-recovery-open-mixed-in-person-online/2029-04-15/
END:VEVENT
BEGIN:VEVENT
DTSTART;TZID=America/Denver:20290416T180000
DTEND;TZID=America/Denver:20290416T190000
DTSTAMP:20260424T095627
CREATED:20250512T071133Z
LAST-MODIFIED:20250512T071133Z
UID:10000725-1871056800-1871060400@recoverystlouis.org
SUMMARY:I AM RESPONSIBLE Women’s-closed In person-online
DESCRIPTION:Zoom:191 385 271\nPW: 085501 \nContact Clare P\n(314) 448-2101
URL:https://recoverystlouis.org/event/i-am-responsible-womens-closed-in-person-online/2029-04-16/
END:VEVENT
BEGIN:VEVENT
DTSTART;TZID=America/Denver:20290417T173000
DTEND;TZID=America/Denver:20290417T183000
DTSTAMP:20260424T095627
CREATED:20250513T054121Z
LAST-MODIFIED:20250513T054121Z
UID:10001243-1871141400-1871145000@recoverystlouis.org
SUMMARY:AA Secular Sobriety Open-mixed In person/online
DESCRIPTION:Zoom: 343 811 2984\nPW 770507
URL:https://recoverystlouis.org/event/aa-secular-sobriety-open-mixed-in-person-online/2029-04-17/
END:VEVENT
BEGIN:VEVENT
DTSTART;TZID=America/Denver:20290417T190000
DTEND;TZID=America/Denver:20290417T200000
DTSTAMP:20260424T095627
CREATED:20250513T055457Z
LAST-MODIFIED:20250513T055457Z
UID:10003843-1871146800-1871150400@recoverystlouis.org
SUMMARY:AA Burton’s Heroes Open -mixed In person/online
DESCRIPTION:
URL:https://recoverystlouis.org/event/aa-burtons-heroes-open-mixed-in-person-online/2029-04-17/
END:VEVENT
BEGIN:VEVENT
DTSTART;TZID=America/Denver:20290418T170000
DTEND;TZID=America/Denver:20290418T190000
DTSTAMP:20260424T095627
CREATED:20250513T054406Z
LAST-MODIFIED:20250513T054406Z
UID:10001763-1871226000-1871233200@recoverystlouis.org
SUMMARY:Private group
DESCRIPTION:
URL:https://recoverystlouis.org/event/private-group/2029-04-18/
END:VEVENT
BEGIN:VEVENT
DTSTART;TZID=America/Denver:20290419T100000
DTEND;TZID=America/Denver:20290419T111500
DTSTAMP:20260424T095627
CREATED:20250513T054602Z
LAST-MODIFIED:20250530T165143Z
UID:10002283-1871287200-1871291700@recoverystlouis.org
SUMMARY:AA Group 179 Open-mixed In person/online
DESCRIPTION:Zoom 598 988 635\nPW 241200
URL:https://recoverystlouis.org/event/aa-group-179-open-mixed-in-person-online/2029-04-19/
END:VEVENT
BEGIN:VEVENT
DTSTART;TZID=America/Denver:20290419T190000
DTEND;TZID=America/Denver:20290419T200000
DTSTAMP:20260424T095627
CREATED:20250513T055622Z
LAST-MODIFIED:20250513T055622Z
UID:10004363-1871319600-1871323200@recoverystlouis.org
SUMMARY:Recovery Dharma Independent/in person only Open-mixed
DESCRIPTION:Contact\nMichelle T\n(314) 495-8026
URL:https://recoverystlouis.org/event/recovery-dharma-independent-in-person-only-open-mixed/2029-04-19/
END:VEVENT
BEGIN:VEVENT
DTSTART;TZID=America/Denver:20290420T070500
DTEND;TZID=America/Denver:20290420T074500
DTSTAMP:20260424T095627
CREATED:20250513T055108Z
LAST-MODIFIED:20250513T055108Z
UID:10002803-1871363100-1871365500@recoverystlouis.org
SUMMARY:AA Closed/ Men only Primary Purpose Mens
DESCRIPTION:
URL:https://recoverystlouis.org/event/aa-closed-men-only-primary-purpose-mens/2029-04-20/
END:VEVENT
BEGIN:VEVENT
DTSTART;TZID=America/Denver:20290420T174500
DTEND;TZID=America/Denver:20290420T184500
DTSTAMP:20260424T095627
CREATED:20250513T055756Z
LAST-MODIFIED:20250513T055756Z
UID:10004883-1871401500-1871405100@recoverystlouis.org
SUMMARY:AA Group 413- happier Hour Women’s-Open In person/online
DESCRIPTION:Zoom 263 787 324\nPW 279425 \nContact\nLeigh H\n(314) 276-6953
URL:https://recoverystlouis.org/event/aa-group-413-happier-hour-womens-open-in-person-online/2029-04-20/
END:VEVENT
BEGIN:VEVENT
DTSTART;TZID=America/Denver:20290422T090000
DTEND;TZID=America/Denver:20290422T101500
DTSTAMP:20260424T095627
CREATED:20250428T191821Z
LAST-MODIFIED:20250512T070411Z
UID:10000206-1871542800-1871547300@recoverystlouis.org
SUMMARY:AA Group 255-FIVE AND DIME Closed-Mixed In person/online
DESCRIPTION:Zoom:845 2025 1856\nPW: 173321 \nContact\nMichael Mac\n314-249-8149
URL:https://recoverystlouis.org/event/lorem-ipsum/2029-04-22/
END:VEVENT
BEGIN:VEVENT
DTSTART;TZID=America/Denver:20290422T110000
DTEND;TZID=America/Denver:20290422T120000
DTSTAMP:20260424T095627
CREATED:20250513T055407Z
LAST-MODIFIED:20250513T055407Z
UID:10003323-1871550000-1871553600@recoverystlouis.org
SUMMARY:OA Sunday Recovery Open-mixed In person/online
DESCRIPTION:Zoom:264 689 861\nPW:066708 \nContact\nCathy K (314) 538-1331
URL:https://recoverystlouis.org/event/oa-sunday-recovery-open-mixed-in-person-online/2029-04-22/
END:VEVENT
BEGIN:VEVENT
DTSTART;TZID=America/Denver:20290423T180000
DTEND;TZID=America/Denver:20290423T190000
DTSTAMP:20260424T095627
CREATED:20250512T071133Z
LAST-MODIFIED:20250512T071133Z
UID:10000726-1871661600-1871665200@recoverystlouis.org
SUMMARY:I AM RESPONSIBLE Women’s-closed In person-online
DESCRIPTION:Zoom:191 385 271\nPW: 085501 \nContact Clare P\n(314) 448-2101
URL:https://recoverystlouis.org/event/i-am-responsible-womens-closed-in-person-online/2029-04-23/
END:VEVENT
BEGIN:VEVENT
DTSTART;TZID=America/Denver:20290424T173000
DTEND;TZID=America/Denver:20290424T183000
DTSTAMP:20260424T095627
CREATED:20250513T054121Z
LAST-MODIFIED:20250513T054121Z
UID:10001244-1871746200-1871749800@recoverystlouis.org
SUMMARY:AA Secular Sobriety Open-mixed In person/online
DESCRIPTION:Zoom: 343 811 2984\nPW 770507
URL:https://recoverystlouis.org/event/aa-secular-sobriety-open-mixed-in-person-online/2029-04-24/
END:VEVENT
BEGIN:VEVENT
DTSTART;TZID=America/Denver:20290424T190000
DTEND;TZID=America/Denver:20290424T200000
DTSTAMP:20260424T095627
CREATED:20250513T055457Z
LAST-MODIFIED:20250513T055457Z
UID:10003844-1871751600-1871755200@recoverystlouis.org
SUMMARY:AA Burton’s Heroes Open -mixed In person/online
DESCRIPTION:
URL:https://recoverystlouis.org/event/aa-burtons-heroes-open-mixed-in-person-online/2029-04-24/
END:VEVENT
END:VCALENDAR