BEGIN:VCALENDAR
VERSION:2.0
PRODID:-//Recovery St. Louis - ECPv6.15.17.1//NONSGML v1.0//EN
CALSCALE:GREGORIAN
METHOD:PUBLISH
X-WR-CALNAME:Recovery St. Louis
X-ORIGINAL-URL:https://recoverystlouis.org
X-WR-CALDESC:Events for Recovery St. Louis
REFRESH-INTERVAL;VALUE=DURATION:PT1H
X-Robots-Tag:noindex
X-PUBLISHED-TTL:PT1H
BEGIN:VTIMEZONE
TZID:America/Denver
BEGIN:DAYLIGHT
TZOFFSETFROM:-0700
TZOFFSETTO:-0600
TZNAME:MDT
DTSTART:20270314T090000
END:DAYLIGHT
BEGIN:STANDARD
TZOFFSETFROM:-0600
TZOFFSETTO:-0700
TZNAME:MST
DTSTART:20271107T080000
END:STANDARD
BEGIN:DAYLIGHT
TZOFFSETFROM:-0700
TZOFFSETTO:-0600
TZNAME:MDT
DTSTART:20280312T090000
END:DAYLIGHT
BEGIN:STANDARD
TZOFFSETFROM:-0600
TZOFFSETTO:-0700
TZNAME:MST
DTSTART:20281105T080000
END:STANDARD
BEGIN:DAYLIGHT
TZOFFSETFROM:-0700
TZOFFSETTO:-0600
TZNAME:MDT
DTSTART:20290311T090000
END:DAYLIGHT
BEGIN:STANDARD
TZOFFSETFROM:-0600
TZOFFSETTO:-0700
TZNAME:MST
DTSTART:20291104T080000
END:STANDARD
END:VTIMEZONE
BEGIN:VEVENT
DTSTART;TZID=America/Denver:20280926T173000
DTEND;TZID=America/Denver:20280926T183000
DTSTAMP:20260423T164028
CREATED:20250513T054121Z
LAST-MODIFIED:20250513T054121Z
UID:10001214-1853602200-1853605800@recoverystlouis.org
SUMMARY:AA Secular Sobriety Open-mixed In person/online
DESCRIPTION:Zoom: 343 811 2984\nPW 770507
URL:https://recoverystlouis.org/event/aa-secular-sobriety-open-mixed-in-person-online/2028-09-26/
END:VEVENT
BEGIN:VEVENT
DTSTART;TZID=America/Denver:20280926T190000
DTEND;TZID=America/Denver:20280926T200000
DTSTAMP:20260423T164028
CREATED:20250513T055457Z
LAST-MODIFIED:20250513T055457Z
UID:10003814-1853607600-1853611200@recoverystlouis.org
SUMMARY:AA Burton’s Heroes Open -mixed In person/online
DESCRIPTION:
URL:https://recoverystlouis.org/event/aa-burtons-heroes-open-mixed-in-person-online/2028-09-26/
END:VEVENT
BEGIN:VEVENT
DTSTART;TZID=America/Denver:20280927T170000
DTEND;TZID=America/Denver:20280927T190000
DTSTAMP:20260423T164028
CREATED:20250513T054406Z
LAST-MODIFIED:20250513T054406Z
UID:10001734-1853686800-1853694000@recoverystlouis.org
SUMMARY:Private group
DESCRIPTION:
URL:https://recoverystlouis.org/event/private-group/2028-09-27/
END:VEVENT
BEGIN:VEVENT
DTSTART;TZID=America/Denver:20280928T100000
DTEND;TZID=America/Denver:20280928T111500
DTSTAMP:20260423T164028
CREATED:20250513T054602Z
LAST-MODIFIED:20250530T165143Z
UID:10002254-1853748000-1853752500@recoverystlouis.org
SUMMARY:AA Group 179 Open-mixed In person/online
DESCRIPTION:Zoom 598 988 635\nPW 241200
URL:https://recoverystlouis.org/event/aa-group-179-open-mixed-in-person-online/2028-09-28/
END:VEVENT
BEGIN:VEVENT
DTSTART;TZID=America/Denver:20280928T190000
DTEND;TZID=America/Denver:20280928T200000
DTSTAMP:20260423T164028
CREATED:20250513T055622Z
LAST-MODIFIED:20250513T055622Z
UID:10004334-1853780400-1853784000@recoverystlouis.org
SUMMARY:Recovery Dharma Independent/in person only Open-mixed
DESCRIPTION:Contact\nMichelle T\n(314) 495-8026
URL:https://recoverystlouis.org/event/recovery-dharma-independent-in-person-only-open-mixed/2028-09-28/
END:VEVENT
BEGIN:VEVENT
DTSTART;TZID=America/Denver:20280929T070500
DTEND;TZID=America/Denver:20280929T074500
DTSTAMP:20260423T164029
CREATED:20250513T055108Z
LAST-MODIFIED:20250513T055108Z
UID:10002774-1853823900-1853826300@recoverystlouis.org
SUMMARY:AA Closed/ Men only Primary Purpose Mens
DESCRIPTION:
URL:https://recoverystlouis.org/event/aa-closed-men-only-primary-purpose-mens/2028-09-29/
END:VEVENT
BEGIN:VEVENT
DTSTART;TZID=America/Denver:20280929T174500
DTEND;TZID=America/Denver:20280929T184500
DTSTAMP:20260423T164029
CREATED:20250513T055756Z
LAST-MODIFIED:20250513T055756Z
UID:10004854-1853862300-1853865900@recoverystlouis.org
SUMMARY:AA Group 413- happier Hour Women’s-Open In person/online
DESCRIPTION:Zoom 263 787 324\nPW 279425 \nContact\nLeigh H\n(314) 276-6953
URL:https://recoverystlouis.org/event/aa-group-413-happier-hour-womens-open-in-person-online/2028-09-29/
END:VEVENT
BEGIN:VEVENT
DTSTART;TZID=America/Denver:20281001T090000
DTEND;TZID=America/Denver:20281001T101500
DTSTAMP:20260423T164029
CREATED:20250428T191821Z
LAST-MODIFIED:20250512T070411Z
UID:10000177-1854003600-1854008100@recoverystlouis.org
SUMMARY:AA Group 255-FIVE AND DIME Closed-Mixed In person/online
DESCRIPTION:Zoom:845 2025 1856\nPW: 173321 \nContact\nMichael Mac\n314-249-8149
URL:https://recoverystlouis.org/event/lorem-ipsum/2028-10-01/
END:VEVENT
BEGIN:VEVENT
DTSTART;TZID=America/Denver:20281001T110000
DTEND;TZID=America/Denver:20281001T120000
DTSTAMP:20260423T164029
CREATED:20250513T055407Z
LAST-MODIFIED:20250513T055407Z
UID:10003294-1854010800-1854014400@recoverystlouis.org
SUMMARY:OA Sunday Recovery Open-mixed In person/online
DESCRIPTION:Zoom:264 689 861\nPW:066708 \nContact\nCathy K (314) 538-1331
URL:https://recoverystlouis.org/event/oa-sunday-recovery-open-mixed-in-person-online/2028-10-01/
END:VEVENT
BEGIN:VEVENT
DTSTART;TZID=America/Denver:20281002T180000
DTEND;TZID=America/Denver:20281002T190000
DTSTAMP:20260423T164029
CREATED:20250512T071133Z
LAST-MODIFIED:20250512T071133Z
UID:10000697-1854122400-1854126000@recoverystlouis.org
SUMMARY:I AM RESPONSIBLE Women’s-closed In person-online
DESCRIPTION:Zoom:191 385 271\nPW: 085501 \nContact Clare P\n(314) 448-2101
URL:https://recoverystlouis.org/event/i-am-responsible-womens-closed-in-person-online/2028-10-02/
END:VEVENT
BEGIN:VEVENT
DTSTART;TZID=America/Denver:20281003T173000
DTEND;TZID=America/Denver:20281003T183000
DTSTAMP:20260423T164029
CREATED:20250513T054121Z
LAST-MODIFIED:20250513T054121Z
UID:10001215-1854207000-1854210600@recoverystlouis.org
SUMMARY:AA Secular Sobriety Open-mixed In person/online
DESCRIPTION:Zoom: 343 811 2984\nPW 770507
URL:https://recoverystlouis.org/event/aa-secular-sobriety-open-mixed-in-person-online/2028-10-03/
END:VEVENT
BEGIN:VEVENT
DTSTART;TZID=America/Denver:20281003T190000
DTEND;TZID=America/Denver:20281003T200000
DTSTAMP:20260423T164029
CREATED:20250513T055457Z
LAST-MODIFIED:20250513T055457Z
UID:10003815-1854212400-1854216000@recoverystlouis.org
SUMMARY:AA Burton’s Heroes Open -mixed In person/online
DESCRIPTION:
URL:https://recoverystlouis.org/event/aa-burtons-heroes-open-mixed-in-person-online/2028-10-03/
END:VEVENT
BEGIN:VEVENT
DTSTART;TZID=America/Denver:20281004T170000
DTEND;TZID=America/Denver:20281004T190000
DTSTAMP:20260423T164029
CREATED:20250513T054406Z
LAST-MODIFIED:20250513T054406Z
UID:10001735-1854291600-1854298800@recoverystlouis.org
SUMMARY:Private group
DESCRIPTION:
URL:https://recoverystlouis.org/event/private-group/2028-10-04/
END:VEVENT
BEGIN:VEVENT
DTSTART;TZID=America/Denver:20281005T100000
DTEND;TZID=America/Denver:20281005T111500
DTSTAMP:20260423T164029
CREATED:20250513T054602Z
LAST-MODIFIED:20250530T165143Z
UID:10002255-1854352800-1854357300@recoverystlouis.org
SUMMARY:AA Group 179 Open-mixed In person/online
DESCRIPTION:Zoom 598 988 635\nPW 241200
URL:https://recoverystlouis.org/event/aa-group-179-open-mixed-in-person-online/2028-10-05/
END:VEVENT
BEGIN:VEVENT
DTSTART;TZID=America/Denver:20281005T190000
DTEND;TZID=America/Denver:20281005T200000
DTSTAMP:20260423T164029
CREATED:20250513T055622Z
LAST-MODIFIED:20250513T055622Z
UID:10004335-1854385200-1854388800@recoverystlouis.org
SUMMARY:Recovery Dharma Independent/in person only Open-mixed
DESCRIPTION:Contact\nMichelle T\n(314) 495-8026
URL:https://recoverystlouis.org/event/recovery-dharma-independent-in-person-only-open-mixed/2028-10-05/
END:VEVENT
BEGIN:VEVENT
DTSTART;TZID=America/Denver:20281006T070500
DTEND;TZID=America/Denver:20281006T074500
DTSTAMP:20260423T164029
CREATED:20250513T055108Z
LAST-MODIFIED:20250513T055108Z
UID:10002775-1854428700-1854431100@recoverystlouis.org
SUMMARY:AA Closed/ Men only Primary Purpose Mens
DESCRIPTION:
URL:https://recoverystlouis.org/event/aa-closed-men-only-primary-purpose-mens/2028-10-06/
END:VEVENT
BEGIN:VEVENT
DTSTART;TZID=America/Denver:20281006T174500
DTEND;TZID=America/Denver:20281006T184500
DTSTAMP:20260423T164029
CREATED:20250513T055756Z
LAST-MODIFIED:20250513T055756Z
UID:10004855-1854467100-1854470700@recoverystlouis.org
SUMMARY:AA Group 413- happier Hour Women’s-Open In person/online
DESCRIPTION:Zoom 263 787 324\nPW 279425 \nContact\nLeigh H\n(314) 276-6953
URL:https://recoverystlouis.org/event/aa-group-413-happier-hour-womens-open-in-person-online/2028-10-06/
END:VEVENT
BEGIN:VEVENT
DTSTART;TZID=America/Denver:20281008T090000
DTEND;TZID=America/Denver:20281008T101500
DTSTAMP:20260423T164029
CREATED:20250428T191821Z
LAST-MODIFIED:20250512T070411Z
UID:10000178-1854608400-1854612900@recoverystlouis.org
SUMMARY:AA Group 255-FIVE AND DIME Closed-Mixed In person/online
DESCRIPTION:Zoom:845 2025 1856\nPW: 173321 \nContact\nMichael Mac\n314-249-8149
URL:https://recoverystlouis.org/event/lorem-ipsum/2028-10-08/
END:VEVENT
BEGIN:VEVENT
DTSTART;TZID=America/Denver:20281008T110000
DTEND;TZID=America/Denver:20281008T120000
DTSTAMP:20260423T164029
CREATED:20250513T055407Z
LAST-MODIFIED:20250513T055407Z
UID:10003295-1854615600-1854619200@recoverystlouis.org
SUMMARY:OA Sunday Recovery Open-mixed In person/online
DESCRIPTION:Zoom:264 689 861\nPW:066708 \nContact\nCathy K (314) 538-1331
URL:https://recoverystlouis.org/event/oa-sunday-recovery-open-mixed-in-person-online/2028-10-08/
END:VEVENT
BEGIN:VEVENT
DTSTART;TZID=America/Denver:20281009T180000
DTEND;TZID=America/Denver:20281009T190000
DTSTAMP:20260423T164029
CREATED:20250512T071133Z
LAST-MODIFIED:20250512T071133Z
UID:10000698-1854727200-1854730800@recoverystlouis.org
SUMMARY:I AM RESPONSIBLE Women’s-closed In person-online
DESCRIPTION:Zoom:191 385 271\nPW: 085501 \nContact Clare P\n(314) 448-2101
URL:https://recoverystlouis.org/event/i-am-responsible-womens-closed-in-person-online/2028-10-09/
END:VEVENT
BEGIN:VEVENT
DTSTART;TZID=America/Denver:20281010T173000
DTEND;TZID=America/Denver:20281010T183000
DTSTAMP:20260423T164029
CREATED:20250513T054121Z
LAST-MODIFIED:20250513T054121Z
UID:10001216-1854811800-1854815400@recoverystlouis.org
SUMMARY:AA Secular Sobriety Open-mixed In person/online
DESCRIPTION:Zoom: 343 811 2984\nPW 770507
URL:https://recoverystlouis.org/event/aa-secular-sobriety-open-mixed-in-person-online/2028-10-10/
END:VEVENT
BEGIN:VEVENT
DTSTART;TZID=America/Denver:20281010T190000
DTEND;TZID=America/Denver:20281010T200000
DTSTAMP:20260423T164029
CREATED:20250513T055457Z
LAST-MODIFIED:20250513T055457Z
UID:10003816-1854817200-1854820800@recoverystlouis.org
SUMMARY:AA Burton’s Heroes Open -mixed In person/online
DESCRIPTION:
URL:https://recoverystlouis.org/event/aa-burtons-heroes-open-mixed-in-person-online/2028-10-10/
END:VEVENT
BEGIN:VEVENT
DTSTART;TZID=America/Denver:20281011T170000
DTEND;TZID=America/Denver:20281011T190000
DTSTAMP:20260423T164029
CREATED:20250513T054406Z
LAST-MODIFIED:20250513T054406Z
UID:10001736-1854896400-1854903600@recoverystlouis.org
SUMMARY:Private group
DESCRIPTION:
URL:https://recoverystlouis.org/event/private-group/2028-10-11/
END:VEVENT
BEGIN:VEVENT
DTSTART;TZID=America/Denver:20281012T100000
DTEND;TZID=America/Denver:20281012T111500
DTSTAMP:20260423T164029
CREATED:20250513T054602Z
LAST-MODIFIED:20250530T165143Z
UID:10002256-1854957600-1854962100@recoverystlouis.org
SUMMARY:AA Group 179 Open-mixed In person/online
DESCRIPTION:Zoom 598 988 635\nPW 241200
URL:https://recoverystlouis.org/event/aa-group-179-open-mixed-in-person-online/2028-10-12/
END:VEVENT
BEGIN:VEVENT
DTSTART;TZID=America/Denver:20281012T190000
DTEND;TZID=America/Denver:20281012T200000
DTSTAMP:20260423T164029
CREATED:20250513T055622Z
LAST-MODIFIED:20250513T055622Z
UID:10004336-1854990000-1854993600@recoverystlouis.org
SUMMARY:Recovery Dharma Independent/in person only Open-mixed
DESCRIPTION:Contact\nMichelle T\n(314) 495-8026
URL:https://recoverystlouis.org/event/recovery-dharma-independent-in-person-only-open-mixed/2028-10-12/
END:VEVENT
BEGIN:VEVENT
DTSTART;TZID=America/Denver:20281013T070500
DTEND;TZID=America/Denver:20281013T074500
DTSTAMP:20260423T164029
CREATED:20250513T055108Z
LAST-MODIFIED:20250513T055108Z
UID:10002776-1855033500-1855035900@recoverystlouis.org
SUMMARY:AA Closed/ Men only Primary Purpose Mens
DESCRIPTION:
URL:https://recoverystlouis.org/event/aa-closed-men-only-primary-purpose-mens/2028-10-13/
END:VEVENT
BEGIN:VEVENT
DTSTART;TZID=America/Denver:20281013T174500
DTEND;TZID=America/Denver:20281013T184500
DTSTAMP:20260423T164029
CREATED:20250513T055756Z
LAST-MODIFIED:20250513T055756Z
UID:10004856-1855071900-1855075500@recoverystlouis.org
SUMMARY:AA Group 413- happier Hour Women’s-Open In person/online
DESCRIPTION:Zoom 263 787 324\nPW 279425 \nContact\nLeigh H\n(314) 276-6953
URL:https://recoverystlouis.org/event/aa-group-413-happier-hour-womens-open-in-person-online/2028-10-13/
END:VEVENT
BEGIN:VEVENT
DTSTART;TZID=America/Denver:20281015T090000
DTEND;TZID=America/Denver:20281015T101500
DTSTAMP:20260423T164029
CREATED:20250428T191821Z
LAST-MODIFIED:20250512T070411Z
UID:10000179-1855213200-1855217700@recoverystlouis.org
SUMMARY:AA Group 255-FIVE AND DIME Closed-Mixed In person/online
DESCRIPTION:Zoom:845 2025 1856\nPW: 173321 \nContact\nMichael Mac\n314-249-8149
URL:https://recoverystlouis.org/event/lorem-ipsum/2028-10-15/
END:VEVENT
BEGIN:VEVENT
DTSTART;TZID=America/Denver:20281015T110000
DTEND;TZID=America/Denver:20281015T120000
DTSTAMP:20260423T164029
CREATED:20250513T055407Z
LAST-MODIFIED:20250513T055407Z
UID:10003296-1855220400-1855224000@recoverystlouis.org
SUMMARY:OA Sunday Recovery Open-mixed In person/online
DESCRIPTION:Zoom:264 689 861\nPW:066708 \nContact\nCathy K (314) 538-1331
URL:https://recoverystlouis.org/event/oa-sunday-recovery-open-mixed-in-person-online/2028-10-15/
END:VEVENT
BEGIN:VEVENT
DTSTART;TZID=America/Denver:20281016T180000
DTEND;TZID=America/Denver:20281016T190000
DTSTAMP:20260423T164029
CREATED:20250512T071133Z
LAST-MODIFIED:20250512T071133Z
UID:10000699-1855332000-1855335600@recoverystlouis.org
SUMMARY:I AM RESPONSIBLE Women’s-closed In person-online
DESCRIPTION:Zoom:191 385 271\nPW: 085501 \nContact Clare P\n(314) 448-2101
URL:https://recoverystlouis.org/event/i-am-responsible-womens-closed-in-person-online/2028-10-16/
END:VEVENT
END:VCALENDAR