BEGIN:VCALENDAR
VERSION:2.0
PRODID:-//Recovery St. Louis - ECPv6.15.17.1//NONSGML v1.0//EN
CALSCALE:GREGORIAN
METHOD:PUBLISH
X-WR-CALNAME:Recovery St. Louis
X-ORIGINAL-URL:https://recoverystlouis.org
X-WR-CALDESC:Events for Recovery St. Louis
REFRESH-INTERVAL;VALUE=DURATION:PT1H
X-Robots-Tag:noindex
X-PUBLISHED-TTL:PT1H
BEGIN:VTIMEZONE
TZID:America/Denver
BEGIN:DAYLIGHT
TZOFFSETFROM:-0700
TZOFFSETTO:-0600
TZNAME:MDT
DTSTART:20270314T090000
END:DAYLIGHT
BEGIN:STANDARD
TZOFFSETFROM:-0600
TZOFFSETTO:-0700
TZNAME:MST
DTSTART:20271107T080000
END:STANDARD
BEGIN:DAYLIGHT
TZOFFSETFROM:-0700
TZOFFSETTO:-0600
TZNAME:MDT
DTSTART:20280312T090000
END:DAYLIGHT
BEGIN:STANDARD
TZOFFSETFROM:-0600
TZOFFSETTO:-0700
TZNAME:MST
DTSTART:20281105T080000
END:STANDARD
BEGIN:DAYLIGHT
TZOFFSETFROM:-0700
TZOFFSETTO:-0600
TZNAME:MDT
DTSTART:20290311T090000
END:DAYLIGHT
BEGIN:STANDARD
TZOFFSETFROM:-0600
TZOFFSETTO:-0700
TZNAME:MST
DTSTART:20291104T080000
END:STANDARD
END:VTIMEZONE
BEGIN:VEVENT
DTSTART;TZID=America/Denver:20280427T100000
DTEND;TZID=America/Denver:20280427T111500
DTSTAMP:20260423T010407
CREATED:20250513T054602Z
LAST-MODIFIED:20250530T165143Z
UID:10002232-1840442400-1840446900@recoverystlouis.org
SUMMARY:AA Group 179 Open-mixed In person/online
DESCRIPTION:Zoom 598 988 635\nPW 241200
URL:https://recoverystlouis.org/event/aa-group-179-open-mixed-in-person-online/2028-04-27/
END:VEVENT
BEGIN:VEVENT
DTSTART;TZID=America/Denver:20280427T190000
DTEND;TZID=America/Denver:20280427T200000
DTSTAMP:20260423T010407
CREATED:20250513T055622Z
LAST-MODIFIED:20250513T055622Z
UID:10004312-1840474800-1840478400@recoverystlouis.org
SUMMARY:Recovery Dharma Independent/in person only Open-mixed
DESCRIPTION:Contact\nMichelle T\n(314) 495-8026
URL:https://recoverystlouis.org/event/recovery-dharma-independent-in-person-only-open-mixed/2028-04-27/
END:VEVENT
BEGIN:VEVENT
DTSTART;TZID=America/Denver:20280428T070500
DTEND;TZID=America/Denver:20280428T074500
DTSTAMP:20260423T010407
CREATED:20250513T055108Z
LAST-MODIFIED:20250513T055108Z
UID:10002752-1840518300-1840520700@recoverystlouis.org
SUMMARY:AA Closed/ Men only Primary Purpose Mens
DESCRIPTION:
URL:https://recoverystlouis.org/event/aa-closed-men-only-primary-purpose-mens/2028-04-28/
END:VEVENT
BEGIN:VEVENT
DTSTART;TZID=America/Denver:20280428T174500
DTEND;TZID=America/Denver:20280428T184500
DTSTAMP:20260423T010407
CREATED:20250513T055756Z
LAST-MODIFIED:20250513T055756Z
UID:10004832-1840556700-1840560300@recoverystlouis.org
SUMMARY:AA Group 413- happier Hour Women’s-Open In person/online
DESCRIPTION:Zoom 263 787 324\nPW 279425 \nContact\nLeigh H\n(314) 276-6953
URL:https://recoverystlouis.org/event/aa-group-413-happier-hour-womens-open-in-person-online/2028-04-28/
END:VEVENT
BEGIN:VEVENT
DTSTART;TZID=America/Denver:20280430T090000
DTEND;TZID=America/Denver:20280430T101500
DTSTAMP:20260423T010407
CREATED:20250428T191821Z
LAST-MODIFIED:20250512T070411Z
UID:10000155-1840698000-1840702500@recoverystlouis.org
SUMMARY:AA Group 255-FIVE AND DIME Closed-Mixed In person/online
DESCRIPTION:Zoom:845 2025 1856\nPW: 173321 \nContact\nMichael Mac\n314-249-8149
URL:https://recoverystlouis.org/event/lorem-ipsum/2028-04-30/
END:VEVENT
BEGIN:VEVENT
DTSTART;TZID=America/Denver:20280430T110000
DTEND;TZID=America/Denver:20280430T120000
DTSTAMP:20260423T010407
CREATED:20250513T055407Z
LAST-MODIFIED:20250513T055407Z
UID:10003272-1840705200-1840708800@recoverystlouis.org
SUMMARY:OA Sunday Recovery Open-mixed In person/online
DESCRIPTION:Zoom:264 689 861\nPW:066708 \nContact\nCathy K (314) 538-1331
URL:https://recoverystlouis.org/event/oa-sunday-recovery-open-mixed-in-person-online/2028-04-30/
END:VEVENT
BEGIN:VEVENT
DTSTART;TZID=America/Denver:20280501T180000
DTEND;TZID=America/Denver:20280501T190000
DTSTAMP:20260423T010407
CREATED:20250512T071133Z
LAST-MODIFIED:20250512T071133Z
UID:10000675-1840816800-1840820400@recoverystlouis.org
SUMMARY:I AM RESPONSIBLE Women’s-closed In person-online
DESCRIPTION:Zoom:191 385 271\nPW: 085501 \nContact Clare P\n(314) 448-2101
URL:https://recoverystlouis.org/event/i-am-responsible-womens-closed-in-person-online/2028-05-01/
END:VEVENT
BEGIN:VEVENT
DTSTART;TZID=America/Denver:20280502T173000
DTEND;TZID=America/Denver:20280502T183000
DTSTAMP:20260423T010407
CREATED:20250513T054121Z
LAST-MODIFIED:20250513T054121Z
UID:10001193-1840901400-1840905000@recoverystlouis.org
SUMMARY:AA Secular Sobriety Open-mixed In person/online
DESCRIPTION:Zoom: 343 811 2984\nPW 770507
URL:https://recoverystlouis.org/event/aa-secular-sobriety-open-mixed-in-person-online/2028-05-02/
END:VEVENT
BEGIN:VEVENT
DTSTART;TZID=America/Denver:20280502T190000
DTEND;TZID=America/Denver:20280502T200000
DTSTAMP:20260423T010407
CREATED:20250513T055457Z
LAST-MODIFIED:20250513T055457Z
UID:10003793-1840906800-1840910400@recoverystlouis.org
SUMMARY:AA Burton’s Heroes Open -mixed In person/online
DESCRIPTION:
URL:https://recoverystlouis.org/event/aa-burtons-heroes-open-mixed-in-person-online/2028-05-02/
END:VEVENT
BEGIN:VEVENT
DTSTART;TZID=America/Denver:20280503T170000
DTEND;TZID=America/Denver:20280503T190000
DTSTAMP:20260423T010407
CREATED:20250513T054406Z
LAST-MODIFIED:20250513T054406Z
UID:10001713-1840986000-1840993200@recoverystlouis.org
SUMMARY:Private group
DESCRIPTION:
URL:https://recoverystlouis.org/event/private-group/2028-05-03/
END:VEVENT
BEGIN:VEVENT
DTSTART;TZID=America/Denver:20280504T100000
DTEND;TZID=America/Denver:20280504T111500
DTSTAMP:20260423T010407
CREATED:20250513T054602Z
LAST-MODIFIED:20250530T165143Z
UID:10002233-1841047200-1841051700@recoverystlouis.org
SUMMARY:AA Group 179 Open-mixed In person/online
DESCRIPTION:Zoom 598 988 635\nPW 241200
URL:https://recoverystlouis.org/event/aa-group-179-open-mixed-in-person-online/2028-05-04/
END:VEVENT
BEGIN:VEVENT
DTSTART;TZID=America/Denver:20280504T190000
DTEND;TZID=America/Denver:20280504T200000
DTSTAMP:20260423T010407
CREATED:20250513T055622Z
LAST-MODIFIED:20250513T055622Z
UID:10004313-1841079600-1841083200@recoverystlouis.org
SUMMARY:Recovery Dharma Independent/in person only Open-mixed
DESCRIPTION:Contact\nMichelle T\n(314) 495-8026
URL:https://recoverystlouis.org/event/recovery-dharma-independent-in-person-only-open-mixed/2028-05-04/
END:VEVENT
BEGIN:VEVENT
DTSTART;TZID=America/Denver:20280505T070500
DTEND;TZID=America/Denver:20280505T074500
DTSTAMP:20260423T010407
CREATED:20250513T055108Z
LAST-MODIFIED:20250513T055108Z
UID:10002753-1841123100-1841125500@recoverystlouis.org
SUMMARY:AA Closed/ Men only Primary Purpose Mens
DESCRIPTION:
URL:https://recoverystlouis.org/event/aa-closed-men-only-primary-purpose-mens/2028-05-05/
END:VEVENT
BEGIN:VEVENT
DTSTART;TZID=America/Denver:20280505T174500
DTEND;TZID=America/Denver:20280505T184500
DTSTAMP:20260423T010407
CREATED:20250513T055756Z
LAST-MODIFIED:20250513T055756Z
UID:10004833-1841161500-1841165100@recoverystlouis.org
SUMMARY:AA Group 413- happier Hour Women’s-Open In person/online
DESCRIPTION:Zoom 263 787 324\nPW 279425 \nContact\nLeigh H\n(314) 276-6953
URL:https://recoverystlouis.org/event/aa-group-413-happier-hour-womens-open-in-person-online/2028-05-05/
END:VEVENT
BEGIN:VEVENT
DTSTART;TZID=America/Denver:20280507T090000
DTEND;TZID=America/Denver:20280507T101500
DTSTAMP:20260423T010407
CREATED:20250428T191821Z
LAST-MODIFIED:20250512T070411Z
UID:10000156-1841302800-1841307300@recoverystlouis.org
SUMMARY:AA Group 255-FIVE AND DIME Closed-Mixed In person/online
DESCRIPTION:Zoom:845 2025 1856\nPW: 173321 \nContact\nMichael Mac\n314-249-8149
URL:https://recoverystlouis.org/event/lorem-ipsum/2028-05-07/
END:VEVENT
BEGIN:VEVENT
DTSTART;TZID=America/Denver:20280507T110000
DTEND;TZID=America/Denver:20280507T120000
DTSTAMP:20260423T010407
CREATED:20250513T055407Z
LAST-MODIFIED:20250513T055407Z
UID:10003273-1841310000-1841313600@recoverystlouis.org
SUMMARY:OA Sunday Recovery Open-mixed In person/online
DESCRIPTION:Zoom:264 689 861\nPW:066708 \nContact\nCathy K (314) 538-1331
URL:https://recoverystlouis.org/event/oa-sunday-recovery-open-mixed-in-person-online/2028-05-07/
END:VEVENT
BEGIN:VEVENT
DTSTART;TZID=America/Denver:20280508T180000
DTEND;TZID=America/Denver:20280508T190000
DTSTAMP:20260423T010407
CREATED:20250512T071133Z
LAST-MODIFIED:20250512T071133Z
UID:10000676-1841421600-1841425200@recoverystlouis.org
SUMMARY:I AM RESPONSIBLE Women’s-closed In person-online
DESCRIPTION:Zoom:191 385 271\nPW: 085501 \nContact Clare P\n(314) 448-2101
URL:https://recoverystlouis.org/event/i-am-responsible-womens-closed-in-person-online/2028-05-08/
END:VEVENT
BEGIN:VEVENT
DTSTART;TZID=America/Denver:20280509T173000
DTEND;TZID=America/Denver:20280509T183000
DTSTAMP:20260423T010407
CREATED:20250513T054121Z
LAST-MODIFIED:20250513T054121Z
UID:10001194-1841506200-1841509800@recoverystlouis.org
SUMMARY:AA Secular Sobriety Open-mixed In person/online
DESCRIPTION:Zoom: 343 811 2984\nPW 770507
URL:https://recoverystlouis.org/event/aa-secular-sobriety-open-mixed-in-person-online/2028-05-09/
END:VEVENT
BEGIN:VEVENT
DTSTART;TZID=America/Denver:20280509T190000
DTEND;TZID=America/Denver:20280509T200000
DTSTAMP:20260423T010407
CREATED:20250513T055457Z
LAST-MODIFIED:20250513T055457Z
UID:10003794-1841511600-1841515200@recoverystlouis.org
SUMMARY:AA Burton’s Heroes Open -mixed In person/online
DESCRIPTION:
URL:https://recoverystlouis.org/event/aa-burtons-heroes-open-mixed-in-person-online/2028-05-09/
END:VEVENT
BEGIN:VEVENT
DTSTART;TZID=America/Denver:20280510T170000
DTEND;TZID=America/Denver:20280510T190000
DTSTAMP:20260423T010407
CREATED:20250513T054406Z
LAST-MODIFIED:20250513T054406Z
UID:10001714-1841590800-1841598000@recoverystlouis.org
SUMMARY:Private group
DESCRIPTION:
URL:https://recoverystlouis.org/event/private-group/2028-05-10/
END:VEVENT
BEGIN:VEVENT
DTSTART;TZID=America/Denver:20280511T100000
DTEND;TZID=America/Denver:20280511T111500
DTSTAMP:20260423T010407
CREATED:20250513T054602Z
LAST-MODIFIED:20250530T165143Z
UID:10002234-1841652000-1841656500@recoverystlouis.org
SUMMARY:AA Group 179 Open-mixed In person/online
DESCRIPTION:Zoom 598 988 635\nPW 241200
URL:https://recoverystlouis.org/event/aa-group-179-open-mixed-in-person-online/2028-05-11/
END:VEVENT
BEGIN:VEVENT
DTSTART;TZID=America/Denver:20280511T190000
DTEND;TZID=America/Denver:20280511T200000
DTSTAMP:20260423T010407
CREATED:20250513T055622Z
LAST-MODIFIED:20250513T055622Z
UID:10004314-1841684400-1841688000@recoverystlouis.org
SUMMARY:Recovery Dharma Independent/in person only Open-mixed
DESCRIPTION:Contact\nMichelle T\n(314) 495-8026
URL:https://recoverystlouis.org/event/recovery-dharma-independent-in-person-only-open-mixed/2028-05-11/
END:VEVENT
BEGIN:VEVENT
DTSTART;TZID=America/Denver:20280512T070500
DTEND;TZID=America/Denver:20280512T074500
DTSTAMP:20260423T010407
CREATED:20250513T055108Z
LAST-MODIFIED:20250513T055108Z
UID:10002754-1841727900-1841730300@recoverystlouis.org
SUMMARY:AA Closed/ Men only Primary Purpose Mens
DESCRIPTION:
URL:https://recoverystlouis.org/event/aa-closed-men-only-primary-purpose-mens/2028-05-12/
END:VEVENT
BEGIN:VEVENT
DTSTART;TZID=America/Denver:20280512T174500
DTEND;TZID=America/Denver:20280512T184500
DTSTAMP:20260423T010407
CREATED:20250513T055756Z
LAST-MODIFIED:20250513T055756Z
UID:10004834-1841766300-1841769900@recoverystlouis.org
SUMMARY:AA Group 413- happier Hour Women’s-Open In person/online
DESCRIPTION:Zoom 263 787 324\nPW 279425 \nContact\nLeigh H\n(314) 276-6953
URL:https://recoverystlouis.org/event/aa-group-413-happier-hour-womens-open-in-person-online/2028-05-12/
END:VEVENT
BEGIN:VEVENT
DTSTART;TZID=America/Denver:20280514T090000
DTEND;TZID=America/Denver:20280514T101500
DTSTAMP:20260423T010407
CREATED:20250428T191821Z
LAST-MODIFIED:20250512T070411Z
UID:10000157-1841907600-1841912100@recoverystlouis.org
SUMMARY:AA Group 255-FIVE AND DIME Closed-Mixed In person/online
DESCRIPTION:Zoom:845 2025 1856\nPW: 173321 \nContact\nMichael Mac\n314-249-8149
URL:https://recoverystlouis.org/event/lorem-ipsum/2028-05-14/
END:VEVENT
BEGIN:VEVENT
DTSTART;TZID=America/Denver:20280514T110000
DTEND;TZID=America/Denver:20280514T120000
DTSTAMP:20260423T010407
CREATED:20250513T055407Z
LAST-MODIFIED:20250513T055407Z
UID:10003274-1841914800-1841918400@recoverystlouis.org
SUMMARY:OA Sunday Recovery Open-mixed In person/online
DESCRIPTION:Zoom:264 689 861\nPW:066708 \nContact\nCathy K (314) 538-1331
URL:https://recoverystlouis.org/event/oa-sunday-recovery-open-mixed-in-person-online/2028-05-14/
END:VEVENT
BEGIN:VEVENT
DTSTART;TZID=America/Denver:20280515T180000
DTEND;TZID=America/Denver:20280515T190000
DTSTAMP:20260423T010407
CREATED:20250512T071133Z
LAST-MODIFIED:20250512T071133Z
UID:10000677-1842026400-1842030000@recoverystlouis.org
SUMMARY:I AM RESPONSIBLE Women’s-closed In person-online
DESCRIPTION:Zoom:191 385 271\nPW: 085501 \nContact Clare P\n(314) 448-2101
URL:https://recoverystlouis.org/event/i-am-responsible-womens-closed-in-person-online/2028-05-15/
END:VEVENT
BEGIN:VEVENT
DTSTART;TZID=America/Denver:20280516T173000
DTEND;TZID=America/Denver:20280516T183000
DTSTAMP:20260423T010407
CREATED:20250513T054121Z
LAST-MODIFIED:20250513T054121Z
UID:10001195-1842111000-1842114600@recoverystlouis.org
SUMMARY:AA Secular Sobriety Open-mixed In person/online
DESCRIPTION:Zoom: 343 811 2984\nPW 770507
URL:https://recoverystlouis.org/event/aa-secular-sobriety-open-mixed-in-person-online/2028-05-16/
END:VEVENT
BEGIN:VEVENT
DTSTART;TZID=America/Denver:20280516T190000
DTEND;TZID=America/Denver:20280516T200000
DTSTAMP:20260423T010407
CREATED:20250513T055457Z
LAST-MODIFIED:20250513T055457Z
UID:10003795-1842116400-1842120000@recoverystlouis.org
SUMMARY:AA Burton’s Heroes Open -mixed In person/online
DESCRIPTION:
URL:https://recoverystlouis.org/event/aa-burtons-heroes-open-mixed-in-person-online/2028-05-16/
END:VEVENT
BEGIN:VEVENT
DTSTART;TZID=America/Denver:20280517T170000
DTEND;TZID=America/Denver:20280517T190000
DTSTAMP:20260423T010407
CREATED:20250513T054406Z
LAST-MODIFIED:20250513T054406Z
UID:10001715-1842195600-1842202800@recoverystlouis.org
SUMMARY:Private group
DESCRIPTION:
URL:https://recoverystlouis.org/event/private-group/2028-05-17/
END:VEVENT
END:VCALENDAR