BEGIN:VCALENDAR
VERSION:2.0
PRODID:-//Recovery St. Louis - ECPv6.15.17.1//NONSGML v1.0//EN
CALSCALE:GREGORIAN
METHOD:PUBLISH
X-WR-CALNAME:Recovery St. Louis
X-ORIGINAL-URL:https://recoverystlouis.org
X-WR-CALDESC:Events for Recovery St. Louis
REFRESH-INTERVAL;VALUE=DURATION:PT1H
X-Robots-Tag:noindex
X-PUBLISHED-TTL:PT1H
BEGIN:VTIMEZONE
TZID:America/Denver
BEGIN:DAYLIGHT
TZOFFSETFROM:-0700
TZOFFSETTO:-0600
TZNAME:MDT
DTSTART:20270314T090000
END:DAYLIGHT
BEGIN:STANDARD
TZOFFSETFROM:-0600
TZOFFSETTO:-0700
TZNAME:MST
DTSTART:20271107T080000
END:STANDARD
BEGIN:DAYLIGHT
TZOFFSETFROM:-0700
TZOFFSETTO:-0600
TZNAME:MDT
DTSTART:20280312T090000
END:DAYLIGHT
BEGIN:STANDARD
TZOFFSETFROM:-0600
TZOFFSETTO:-0700
TZNAME:MST
DTSTART:20281105T080000
END:STANDARD
BEGIN:DAYLIGHT
TZOFFSETFROM:-0700
TZOFFSETTO:-0600
TZNAME:MDT
DTSTART:20290311T090000
END:DAYLIGHT
BEGIN:STANDARD
TZOFFSETFROM:-0600
TZOFFSETTO:-0700
TZNAME:MST
DTSTART:20291104T080000
END:STANDARD
BEGIN:DAYLIGHT
TZOFFSETFROM:-0700
TZOFFSETTO:-0600
TZNAME:MDT
DTSTART:20300310T090000
END:DAYLIGHT
BEGIN:STANDARD
TZOFFSETFROM:-0600
TZOFFSETTO:-0700
TZNAME:MST
DTSTART:20301103T080000
END:STANDARD
END:VTIMEZONE
BEGIN:VEVENT
DTSTART;TZID=America/Denver:20290103T170000
DTEND;TZID=America/Denver:20290103T190000
DTSTAMP:20260424T101856
CREATED:20250513T054406Z
LAST-MODIFIED:20250513T054406Z
UID:10001748-1862154000-1862161200@recoverystlouis.org
SUMMARY:Private group
DESCRIPTION:
URL:https://recoverystlouis.org/event/private-group/2029-01-03/
END:VEVENT
BEGIN:VEVENT
DTSTART;TZID=America/Denver:20290102T190000
DTEND;TZID=America/Denver:20290102T200000
DTSTAMP:20260424T101856
CREATED:20250513T055457Z
LAST-MODIFIED:20250513T055457Z
UID:10003828-1862074800-1862078400@recoverystlouis.org
SUMMARY:AA Burton’s Heroes Open -mixed In person/online
DESCRIPTION:
URL:https://recoverystlouis.org/event/aa-burtons-heroes-open-mixed-in-person-online/2029-01-02/
END:VEVENT
BEGIN:VEVENT
DTSTART;TZID=America/Denver:20290102T173000
DTEND;TZID=America/Denver:20290102T183000
DTSTAMP:20260424T101856
CREATED:20250513T054121Z
LAST-MODIFIED:20250513T054121Z
UID:10001228-1862069400-1862073000@recoverystlouis.org
SUMMARY:AA Secular Sobriety Open-mixed In person/online
DESCRIPTION:Zoom: 343 811 2984\nPW 770507
URL:https://recoverystlouis.org/event/aa-secular-sobriety-open-mixed-in-person-online/2029-01-02/
END:VEVENT
BEGIN:VEVENT
DTSTART;TZID=America/Denver:20290101T180000
DTEND;TZID=America/Denver:20290101T190000
DTSTAMP:20260424T101856
CREATED:20250512T071133Z
LAST-MODIFIED:20250512T071133Z
UID:10000710-1861984800-1861988400@recoverystlouis.org
SUMMARY:I AM RESPONSIBLE Women’s-closed In person-online
DESCRIPTION:Zoom:191 385 271\nPW: 085501 \nContact Clare P\n(314) 448-2101
URL:https://recoverystlouis.org/event/i-am-responsible-womens-closed-in-person-online/2029-01-01/
END:VEVENT
BEGIN:VEVENT
DTSTART;TZID=America/Denver:20281231T110000
DTEND;TZID=America/Denver:20281231T120000
DTSTAMP:20260424T101856
CREATED:20250513T055407Z
LAST-MODIFIED:20250513T055407Z
UID:10003307-1861873200-1861876800@recoverystlouis.org
SUMMARY:OA Sunday Recovery Open-mixed In person/online
DESCRIPTION:Zoom:264 689 861\nPW:066708 \nContact\nCathy K (314) 538-1331
URL:https://recoverystlouis.org/event/oa-sunday-recovery-open-mixed-in-person-online/2028-12-31/
END:VEVENT
BEGIN:VEVENT
DTSTART;TZID=America/Denver:20281231T090000
DTEND;TZID=America/Denver:20281231T101500
DTSTAMP:20260424T101856
CREATED:20250428T191821Z
LAST-MODIFIED:20250512T070411Z
UID:10000190-1861866000-1861870500@recoverystlouis.org
SUMMARY:AA Group 255-FIVE AND DIME Closed-Mixed In person/online
DESCRIPTION:Zoom:845 2025 1856\nPW: 173321 \nContact\nMichael Mac\n314-249-8149
URL:https://recoverystlouis.org/event/lorem-ipsum/2028-12-31/
END:VEVENT
BEGIN:VEVENT
DTSTART;TZID=America/Denver:20281229T174500
DTEND;TZID=America/Denver:20281229T184500
DTSTAMP:20260424T101856
CREATED:20250513T055756Z
LAST-MODIFIED:20250513T055756Z
UID:10004867-1861724700-1861728300@recoverystlouis.org
SUMMARY:AA Group 413- happier Hour Women’s-Open In person/online
DESCRIPTION:Zoom 263 787 324\nPW 279425 \nContact\nLeigh H\n(314) 276-6953
URL:https://recoverystlouis.org/event/aa-group-413-happier-hour-womens-open-in-person-online/2028-12-29/
END:VEVENT
BEGIN:VEVENT
DTSTART;TZID=America/Denver:20281229T070500
DTEND;TZID=America/Denver:20281229T074500
DTSTAMP:20260424T101856
CREATED:20250513T055108Z
LAST-MODIFIED:20250513T055108Z
UID:10002787-1861686300-1861688700@recoverystlouis.org
SUMMARY:AA Closed/ Men only Primary Purpose Mens
DESCRIPTION:
URL:https://recoverystlouis.org/event/aa-closed-men-only-primary-purpose-mens/2028-12-29/
END:VEVENT
BEGIN:VEVENT
DTSTART;TZID=America/Denver:20281228T190000
DTEND;TZID=America/Denver:20281228T200000
DTSTAMP:20260424T101856
CREATED:20250513T055622Z
LAST-MODIFIED:20250513T055622Z
UID:10004347-1861642800-1861646400@recoverystlouis.org
SUMMARY:Recovery Dharma Independent/in person only Open-mixed
DESCRIPTION:Contact\nMichelle T\n(314) 495-8026
URL:https://recoverystlouis.org/event/recovery-dharma-independent-in-person-only-open-mixed/2028-12-28/
END:VEVENT
BEGIN:VEVENT
DTSTART;TZID=America/Denver:20281228T100000
DTEND;TZID=America/Denver:20281228T111500
DTSTAMP:20260424T101856
CREATED:20250513T054602Z
LAST-MODIFIED:20250530T165143Z
UID:10002267-1861610400-1861614900@recoverystlouis.org
SUMMARY:AA Group 179 Open-mixed In person/online
DESCRIPTION:Zoom 598 988 635\nPW 241200
URL:https://recoverystlouis.org/event/aa-group-179-open-mixed-in-person-online/2028-12-28/
END:VEVENT
BEGIN:VEVENT
DTSTART;TZID=America/Denver:20281227T170000
DTEND;TZID=America/Denver:20281227T190000
DTSTAMP:20260424T101856
CREATED:20250513T054406Z
LAST-MODIFIED:20250513T054406Z
UID:10001747-1861549200-1861556400@recoverystlouis.org
SUMMARY:Private group
DESCRIPTION:
URL:https://recoverystlouis.org/event/private-group/2028-12-27/
END:VEVENT
BEGIN:VEVENT
DTSTART;TZID=America/Denver:20281226T190000
DTEND;TZID=America/Denver:20281226T200000
DTSTAMP:20260424T101856
CREATED:20250513T055457Z
LAST-MODIFIED:20250513T055457Z
UID:10003827-1861470000-1861473600@recoverystlouis.org
SUMMARY:AA Burton’s Heroes Open -mixed In person/online
DESCRIPTION:
URL:https://recoverystlouis.org/event/aa-burtons-heroes-open-mixed-in-person-online/2028-12-26/
END:VEVENT
BEGIN:VEVENT
DTSTART;TZID=America/Denver:20281226T173000
DTEND;TZID=America/Denver:20281226T183000
DTSTAMP:20260424T101856
CREATED:20250513T054121Z
LAST-MODIFIED:20250513T054121Z
UID:10001227-1861464600-1861468200@recoverystlouis.org
SUMMARY:AA Secular Sobriety Open-mixed In person/online
DESCRIPTION:Zoom: 343 811 2984\nPW 770507
URL:https://recoverystlouis.org/event/aa-secular-sobriety-open-mixed-in-person-online/2028-12-26/
END:VEVENT
BEGIN:VEVENT
DTSTART;TZID=America/Denver:20281225T180000
DTEND;TZID=America/Denver:20281225T190000
DTSTAMP:20260424T101856
CREATED:20250512T071133Z
LAST-MODIFIED:20250512T071133Z
UID:10000709-1861380000-1861383600@recoverystlouis.org
SUMMARY:I AM RESPONSIBLE Women’s-closed In person-online
DESCRIPTION:Zoom:191 385 271\nPW: 085501 \nContact Clare P\n(314) 448-2101
URL:https://recoverystlouis.org/event/i-am-responsible-womens-closed-in-person-online/2028-12-25/
END:VEVENT
BEGIN:VEVENT
DTSTART;TZID=America/Denver:20281224T110000
DTEND;TZID=America/Denver:20281224T120000
DTSTAMP:20260424T101856
CREATED:20250513T055407Z
LAST-MODIFIED:20250513T055407Z
UID:10003306-1861268400-1861272000@recoverystlouis.org
SUMMARY:OA Sunday Recovery Open-mixed In person/online
DESCRIPTION:Zoom:264 689 861\nPW:066708 \nContact\nCathy K (314) 538-1331
URL:https://recoverystlouis.org/event/oa-sunday-recovery-open-mixed-in-person-online/2028-12-24/
END:VEVENT
BEGIN:VEVENT
DTSTART;TZID=America/Denver:20281224T090000
DTEND;TZID=America/Denver:20281224T101500
DTSTAMP:20260424T101856
CREATED:20250428T191821Z
LAST-MODIFIED:20250512T070411Z
UID:10000189-1861261200-1861265700@recoverystlouis.org
SUMMARY:AA Group 255-FIVE AND DIME Closed-Mixed In person/online
DESCRIPTION:Zoom:845 2025 1856\nPW: 173321 \nContact\nMichael Mac\n314-249-8149
URL:https://recoverystlouis.org/event/lorem-ipsum/2028-12-24/
END:VEVENT
BEGIN:VEVENT
DTSTART;TZID=America/Denver:20281222T174500
DTEND;TZID=America/Denver:20281222T184500
DTSTAMP:20260424T101856
CREATED:20250513T055756Z
LAST-MODIFIED:20250513T055756Z
UID:10004866-1861119900-1861123500@recoverystlouis.org
SUMMARY:AA Group 413- happier Hour Women’s-Open In person/online
DESCRIPTION:Zoom 263 787 324\nPW 279425 \nContact\nLeigh H\n(314) 276-6953
URL:https://recoverystlouis.org/event/aa-group-413-happier-hour-womens-open-in-person-online/2028-12-22/
END:VEVENT
BEGIN:VEVENT
DTSTART;TZID=America/Denver:20281222T070500
DTEND;TZID=America/Denver:20281222T074500
DTSTAMP:20260424T101856
CREATED:20250513T055108Z
LAST-MODIFIED:20250513T055108Z
UID:10002786-1861081500-1861083900@recoverystlouis.org
SUMMARY:AA Closed/ Men only Primary Purpose Mens
DESCRIPTION:
URL:https://recoverystlouis.org/event/aa-closed-men-only-primary-purpose-mens/2028-12-22/
END:VEVENT
BEGIN:VEVENT
DTSTART;TZID=America/Denver:20281221T190000
DTEND;TZID=America/Denver:20281221T200000
DTSTAMP:20260424T101856
CREATED:20250513T055622Z
LAST-MODIFIED:20250513T055622Z
UID:10004346-1861038000-1861041600@recoverystlouis.org
SUMMARY:Recovery Dharma Independent/in person only Open-mixed
DESCRIPTION:Contact\nMichelle T\n(314) 495-8026
URL:https://recoverystlouis.org/event/recovery-dharma-independent-in-person-only-open-mixed/2028-12-21/
END:VEVENT
BEGIN:VEVENT
DTSTART;TZID=America/Denver:20281221T100000
DTEND;TZID=America/Denver:20281221T111500
DTSTAMP:20260424T101856
CREATED:20250513T054602Z
LAST-MODIFIED:20250530T165143Z
UID:10002266-1861005600-1861010100@recoverystlouis.org
SUMMARY:AA Group 179 Open-mixed In person/online
DESCRIPTION:Zoom 598 988 635\nPW 241200
URL:https://recoverystlouis.org/event/aa-group-179-open-mixed-in-person-online/2028-12-21/
END:VEVENT
BEGIN:VEVENT
DTSTART;TZID=America/Denver:20281220T170000
DTEND;TZID=America/Denver:20281220T190000
DTSTAMP:20260424T101856
CREATED:20250513T054406Z
LAST-MODIFIED:20250513T054406Z
UID:10001746-1860944400-1860951600@recoverystlouis.org
SUMMARY:Private group
DESCRIPTION:
URL:https://recoverystlouis.org/event/private-group/2028-12-20/
END:VEVENT
BEGIN:VEVENT
DTSTART;TZID=America/Denver:20281219T190000
DTEND;TZID=America/Denver:20281219T200000
DTSTAMP:20260424T101856
CREATED:20250513T055457Z
LAST-MODIFIED:20250513T055457Z
UID:10003826-1860865200-1860868800@recoverystlouis.org
SUMMARY:AA Burton’s Heroes Open -mixed In person/online
DESCRIPTION:
URL:https://recoverystlouis.org/event/aa-burtons-heroes-open-mixed-in-person-online/2028-12-19/
END:VEVENT
BEGIN:VEVENT
DTSTART;TZID=America/Denver:20281219T173000
DTEND;TZID=America/Denver:20281219T183000
DTSTAMP:20260424T101856
CREATED:20250513T054121Z
LAST-MODIFIED:20250513T054121Z
UID:10001226-1860859800-1860863400@recoverystlouis.org
SUMMARY:AA Secular Sobriety Open-mixed In person/online
DESCRIPTION:Zoom: 343 811 2984\nPW 770507
URL:https://recoverystlouis.org/event/aa-secular-sobriety-open-mixed-in-person-online/2028-12-19/
END:VEVENT
BEGIN:VEVENT
DTSTART;TZID=America/Denver:20281218T180000
DTEND;TZID=America/Denver:20281218T190000
DTSTAMP:20260424T101856
CREATED:20250512T071133Z
LAST-MODIFIED:20250512T071133Z
UID:10000708-1860775200-1860778800@recoverystlouis.org
SUMMARY:I AM RESPONSIBLE Women’s-closed In person-online
DESCRIPTION:Zoom:191 385 271\nPW: 085501 \nContact Clare P\n(314) 448-2101
URL:https://recoverystlouis.org/event/i-am-responsible-womens-closed-in-person-online/2028-12-18/
END:VEVENT
BEGIN:VEVENT
DTSTART;TZID=America/Denver:20281217T110000
DTEND;TZID=America/Denver:20281217T120000
DTSTAMP:20260424T101856
CREATED:20250513T055407Z
LAST-MODIFIED:20250513T055407Z
UID:10003305-1860663600-1860667200@recoverystlouis.org
SUMMARY:OA Sunday Recovery Open-mixed In person/online
DESCRIPTION:Zoom:264 689 861\nPW:066708 \nContact\nCathy K (314) 538-1331
URL:https://recoverystlouis.org/event/oa-sunday-recovery-open-mixed-in-person-online/2028-12-17/
END:VEVENT
BEGIN:VEVENT
DTSTART;TZID=America/Denver:20281217T090000
DTEND;TZID=America/Denver:20281217T101500
DTSTAMP:20260424T101856
CREATED:20250428T191821Z
LAST-MODIFIED:20250512T070411Z
UID:10000188-1860656400-1860660900@recoverystlouis.org
SUMMARY:AA Group 255-FIVE AND DIME Closed-Mixed In person/online
DESCRIPTION:Zoom:845 2025 1856\nPW: 173321 \nContact\nMichael Mac\n314-249-8149
URL:https://recoverystlouis.org/event/lorem-ipsum/2028-12-17/
END:VEVENT
BEGIN:VEVENT
DTSTART;TZID=America/Denver:20281215T174500
DTEND;TZID=America/Denver:20281215T184500
DTSTAMP:20260424T101856
CREATED:20250513T055756Z
LAST-MODIFIED:20250513T055756Z
UID:10004865-1860515100-1860518700@recoverystlouis.org
SUMMARY:AA Group 413- happier Hour Women’s-Open In person/online
DESCRIPTION:Zoom 263 787 324\nPW 279425 \nContact\nLeigh H\n(314) 276-6953
URL:https://recoverystlouis.org/event/aa-group-413-happier-hour-womens-open-in-person-online/2028-12-15/
END:VEVENT
BEGIN:VEVENT
DTSTART;TZID=America/Denver:20281215T070500
DTEND;TZID=America/Denver:20281215T074500
DTSTAMP:20260424T101856
CREATED:20250513T055108Z
LAST-MODIFIED:20250513T055108Z
UID:10002785-1860476700-1860479100@recoverystlouis.org
SUMMARY:AA Closed/ Men only Primary Purpose Mens
DESCRIPTION:
URL:https://recoverystlouis.org/event/aa-closed-men-only-primary-purpose-mens/2028-12-15/
END:VEVENT
BEGIN:VEVENT
DTSTART;TZID=America/Denver:20281214T190000
DTEND;TZID=America/Denver:20281214T200000
DTSTAMP:20260424T101856
CREATED:20250513T055622Z
LAST-MODIFIED:20250513T055622Z
UID:10004345-1860433200-1860436800@recoverystlouis.org
SUMMARY:Recovery Dharma Independent/in person only Open-mixed
DESCRIPTION:Contact\nMichelle T\n(314) 495-8026
URL:https://recoverystlouis.org/event/recovery-dharma-independent-in-person-only-open-mixed/2028-12-14/
END:VEVENT
BEGIN:VEVENT
DTSTART;TZID=America/Denver:20281214T100000
DTEND;TZID=America/Denver:20281214T111500
DTSTAMP:20260424T101856
CREATED:20250513T054602Z
LAST-MODIFIED:20250530T165143Z
UID:10002265-1860400800-1860405300@recoverystlouis.org
SUMMARY:AA Group 179 Open-mixed In person/online
DESCRIPTION:Zoom 598 988 635\nPW 241200
URL:https://recoverystlouis.org/event/aa-group-179-open-mixed-in-person-online/2028-12-14/
END:VEVENT
END:VCALENDAR