BEGIN:VCALENDAR
VERSION:2.0
PRODID:-//Recovery St. Louis - ECPv6.15.17.1//NONSGML v1.0//EN
CALSCALE:GREGORIAN
METHOD:PUBLISH
X-WR-CALNAME:Recovery St. Louis
X-ORIGINAL-URL:https://recoverystlouis.org
X-WR-CALDESC:Events for Recovery St. Louis
REFRESH-INTERVAL;VALUE=DURATION:PT1H
X-Robots-Tag:noindex
X-PUBLISHED-TTL:PT1H
BEGIN:VTIMEZONE
TZID:America/Denver
BEGIN:DAYLIGHT
TZOFFSETFROM:-0700
TZOFFSETTO:-0600
TZNAME:MDT
DTSTART:20260308T090000
END:DAYLIGHT
BEGIN:STANDARD
TZOFFSETFROM:-0600
TZOFFSETTO:-0700
TZNAME:MST
DTSTART:20261101T080000
END:STANDARD
BEGIN:DAYLIGHT
TZOFFSETFROM:-0700
TZOFFSETTO:-0600
TZNAME:MDT
DTSTART:20270314T090000
END:DAYLIGHT
BEGIN:STANDARD
TZOFFSETFROM:-0600
TZOFFSETTO:-0700
TZNAME:MST
DTSTART:20271107T080000
END:STANDARD
BEGIN:DAYLIGHT
TZOFFSETFROM:-0700
TZOFFSETTO:-0600
TZNAME:MDT
DTSTART:20280312T090000
END:DAYLIGHT
BEGIN:STANDARD
TZOFFSETFROM:-0600
TZOFFSETTO:-0700
TZNAME:MST
DTSTART:20281105T080000
END:STANDARD
END:VTIMEZONE
BEGIN:VEVENT
DTSTART;TZID=America/Denver:20270707T170000
DTEND;TZID=America/Denver:20270707T190000
DTSTAMP:20260421T184914
CREATED:20250513T054406Z
LAST-MODIFIED:20250513T054406Z
UID:10001670-1814979600-1814986800@recoverystlouis.org
SUMMARY:Private group
DESCRIPTION:
URL:https://recoverystlouis.org/event/private-group/2027-07-07/
END:VEVENT
BEGIN:VEVENT
DTSTART;TZID=America/Denver:20270706T190000
DTEND;TZID=America/Denver:20270706T200000
DTSTAMP:20260421T184914
CREATED:20250513T055457Z
LAST-MODIFIED:20250513T055457Z
UID:10003750-1814900400-1814904000@recoverystlouis.org
SUMMARY:AA Burton’s Heroes Open -mixed In person/online
DESCRIPTION:
URL:https://recoverystlouis.org/event/aa-burtons-heroes-open-mixed-in-person-online/2027-07-06/
END:VEVENT
BEGIN:VEVENT
DTSTART;TZID=America/Denver:20270706T173000
DTEND;TZID=America/Denver:20270706T183000
DTSTAMP:20260421T184914
CREATED:20250513T054121Z
LAST-MODIFIED:20250513T054121Z
UID:10001150-1814895000-1814898600@recoverystlouis.org
SUMMARY:AA Secular Sobriety Open-mixed In person/online
DESCRIPTION:Zoom: 343 811 2984\nPW 770507
URL:https://recoverystlouis.org/event/aa-secular-sobriety-open-mixed-in-person-online/2027-07-06/
END:VEVENT
BEGIN:VEVENT
DTSTART;TZID=America/Denver:20270705T180000
DTEND;TZID=America/Denver:20270705T190000
DTSTAMP:20260421T184914
CREATED:20250512T071133Z
LAST-MODIFIED:20250512T071133Z
UID:10000632-1814810400-1814814000@recoverystlouis.org
SUMMARY:I AM RESPONSIBLE Women’s-closed In person-online
DESCRIPTION:Zoom:191 385 271\nPW: 085501 \nContact Clare P\n(314) 448-2101
URL:https://recoverystlouis.org/event/i-am-responsible-womens-closed-in-person-online/2027-07-05/
END:VEVENT
BEGIN:VEVENT
DTSTART;TZID=America/Denver:20270704T110000
DTEND;TZID=America/Denver:20270704T120000
DTSTAMP:20260421T184914
CREATED:20250513T055407Z
LAST-MODIFIED:20250513T055407Z
UID:10003229-1814698800-1814702400@recoverystlouis.org
SUMMARY:OA Sunday Recovery Open-mixed In person/online
DESCRIPTION:Zoom:264 689 861\nPW:066708 \nContact\nCathy K (314) 538-1331
URL:https://recoverystlouis.org/event/oa-sunday-recovery-open-mixed-in-person-online/2027-07-04/
END:VEVENT
BEGIN:VEVENT
DTSTART;TZID=America/Denver:20270704T090000
DTEND;TZID=America/Denver:20270704T101500
DTSTAMP:20260421T184914
CREATED:20250428T191821Z
LAST-MODIFIED:20250512T070411Z
UID:10000112-1814691600-1814696100@recoverystlouis.org
SUMMARY:AA Group 255-FIVE AND DIME Closed-Mixed In person/online
DESCRIPTION:Zoom:845 2025 1856\nPW: 173321 \nContact\nMichael Mac\n314-249-8149
URL:https://recoverystlouis.org/event/lorem-ipsum/2027-07-04/
END:VEVENT
BEGIN:VEVENT
DTSTART;TZID=America/Denver:20270702T174500
DTEND;TZID=America/Denver:20270702T184500
DTSTAMP:20260421T184914
CREATED:20250513T055756Z
LAST-MODIFIED:20250513T055756Z
UID:10004789-1814550300-1814553900@recoverystlouis.org
SUMMARY:AA Group 413- happier Hour Women’s-Open In person/online
DESCRIPTION:Zoom 263 787 324\nPW 279425 \nContact\nLeigh H\n(314) 276-6953
URL:https://recoverystlouis.org/event/aa-group-413-happier-hour-womens-open-in-person-online/2027-07-02/
END:VEVENT
BEGIN:VEVENT
DTSTART;TZID=America/Denver:20270702T070500
DTEND;TZID=America/Denver:20270702T074500
DTSTAMP:20260421T184914
CREATED:20250513T055108Z
LAST-MODIFIED:20250513T055108Z
UID:10002709-1814511900-1814514300@recoverystlouis.org
SUMMARY:AA Closed/ Men only Primary Purpose Mens
DESCRIPTION:
URL:https://recoverystlouis.org/event/aa-closed-men-only-primary-purpose-mens/2027-07-02/
END:VEVENT
BEGIN:VEVENT
DTSTART;TZID=America/Denver:20270701T190000
DTEND;TZID=America/Denver:20270701T200000
DTSTAMP:20260421T184914
CREATED:20250513T055622Z
LAST-MODIFIED:20250513T055622Z
UID:10004269-1814468400-1814472000@recoverystlouis.org
SUMMARY:Recovery Dharma Independent/in person only Open-mixed
DESCRIPTION:Contact\nMichelle T\n(314) 495-8026
URL:https://recoverystlouis.org/event/recovery-dharma-independent-in-person-only-open-mixed/2027-07-01/
END:VEVENT
BEGIN:VEVENT
DTSTART;TZID=America/Denver:20270701T100000
DTEND;TZID=America/Denver:20270701T111500
DTSTAMP:20260421T184914
CREATED:20250513T054602Z
LAST-MODIFIED:20250530T165143Z
UID:10002189-1814436000-1814440500@recoverystlouis.org
SUMMARY:AA Group 179 Open-mixed In person/online
DESCRIPTION:Zoom 598 988 635\nPW 241200
URL:https://recoverystlouis.org/event/aa-group-179-open-mixed-in-person-online/2027-07-01/
END:VEVENT
BEGIN:VEVENT
DTSTART;TZID=America/Denver:20270630T170000
DTEND;TZID=America/Denver:20270630T190000
DTSTAMP:20260421T184914
CREATED:20250513T054406Z
LAST-MODIFIED:20250513T054406Z
UID:10001669-1814374800-1814382000@recoverystlouis.org
SUMMARY:Private group
DESCRIPTION:
URL:https://recoverystlouis.org/event/private-group/2027-06-30/
END:VEVENT
BEGIN:VEVENT
DTSTART;TZID=America/Denver:20270629T190000
DTEND;TZID=America/Denver:20270629T200000
DTSTAMP:20260421T184914
CREATED:20250513T055457Z
LAST-MODIFIED:20250513T055457Z
UID:10003749-1814295600-1814299200@recoverystlouis.org
SUMMARY:AA Burton’s Heroes Open -mixed In person/online
DESCRIPTION:
URL:https://recoverystlouis.org/event/aa-burtons-heroes-open-mixed-in-person-online/2027-06-29/
END:VEVENT
BEGIN:VEVENT
DTSTART;TZID=America/Denver:20270629T173000
DTEND;TZID=America/Denver:20270629T183000
DTSTAMP:20260421T184914
CREATED:20250513T054121Z
LAST-MODIFIED:20250513T054121Z
UID:10001149-1814290200-1814293800@recoverystlouis.org
SUMMARY:AA Secular Sobriety Open-mixed In person/online
DESCRIPTION:Zoom: 343 811 2984\nPW 770507
URL:https://recoverystlouis.org/event/aa-secular-sobriety-open-mixed-in-person-online/2027-06-29/
END:VEVENT
BEGIN:VEVENT
DTSTART;TZID=America/Denver:20270628T180000
DTEND;TZID=America/Denver:20270628T190000
DTSTAMP:20260421T184914
CREATED:20250512T071133Z
LAST-MODIFIED:20250512T071133Z
UID:10000631-1814205600-1814209200@recoverystlouis.org
SUMMARY:I AM RESPONSIBLE Women’s-closed In person-online
DESCRIPTION:Zoom:191 385 271\nPW: 085501 \nContact Clare P\n(314) 448-2101
URL:https://recoverystlouis.org/event/i-am-responsible-womens-closed-in-person-online/2027-06-28/
END:VEVENT
BEGIN:VEVENT
DTSTART;TZID=America/Denver:20270627T110000
DTEND;TZID=America/Denver:20270627T120000
DTSTAMP:20260421T184914
CREATED:20250513T055407Z
LAST-MODIFIED:20250513T055407Z
UID:10003228-1814094000-1814097600@recoverystlouis.org
SUMMARY:OA Sunday Recovery Open-mixed In person/online
DESCRIPTION:Zoom:264 689 861\nPW:066708 \nContact\nCathy K (314) 538-1331
URL:https://recoverystlouis.org/event/oa-sunday-recovery-open-mixed-in-person-online/2027-06-27/
END:VEVENT
BEGIN:VEVENT
DTSTART;TZID=America/Denver:20270627T090000
DTEND;TZID=America/Denver:20270627T101500
DTSTAMP:20260421T184914
CREATED:20250428T191821Z
LAST-MODIFIED:20250512T070411Z
UID:10000111-1814086800-1814091300@recoverystlouis.org
SUMMARY:AA Group 255-FIVE AND DIME Closed-Mixed In person/online
DESCRIPTION:Zoom:845 2025 1856\nPW: 173321 \nContact\nMichael Mac\n314-249-8149
URL:https://recoverystlouis.org/event/lorem-ipsum/2027-06-27/
END:VEVENT
BEGIN:VEVENT
DTSTART;TZID=America/Denver:20270625T174500
DTEND;TZID=America/Denver:20270625T184500
DTSTAMP:20260421T184914
CREATED:20250513T055756Z
LAST-MODIFIED:20250513T055756Z
UID:10004788-1813945500-1813949100@recoverystlouis.org
SUMMARY:AA Group 413- happier Hour Women’s-Open In person/online
DESCRIPTION:Zoom 263 787 324\nPW 279425 \nContact\nLeigh H\n(314) 276-6953
URL:https://recoverystlouis.org/event/aa-group-413-happier-hour-womens-open-in-person-online/2027-06-25/
END:VEVENT
BEGIN:VEVENT
DTSTART;TZID=America/Denver:20270625T070500
DTEND;TZID=America/Denver:20270625T074500
DTSTAMP:20260421T184914
CREATED:20250513T055108Z
LAST-MODIFIED:20250513T055108Z
UID:10002708-1813907100-1813909500@recoverystlouis.org
SUMMARY:AA Closed/ Men only Primary Purpose Mens
DESCRIPTION:
URL:https://recoverystlouis.org/event/aa-closed-men-only-primary-purpose-mens/2027-06-25/
END:VEVENT
BEGIN:VEVENT
DTSTART;TZID=America/Denver:20270624T190000
DTEND;TZID=America/Denver:20270624T200000
DTSTAMP:20260421T184914
CREATED:20250513T055622Z
LAST-MODIFIED:20250513T055622Z
UID:10004268-1813863600-1813867200@recoverystlouis.org
SUMMARY:Recovery Dharma Independent/in person only Open-mixed
DESCRIPTION:Contact\nMichelle T\n(314) 495-8026
URL:https://recoverystlouis.org/event/recovery-dharma-independent-in-person-only-open-mixed/2027-06-24/
END:VEVENT
BEGIN:VEVENT
DTSTART;TZID=America/Denver:20270624T100000
DTEND;TZID=America/Denver:20270624T111500
DTSTAMP:20260421T184914
CREATED:20250513T054602Z
LAST-MODIFIED:20250530T165143Z
UID:10002188-1813831200-1813835700@recoverystlouis.org
SUMMARY:AA Group 179 Open-mixed In person/online
DESCRIPTION:Zoom 598 988 635\nPW 241200
URL:https://recoverystlouis.org/event/aa-group-179-open-mixed-in-person-online/2027-06-24/
END:VEVENT
BEGIN:VEVENT
DTSTART;TZID=America/Denver:20270623T170000
DTEND;TZID=America/Denver:20270623T190000
DTSTAMP:20260421T184914
CREATED:20250513T054406Z
LAST-MODIFIED:20250513T054406Z
UID:10001668-1813770000-1813777200@recoverystlouis.org
SUMMARY:Private group
DESCRIPTION:
URL:https://recoverystlouis.org/event/private-group/2027-06-23/
END:VEVENT
BEGIN:VEVENT
DTSTART;TZID=America/Denver:20270622T190000
DTEND;TZID=America/Denver:20270622T200000
DTSTAMP:20260421T184914
CREATED:20250513T055457Z
LAST-MODIFIED:20250513T055457Z
UID:10003748-1813690800-1813694400@recoverystlouis.org
SUMMARY:AA Burton’s Heroes Open -mixed In person/online
DESCRIPTION:
URL:https://recoverystlouis.org/event/aa-burtons-heroes-open-mixed-in-person-online/2027-06-22/
END:VEVENT
BEGIN:VEVENT
DTSTART;TZID=America/Denver:20270622T173000
DTEND;TZID=America/Denver:20270622T183000
DTSTAMP:20260421T184914
CREATED:20250513T054121Z
LAST-MODIFIED:20250513T054121Z
UID:10001148-1813685400-1813689000@recoverystlouis.org
SUMMARY:AA Secular Sobriety Open-mixed In person/online
DESCRIPTION:Zoom: 343 811 2984\nPW 770507
URL:https://recoverystlouis.org/event/aa-secular-sobriety-open-mixed-in-person-online/2027-06-22/
END:VEVENT
BEGIN:VEVENT
DTSTART;TZID=America/Denver:20270621T180000
DTEND;TZID=America/Denver:20270621T190000
DTSTAMP:20260421T184914
CREATED:20250512T071133Z
LAST-MODIFIED:20250512T071133Z
UID:10000630-1813600800-1813604400@recoverystlouis.org
SUMMARY:I AM RESPONSIBLE Women’s-closed In person-online
DESCRIPTION:Zoom:191 385 271\nPW: 085501 \nContact Clare P\n(314) 448-2101
URL:https://recoverystlouis.org/event/i-am-responsible-womens-closed-in-person-online/2027-06-21/
END:VEVENT
BEGIN:VEVENT
DTSTART;TZID=America/Denver:20270620T110000
DTEND;TZID=America/Denver:20270620T120000
DTSTAMP:20260421T184914
CREATED:20250513T055407Z
LAST-MODIFIED:20250513T055407Z
UID:10003227-1813489200-1813492800@recoverystlouis.org
SUMMARY:OA Sunday Recovery Open-mixed In person/online
DESCRIPTION:Zoom:264 689 861\nPW:066708 \nContact\nCathy K (314) 538-1331
URL:https://recoverystlouis.org/event/oa-sunday-recovery-open-mixed-in-person-online/2027-06-20/
END:VEVENT
BEGIN:VEVENT
DTSTART;TZID=America/Denver:20270620T090000
DTEND;TZID=America/Denver:20270620T101500
DTSTAMP:20260421T184914
CREATED:20250428T191821Z
LAST-MODIFIED:20250512T070411Z
UID:10000110-1813482000-1813486500@recoverystlouis.org
SUMMARY:AA Group 255-FIVE AND DIME Closed-Mixed In person/online
DESCRIPTION:Zoom:845 2025 1856\nPW: 173321 \nContact\nMichael Mac\n314-249-8149
URL:https://recoverystlouis.org/event/lorem-ipsum/2027-06-20/
END:VEVENT
BEGIN:VEVENT
DTSTART;TZID=America/Denver:20270618T174500
DTEND;TZID=America/Denver:20270618T184500
DTSTAMP:20260421T184914
CREATED:20250513T055756Z
LAST-MODIFIED:20250513T055756Z
UID:10004787-1813340700-1813344300@recoverystlouis.org
SUMMARY:AA Group 413- happier Hour Women’s-Open In person/online
DESCRIPTION:Zoom 263 787 324\nPW 279425 \nContact\nLeigh H\n(314) 276-6953
URL:https://recoverystlouis.org/event/aa-group-413-happier-hour-womens-open-in-person-online/2027-06-18/
END:VEVENT
BEGIN:VEVENT
DTSTART;TZID=America/Denver:20270618T070500
DTEND;TZID=America/Denver:20270618T074500
DTSTAMP:20260421T184914
CREATED:20250513T055108Z
LAST-MODIFIED:20250513T055108Z
UID:10002707-1813302300-1813304700@recoverystlouis.org
SUMMARY:AA Closed/ Men only Primary Purpose Mens
DESCRIPTION:
URL:https://recoverystlouis.org/event/aa-closed-men-only-primary-purpose-mens/2027-06-18/
END:VEVENT
BEGIN:VEVENT
DTSTART;TZID=America/Denver:20270617T190000
DTEND;TZID=America/Denver:20270617T200000
DTSTAMP:20260421T184914
CREATED:20250513T055622Z
LAST-MODIFIED:20250513T055622Z
UID:10004267-1813258800-1813262400@recoverystlouis.org
SUMMARY:Recovery Dharma Independent/in person only Open-mixed
DESCRIPTION:Contact\nMichelle T\n(314) 495-8026
URL:https://recoverystlouis.org/event/recovery-dharma-independent-in-person-only-open-mixed/2027-06-17/
END:VEVENT
BEGIN:VEVENT
DTSTART;TZID=America/Denver:20270617T100000
DTEND;TZID=America/Denver:20270617T111500
DTSTAMP:20260421T184914
CREATED:20250513T054602Z
LAST-MODIFIED:20250530T165143Z
UID:10002187-1813226400-1813230900@recoverystlouis.org
SUMMARY:AA Group 179 Open-mixed In person/online
DESCRIPTION:Zoom 598 988 635\nPW 241200
URL:https://recoverystlouis.org/event/aa-group-179-open-mixed-in-person-online/2027-06-17/
END:VEVENT
END:VCALENDAR