BEGIN:VCALENDAR
VERSION:2.0
PRODID:-//Recovery St. Louis - ECPv6.15.17.1//NONSGML v1.0//EN
CALSCALE:GREGORIAN
METHOD:PUBLISH
X-WR-CALNAME:Recovery St. Louis
X-ORIGINAL-URL:https://recoverystlouis.org
X-WR-CALDESC:Events for Recovery St. Louis
REFRESH-INTERVAL;VALUE=DURATION:PT1H
X-Robots-Tag:noindex
X-PUBLISHED-TTL:PT1H
BEGIN:VTIMEZONE
TZID:America/Denver
BEGIN:DAYLIGHT
TZOFFSETFROM:-0700
TZOFFSETTO:-0600
TZNAME:MDT
DTSTART:20240310T090000
END:DAYLIGHT
BEGIN:STANDARD
TZOFFSETFROM:-0600
TZOFFSETTO:-0700
TZNAME:MST
DTSTART:20241103T080000
END:STANDARD
BEGIN:DAYLIGHT
TZOFFSETFROM:-0700
TZOFFSETTO:-0600
TZNAME:MDT
DTSTART:20250309T090000
END:DAYLIGHT
BEGIN:STANDARD
TZOFFSETFROM:-0600
TZOFFSETTO:-0700
TZNAME:MST
DTSTART:20251102T080000
END:STANDARD
BEGIN:DAYLIGHT
TZOFFSETFROM:-0700
TZOFFSETTO:-0600
TZNAME:MDT
DTSTART:20260308T090000
END:DAYLIGHT
BEGIN:STANDARD
TZOFFSETFROM:-0600
TZOFFSETTO:-0700
TZNAME:MST
DTSTART:20261101T080000
END:STANDARD
END:VTIMEZONE
BEGIN:VEVENT
DTSTART;TZID=America/Denver:20251203T170000
DTEND;TZID=America/Denver:20251203T190000
DTSTAMP:20260420T221524
CREATED:20250513T054406Z
LAST-MODIFIED:20250513T054406Z
UID:10001587-1764781200-1764788400@recoverystlouis.org
SUMMARY:Private group
DESCRIPTION:
URL:https://recoverystlouis.org/event/private-group/2025-12-03/
END:VEVENT
BEGIN:VEVENT
DTSTART;TZID=America/Denver:20251202T190000
DTEND;TZID=America/Denver:20251202T200000
DTSTAMP:20260420T221524
CREATED:20250513T055457Z
LAST-MODIFIED:20250513T055457Z
UID:10003667-1764702000-1764705600@recoverystlouis.org
SUMMARY:AA Burton’s Heroes Open -mixed In person/online
DESCRIPTION:
URL:https://recoverystlouis.org/event/aa-burtons-heroes-open-mixed-in-person-online/2025-12-02/
END:VEVENT
BEGIN:VEVENT
DTSTART;TZID=America/Denver:20251202T173000
DTEND;TZID=America/Denver:20251202T183000
DTSTAMP:20260420T221524
CREATED:20250513T054121Z
LAST-MODIFIED:20250513T054121Z
UID:10001067-1764696600-1764700200@recoverystlouis.org
SUMMARY:AA Secular Sobriety Open-mixed In person/online
DESCRIPTION:Zoom: 343 811 2984\nPW 770507
URL:https://recoverystlouis.org/event/aa-secular-sobriety-open-mixed-in-person-online/2025-12-02/
END:VEVENT
BEGIN:VEVENT
DTSTART;TZID=America/Denver:20251201T180000
DTEND;TZID=America/Denver:20251201T190000
DTSTAMP:20260420T221524
CREATED:20250512T071133Z
LAST-MODIFIED:20250512T071133Z
UID:10000549-1764612000-1764615600@recoverystlouis.org
SUMMARY:I AM RESPONSIBLE Women’s-closed In person-online
DESCRIPTION:Zoom:191 385 271\nPW: 085501 \nContact Clare P\n(314) 448-2101
URL:https://recoverystlouis.org/event/i-am-responsible-womens-closed-in-person-online/2025-12-01/
END:VEVENT
BEGIN:VEVENT
DTSTART;TZID=America/Denver:20251130T110000
DTEND;TZID=America/Denver:20251130T120000
DTSTAMP:20260420T221524
CREATED:20250513T055407Z
LAST-MODIFIED:20250513T055407Z
UID:10003146-1764500400-1764504000@recoverystlouis.org
SUMMARY:OA Sunday Recovery Open-mixed In person/online
DESCRIPTION:Zoom:264 689 861\nPW:066708 \nContact\nCathy K (314) 538-1331
URL:https://recoverystlouis.org/event/oa-sunday-recovery-open-mixed-in-person-online/2025-11-30/
END:VEVENT
BEGIN:VEVENT
DTSTART;TZID=America/Denver:20251130T090000
DTEND;TZID=America/Denver:20251130T101500
DTSTAMP:20260420T221524
CREATED:20250428T191821Z
LAST-MODIFIED:20250512T070411Z
UID:10000029-1764493200-1764497700@recoverystlouis.org
SUMMARY:AA Group 255-FIVE AND DIME Closed-Mixed In person/online
DESCRIPTION:Zoom:845 2025 1856\nPW: 173321 \nContact\nMichael Mac\n314-249-8149
URL:https://recoverystlouis.org/event/lorem-ipsum/2025-11-30/
END:VEVENT
BEGIN:VEVENT
DTSTART;TZID=America/Denver:20251128T174500
DTEND;TZID=America/Denver:20251128T184500
DTSTAMP:20260420T221524
CREATED:20250513T055756Z
LAST-MODIFIED:20250513T055756Z
UID:10004706-1764351900-1764355500@recoverystlouis.org
SUMMARY:AA Group 413- happier Hour Women’s-Open In person/online
DESCRIPTION:Zoom 263 787 324\nPW 279425 \nContact\nLeigh H\n(314) 276-6953
URL:https://recoverystlouis.org/event/aa-group-413-happier-hour-womens-open-in-person-online/2025-11-28/
END:VEVENT
BEGIN:VEVENT
DTSTART;TZID=America/Denver:20251128T070500
DTEND;TZID=America/Denver:20251128T074500
DTSTAMP:20260420T221524
CREATED:20250513T055108Z
LAST-MODIFIED:20250513T055108Z
UID:10002626-1764313500-1764315900@recoverystlouis.org
SUMMARY:AA Closed/ Men only Primary Purpose Mens
DESCRIPTION:
URL:https://recoverystlouis.org/event/aa-closed-men-only-primary-purpose-mens/2025-11-28/
END:VEVENT
BEGIN:VEVENT
DTSTART;TZID=America/Denver:20251127T190000
DTEND;TZID=America/Denver:20251127T200000
DTSTAMP:20260420T221524
CREATED:20250513T055622Z
LAST-MODIFIED:20250513T055622Z
UID:10004186-1764270000-1764273600@recoverystlouis.org
SUMMARY:Recovery Dharma Independent/in person only Open-mixed
DESCRIPTION:Contact\nMichelle T\n(314) 495-8026
URL:https://recoverystlouis.org/event/recovery-dharma-independent-in-person-only-open-mixed/2025-11-27/
END:VEVENT
BEGIN:VEVENT
DTSTART;TZID=America/Denver:20251127T100000
DTEND;TZID=America/Denver:20251127T111500
DTSTAMP:20260420T221524
CREATED:20250513T054602Z
LAST-MODIFIED:20250530T165143Z
UID:10002106-1764237600-1764242100@recoverystlouis.org
SUMMARY:AA Group 179 Open-mixed In person/online
DESCRIPTION:Zoom 598 988 635\nPW 241200
URL:https://recoverystlouis.org/event/aa-group-179-open-mixed-in-person-online/2025-11-27/
END:VEVENT
BEGIN:VEVENT
DTSTART;TZID=America/Denver:20251126T170000
DTEND;TZID=America/Denver:20251126T190000
DTSTAMP:20260420T221524
CREATED:20250513T054406Z
LAST-MODIFIED:20250513T054406Z
UID:10001586-1764176400-1764183600@recoverystlouis.org
SUMMARY:Private group
DESCRIPTION:
URL:https://recoverystlouis.org/event/private-group/2025-11-26/
END:VEVENT
BEGIN:VEVENT
DTSTART;TZID=America/Denver:20251125T190000
DTEND;TZID=America/Denver:20251125T200000
DTSTAMP:20260420T221524
CREATED:20250513T055457Z
LAST-MODIFIED:20250513T055457Z
UID:10003666-1764097200-1764100800@recoverystlouis.org
SUMMARY:AA Burton’s Heroes Open -mixed In person/online
DESCRIPTION:
URL:https://recoverystlouis.org/event/aa-burtons-heroes-open-mixed-in-person-online/2025-11-25/
END:VEVENT
BEGIN:VEVENT
DTSTART;TZID=America/Denver:20251125T173000
DTEND;TZID=America/Denver:20251125T183000
DTSTAMP:20260420T221524
CREATED:20250513T054121Z
LAST-MODIFIED:20250513T054121Z
UID:10001066-1764091800-1764095400@recoverystlouis.org
SUMMARY:AA Secular Sobriety Open-mixed In person/online
DESCRIPTION:Zoom: 343 811 2984\nPW 770507
URL:https://recoverystlouis.org/event/aa-secular-sobriety-open-mixed-in-person-online/2025-11-25/
END:VEVENT
BEGIN:VEVENT
DTSTART;TZID=America/Denver:20251124T180000
DTEND;TZID=America/Denver:20251124T190000
DTSTAMP:20260420T221524
CREATED:20250512T071133Z
LAST-MODIFIED:20250512T071133Z
UID:10000548-1764007200-1764010800@recoverystlouis.org
SUMMARY:I AM RESPONSIBLE Women’s-closed In person-online
DESCRIPTION:Zoom:191 385 271\nPW: 085501 \nContact Clare P\n(314) 448-2101
URL:https://recoverystlouis.org/event/i-am-responsible-womens-closed-in-person-online/2025-11-24/
END:VEVENT
BEGIN:VEVENT
DTSTART;TZID=America/Denver:20251123T110000
DTEND;TZID=America/Denver:20251123T120000
DTSTAMP:20260420T221524
CREATED:20250513T055407Z
LAST-MODIFIED:20250513T055407Z
UID:10003145-1763895600-1763899200@recoverystlouis.org
SUMMARY:OA Sunday Recovery Open-mixed In person/online
DESCRIPTION:Zoom:264 689 861\nPW:066708 \nContact\nCathy K (314) 538-1331
URL:https://recoverystlouis.org/event/oa-sunday-recovery-open-mixed-in-person-online/2025-11-23/
END:VEVENT
BEGIN:VEVENT
DTSTART;TZID=America/Denver:20251123T090000
DTEND;TZID=America/Denver:20251123T101500
DTSTAMP:20260420T221524
CREATED:20250428T191821Z
LAST-MODIFIED:20250512T070411Z
UID:10000028-1763888400-1763892900@recoverystlouis.org
SUMMARY:AA Group 255-FIVE AND DIME Closed-Mixed In person/online
DESCRIPTION:Zoom:845 2025 1856\nPW: 173321 \nContact\nMichael Mac\n314-249-8149
URL:https://recoverystlouis.org/event/lorem-ipsum/2025-11-23/
END:VEVENT
BEGIN:VEVENT
DTSTART;TZID=America/Denver:20251121T174500
DTEND;TZID=America/Denver:20251121T184500
DTSTAMP:20260420T221524
CREATED:20250513T055756Z
LAST-MODIFIED:20250513T055756Z
UID:10004705-1763747100-1763750700@recoverystlouis.org
SUMMARY:AA Group 413- happier Hour Women’s-Open In person/online
DESCRIPTION:Zoom 263 787 324\nPW 279425 \nContact\nLeigh H\n(314) 276-6953
URL:https://recoverystlouis.org/event/aa-group-413-happier-hour-womens-open-in-person-online/2025-11-21/
END:VEVENT
BEGIN:VEVENT
DTSTART;TZID=America/Denver:20251121T070500
DTEND;TZID=America/Denver:20251121T074500
DTSTAMP:20260420T221524
CREATED:20250513T055108Z
LAST-MODIFIED:20250513T055108Z
UID:10002625-1763708700-1763711100@recoverystlouis.org
SUMMARY:AA Closed/ Men only Primary Purpose Mens
DESCRIPTION:
URL:https://recoverystlouis.org/event/aa-closed-men-only-primary-purpose-mens/2025-11-21/
END:VEVENT
BEGIN:VEVENT
DTSTART;TZID=America/Denver:20251120T190000
DTEND;TZID=America/Denver:20251120T200000
DTSTAMP:20260420T221524
CREATED:20250513T055622Z
LAST-MODIFIED:20250513T055622Z
UID:10004185-1763665200-1763668800@recoverystlouis.org
SUMMARY:Recovery Dharma Independent/in person only Open-mixed
DESCRIPTION:Contact\nMichelle T\n(314) 495-8026
URL:https://recoverystlouis.org/event/recovery-dharma-independent-in-person-only-open-mixed/2025-11-20/
END:VEVENT
BEGIN:VEVENT
DTSTART;TZID=America/Denver:20251120T100000
DTEND;TZID=America/Denver:20251120T111500
DTSTAMP:20260420T221524
CREATED:20250513T054602Z
LAST-MODIFIED:20250530T165143Z
UID:10002105-1763632800-1763637300@recoverystlouis.org
SUMMARY:AA Group 179 Open-mixed In person/online
DESCRIPTION:Zoom 598 988 635\nPW 241200
URL:https://recoverystlouis.org/event/aa-group-179-open-mixed-in-person-online/2025-11-20/
END:VEVENT
BEGIN:VEVENT
DTSTART;TZID=America/Denver:20251119T170000
DTEND;TZID=America/Denver:20251119T190000
DTSTAMP:20260420T221524
CREATED:20250513T054406Z
LAST-MODIFIED:20250513T054406Z
UID:10001585-1763571600-1763578800@recoverystlouis.org
SUMMARY:Private group
DESCRIPTION:
URL:https://recoverystlouis.org/event/private-group/2025-11-19/
END:VEVENT
BEGIN:VEVENT
DTSTART;TZID=America/Denver:20251118T190000
DTEND;TZID=America/Denver:20251118T200000
DTSTAMP:20260420T221524
CREATED:20250513T055457Z
LAST-MODIFIED:20250513T055457Z
UID:10003665-1763492400-1763496000@recoverystlouis.org
SUMMARY:AA Burton’s Heroes Open -mixed In person/online
DESCRIPTION:
URL:https://recoverystlouis.org/event/aa-burtons-heroes-open-mixed-in-person-online/2025-11-18/
END:VEVENT
BEGIN:VEVENT
DTSTART;TZID=America/Denver:20251118T173000
DTEND;TZID=America/Denver:20251118T183000
DTSTAMP:20260420T221524
CREATED:20250513T054121Z
LAST-MODIFIED:20250513T054121Z
UID:10001065-1763487000-1763490600@recoverystlouis.org
SUMMARY:AA Secular Sobriety Open-mixed In person/online
DESCRIPTION:Zoom: 343 811 2984\nPW 770507
URL:https://recoverystlouis.org/event/aa-secular-sobriety-open-mixed-in-person-online/2025-11-18/
END:VEVENT
BEGIN:VEVENT
DTSTART;TZID=America/Denver:20251117T180000
DTEND;TZID=America/Denver:20251117T190000
DTSTAMP:20260420T221524
CREATED:20250512T071133Z
LAST-MODIFIED:20250512T071133Z
UID:10000547-1763402400-1763406000@recoverystlouis.org
SUMMARY:I AM RESPONSIBLE Women’s-closed In person-online
DESCRIPTION:Zoom:191 385 271\nPW: 085501 \nContact Clare P\n(314) 448-2101
URL:https://recoverystlouis.org/event/i-am-responsible-womens-closed-in-person-online/2025-11-17/
END:VEVENT
BEGIN:VEVENT
DTSTART;TZID=America/Denver:20251116T110000
DTEND;TZID=America/Denver:20251116T120000
DTSTAMP:20260420T221524
CREATED:20250513T055407Z
LAST-MODIFIED:20250513T055407Z
UID:10003144-1763290800-1763294400@recoverystlouis.org
SUMMARY:OA Sunday Recovery Open-mixed In person/online
DESCRIPTION:Zoom:264 689 861\nPW:066708 \nContact\nCathy K (314) 538-1331
URL:https://recoverystlouis.org/event/oa-sunday-recovery-open-mixed-in-person-online/2025-11-16/
END:VEVENT
BEGIN:VEVENT
DTSTART;TZID=America/Denver:20251116T090000
DTEND;TZID=America/Denver:20251116T101500
DTSTAMP:20260420T221524
CREATED:20250428T191821Z
LAST-MODIFIED:20250512T070411Z
UID:10000027-1763283600-1763288100@recoverystlouis.org
SUMMARY:AA Group 255-FIVE AND DIME Closed-Mixed In person/online
DESCRIPTION:Zoom:845 2025 1856\nPW: 173321 \nContact\nMichael Mac\n314-249-8149
URL:https://recoverystlouis.org/event/lorem-ipsum/2025-11-16/
END:VEVENT
BEGIN:VEVENT
DTSTART;TZID=America/Denver:20251114T174500
DTEND;TZID=America/Denver:20251114T184500
DTSTAMP:20260420T221524
CREATED:20250513T055756Z
LAST-MODIFIED:20250513T055756Z
UID:10004704-1763142300-1763145900@recoverystlouis.org
SUMMARY:AA Group 413- happier Hour Women’s-Open In person/online
DESCRIPTION:Zoom 263 787 324\nPW 279425 \nContact\nLeigh H\n(314) 276-6953
URL:https://recoverystlouis.org/event/aa-group-413-happier-hour-womens-open-in-person-online/2025-11-14/
END:VEVENT
BEGIN:VEVENT
DTSTART;TZID=America/Denver:20251114T070500
DTEND;TZID=America/Denver:20251114T074500
DTSTAMP:20260420T221524
CREATED:20250513T055108Z
LAST-MODIFIED:20250513T055108Z
UID:10002624-1763103900-1763106300@recoverystlouis.org
SUMMARY:AA Closed/ Men only Primary Purpose Mens
DESCRIPTION:
URL:https://recoverystlouis.org/event/aa-closed-men-only-primary-purpose-mens/2025-11-14/
END:VEVENT
BEGIN:VEVENT
DTSTART;TZID=America/Denver:20251113T190000
DTEND;TZID=America/Denver:20251113T200000
DTSTAMP:20260420T221524
CREATED:20250513T055622Z
LAST-MODIFIED:20250513T055622Z
UID:10004184-1763060400-1763064000@recoverystlouis.org
SUMMARY:Recovery Dharma Independent/in person only Open-mixed
DESCRIPTION:Contact\nMichelle T\n(314) 495-8026
URL:https://recoverystlouis.org/event/recovery-dharma-independent-in-person-only-open-mixed/2025-11-13/
END:VEVENT
BEGIN:VEVENT
DTSTART;TZID=America/Denver:20251113T100000
DTEND;TZID=America/Denver:20251113T111500
DTSTAMP:20260420T221524
CREATED:20250513T054602Z
LAST-MODIFIED:20250530T165143Z
UID:10002104-1763028000-1763032500@recoverystlouis.org
SUMMARY:AA Group 179 Open-mixed In person/online
DESCRIPTION:Zoom 598 988 635\nPW 241200
URL:https://recoverystlouis.org/event/aa-group-179-open-mixed-in-person-online/2025-11-13/
END:VEVENT
END:VCALENDAR