BEGIN:VCALENDAR
VERSION:2.0
PRODID:-//Recovery St. Louis - ECPv6.15.17.1//NONSGML v1.0//EN
CALSCALE:GREGORIAN
METHOD:PUBLISH
X-WR-CALNAME:Recovery St. Louis
X-ORIGINAL-URL:https://recoverystlouis.org
X-WR-CALDESC:Events for Recovery St. Louis
REFRESH-INTERVAL;VALUE=DURATION:PT1H
X-Robots-Tag:noindex
X-PUBLISHED-TTL:PT1H
BEGIN:VTIMEZONE
TZID:America/Denver
BEGIN:DAYLIGHT
TZOFFSETFROM:-0700
TZOFFSETTO:-0600
TZNAME:MDT
DTSTART:20240310T090000
END:DAYLIGHT
BEGIN:STANDARD
TZOFFSETFROM:-0600
TZOFFSETTO:-0700
TZNAME:MST
DTSTART:20241103T080000
END:STANDARD
BEGIN:DAYLIGHT
TZOFFSETFROM:-0700
TZOFFSETTO:-0600
TZNAME:MDT
DTSTART:20250309T090000
END:DAYLIGHT
BEGIN:STANDARD
TZOFFSETFROM:-0600
TZOFFSETTO:-0700
TZNAME:MST
DTSTART:20251102T080000
END:STANDARD
BEGIN:DAYLIGHT
TZOFFSETFROM:-0700
TZOFFSETTO:-0600
TZNAME:MDT
DTSTART:20260308T090000
END:DAYLIGHT
BEGIN:STANDARD
TZOFFSETFROM:-0600
TZOFFSETTO:-0700
TZNAME:MST
DTSTART:20261101T080000
END:STANDARD
END:VTIMEZONE
BEGIN:VEVENT
DTSTART;TZID=America/Denver:20251209T173000
DTEND;TZID=America/Denver:20251209T183000
DTSTAMP:20260420T181839
CREATED:20250513T054121Z
LAST-MODIFIED:20250513T054121Z
UID:10001068-1765301400-1765305000@recoverystlouis.org
SUMMARY:AA Secular Sobriety Open-mixed In person/online
DESCRIPTION:Zoom: 343 811 2984\nPW 770507
URL:https://recoverystlouis.org/event/aa-secular-sobriety-open-mixed-in-person-online/2025-12-09/
END:VEVENT
BEGIN:VEVENT
DTSTART;TZID=America/Denver:20251209T190000
DTEND;TZID=America/Denver:20251209T200000
DTSTAMP:20260420T181839
CREATED:20250513T055457Z
LAST-MODIFIED:20250513T055457Z
UID:10003668-1765306800-1765310400@recoverystlouis.org
SUMMARY:AA Burton’s Heroes Open -mixed In person/online
DESCRIPTION:
URL:https://recoverystlouis.org/event/aa-burtons-heroes-open-mixed-in-person-online/2025-12-09/
END:VEVENT
END:VCALENDAR